Workbook
Name A.Broadband.Fixed: Mercado!$F$96
Name A.Broadband.Mobile: Mercado!$F$110
Name A.Mobile: Mercado!$F$60
Name A.TV: Mercado!$F$150
Name B.Broadband.Fixed: Mercado!$F$97
Name B.Broadband.Mobile: Mercado!$F$111
Name B.Mobile: Mercado!$F$61
Name B.TV: Mercado!$F$151
Name Base.Broadband.Fixed: Mercado!$F$91
Name Base.Broadband.Mobile: Mercado!$F$105
Name Base.Mobile: Mercado!$F$55
Name Base.TV: Mercado!$F$145
Name cuota_operador_fijo_1: Control!$D$8
Name cuota_operador_fijo_2: Control!$D$9
Name cuota_operador_fijo_3: Control!$D$10
Name cuota_operador_fijo_4: Control!$D$11
Name cuota_operador_fijo_5: Control!$D$12
Name cuota_operador_fijo_6: Control!$D$13
Name cuota_operador_movil_1: Control!$D$19
Name cuota_operador_movil_2: Control!$D$20
Name cuota_operador_movil_3: Control!$D$21
Name cuota_operador_movil_4: Control!$D$22
Name cuota_operador_movil_5: Control!$D$23
Name Data.technologies: Listas!$P$6:$P$10
Name Fixed.Connections: Mercado!$Q$525:$BP$525
Name Fixed.operator.market.share: Control!$D$30:$BC$30
Name Fixed.Retail.Services: Listas!$G$6:$G$35
Name Fixed.Retail.Services.Units: Listas!$H$6:$H$35
Name Fixed.Retail.Services.Volumes: Mercado!$Q$528:$BP$593
Name geotypes: Listas!$J$6:$J$10
Name kbps.per.Mbps: Listas!$B$3
Name Market.Retail.Services.Proporcion.Urbano: Mercado!$Q$601:$BP$630
Name Market.Retail.Services.Volumes.Fijo: Fijo!$P$13:$BM$42
Name Market.Retail.Services.Volumes.Movil: Móvil!$M$13:$BL$42
Name Market.Subscribers: Móvil!$M$9:$BL$9
Name Market.Subscribers.Fijo: Fijo!$P$9:$BM$9
Name Market.Years: Listas!$B$6:$B$62
Name mobile.data.user.proportion: Mercado!$S$66:$BP$66
Name Mobile.operator.market.share: Control!$D$31:$BC$31
Name Mobile.Retail.Services: Listas!$D$6:$D$35
Name Mobile.Retail.Services.Units: Listas!$E$6:$E$35
Name Mobile.Retail.Services.Volumes: Mercado!$Q$564:$BP$593
Name Mobile.subscribers: Mercado!$Q$561:$BP$561
Name Mobile.technologies: Listas!$L$6:$L$10
Name Number_of_operators: Control!$C$8:$C$19
Name NumberA.Broadband.Fixed: Mercado!$F$93
Name NumberA.Broadband.Mobile: Mercado!$F$107
Name NumberA.Mobile: Mercado!$F$57
Name NumberA.TV: Mercado!$F$147
Name NumberB.Broadband.Fixed: Mercado!$F$95
Name NumberB.Broadband.Mobile: Mercado!$F$109
Name NumberB.Mobile: Mercado!$F$59
Name NumberB.TV: Mercado!$F$149
Name Operator.Retail.Services.Volumes: Fijo!$P$55:$BM$84
Name Operator.Retail.Services.Volumes: Móvil!$M$74:$BL$103
Name Operator.Subscribers: Fijo!$P$51:$BM$51
Name Operator.Subscribers: Móvil!$P$69:$BM$69
Name Operator.Subscribers.Share: Fijo!$P$48:$BM$48
Name Operator.Subscribers.Share: Móvil!$P$48:$BM$48
Name oversubscription.factor: Mercado!$I$469

Sheet C
B1: =Workbook.Title -> Modelo de demanda de Mercado para el IFT
A3: Information
A5: Título | B5: Modelo de demanda de Mercado para el IFT
A6: Objetivo | B6: Demanda del mercado fijo y móvil de telecomunicaciones
A8: Versión | B8: Final
A9: Estatus | B9: Aprobado para publicación
B10: En construcción
B11: Trabajo en curso
B12: Listo para revisión
B13: Aprobado para publicación
A14: Autor | B14: Guillermo Fernández Castellanos
A15: Email | B15: guillermo.fernandez@analysysmason.com
A17: Contents
A19: Sheet | B19: Description | C19: Status | D19: Notes
A20: C | B20: Esta hoja de contenidos | C20: Aprobado para publicación
A21: V | B21: Una historia de las versiones de el modelo | C21: Aprobado para publicación
A22: S | B22: Una guía de los estilos utilizados en el modelo | C22: Aprobado para publicación
A23: Control | B23: Hoja de control de los principales escenarios y opciones del modelo | C23: Aprobado para publicación
A24: Listas | B24: Listas estándar utilizadas en el modelo | C24: Aprobado para publicación
A25: Mercado | B25: Modelo de demanda para servicios fijos y móviles | C25: Aprobado para publicación
A26: Fijo | B26: Demanda del operador fijo modelado | C26: Aprobado para publicación
A27: Móvil | B27: Demanda del operador móvil modelado | C27: Aprobado para publicación

Sheet V
C1: =Workbook.Title -> Modelo de demanda de Mercado para el IFT
A3: Information
A5: Title | B5: =Workbook.Title -> Modelo de demanda de Mercado para el IFT
A6: Objective | B6: =Workbook.Objective -> Demanda del mercado fijo y móvil de telecomunicaciones
A8: Version | B8: =Workbook.Version -> Final
A9: Status | B9: =Workbook.Status -> Aprobado para publicación
A10: Author | B10: =Workbook.Author -> Guillermo Fernández Castellanos
A11: Email | B11: =Workbook.Authors_Email_Address -> guillermo.fernandez@analysysmason.com

Sheet S
C1: Guía de estilo
A3: Input cell styles
B5: Input Parameter | C5: 100 | D5: unlocked | E5: An input to the model that it is expected the user will change (change at will)
B7: Input Data | C7: 100 | D7: unlocked | E7: A piece of real data (only change if you have better data)
B9: Input Estimate | C9: 100 | D9: unlocked | E9: An estimate used in the absence of real data (only change if you have a better estimate, or real data )
B11: Input Calculation | C11: 100 | D11: locked | E11: An input to the model that has, none the less, been calculated from other inputs (e.g. interpolated input values)
B13: Input Link | C13: 100 | D13: locked | E13: An input to this part of the model, which is linked to a source on this or another worksheet within this workbook
B15: Input Link (different Workbook) | C15: 100 | D15: locked | E15: An input to this part of the model, which is linked to a source on a worksheet in a different workbook
A17: Other cell styles
B19: Calculation | C19: 100 | D19: locked | E19: A calculation of the model
B21: Total | C21: 123.45 | E21: A total
B23: Checksum | C23: 0 | D23: locked | E23: A side calculation intended solely to cross check a result
B25: Checksum | C25: 0.1 | D25: locked | E25: A side calculation intended solely to cross check a result
B27: Output | C27: 100 | E27: A key result from this part of the model
B29: Name | C29: Name | D29: locked | E29: An Excel Name applying to one or more adjacent cells
B31: Highlight | C31: 100 | E31: A cell that is special in some way

Sheet Control
D1: Panel de Control
A3: 1 | B3: Modelo fijo
B5: =[1]!operator.active -> Alternativo
C7: Número de Operadores | D7: Cuota de Mercado
B8: {=[1]!Operator_group} -> Incumbente | D8: 0.64 | E8: cuota_operador_fijo_1
B9: Alternativo | D9: =(1-cuota_operador_fijo_1) -> 0.36 | E9: cuota_operador_fijo_2
B10: Spare 1 | D10: 0 | E10: cuota_operador_fijo_3
B11: Spare 2 | D11: 0 | E11: cuota_operador_fijo_4
B12: Spare 3 | D12: 0 | E12: cuota_operador_fijo_5
B13: Spare 4 | D13: 0 | E13: cuota_operador_fijo_6
A15: 1 | B15: Modelo móvil
B17: =[2]Control!$G$16 -> Alternativo
B19: Operadores Móviles | C19: 3 | D19: =1/C19 -> 0.33333333 | E19: cuota_operador_movil_1
B20: {=[2]!operadores} -> Alternativo | D20: 0.16 | E20: cuota_operador_movil_2
B21: Spare 1 | D21: 0 | E21: cuota_operador_movil_3
B22: Spare 2 | D22: 0 | E22: cuota_operador_movil_4
B23: Spare 3 | D23: 0 | E23: cuota_operador_movil_5
A25: 2 | B25: Serie de tiempo
B27: Migración en cuota de mercado
D29: 2005 | E29: 2006 | F29: 2007 | G29: 2008 | H29: 2009 | I29: 2010 | J29: 2011 | K29: 2012 | L29: 2013 | M29: 2014 | N29: 2015 | O29: 2016 | P29: 2017 | Q29: 2018 | R29: 2019 | S29: 2020 | T29: 2021 | U29: 2022 | V29: 2023 | W29: 2024 | X29: 2025 | Y29: 2026 | Z29: 2027 | AA29: 2028 | AB29: 2029 | AC29: 2030 | AD29: 2031 | AE29: 2032 | AF29: 2033 | AG29: 2034 | AH29: 2035 | AI29: 2036 | AJ29: 2037 | AK29: 2038 | AL29: 2039 | AM29: 2040 | AN29: 2041 | AO29: 2042 | AP29: 2043 | AQ29: 2044 | AR29: 2045 | AS29: 2046 | AT29: 2047 | AU29: 2048 | AV29: 2049 | AW29: 2050 | AX29: 2051 | AY29: 2052 | AZ29: 2053 | BA29: =AZ29+1 -> 2054 | BB29: =BA29+1 -> 2055 | BC29: =BB29+1 -> 2056
B30: Cuota Fija | D30: 0 | E30: 0 | F30: 0 | G30: 0 | H30: =($L30-$G30)/($L$29-$G$29)+G30 -> 0.072 | I30: =($L30-$G30)/($L$29-$G$29)+H30 -> 0.144 | J30: =($L30-$G30)/($L$29-$G$29)+I30 -> 0.216 | K30: =($L30-$G30)/($L$29-$G$29)+J30 -> 0.288 | L30: =CHOOSE(MATCH($B$5, Control!$B$8:$B$13, 0),cuota_operador_fijo_1, cuota_operador_fijo_2, cuota_operador_fijo_3, cuota_operador_fijo_4, cuota_operador_fijo_5, cuota_operador_fijo_6) -> 0.36 | M30: =L30 -> 0.36 | N30: =M30 -> 0.36 | O30: =N30 -> 0.36 | P30: =O30 -> 0.36 | Q30: =P30 -> 0.36 | R30: =Q30 -> 0.36 | S30: =R30 -> 0.36 | T30: =S30 -> 0.36 | ... BC30: =BB30 -> 0.36 | BD30: Fixed.operator.market.share
B31: Cuota Móvil | D31: 0 | E31: 0 | F31: 0 | G31: 0 | H31: =($L31-$G31)/($L$29-$G$29)+G31 -> 0.032 | I31: =($L31-$G31)/($L$29-$G$29)+H31 -> 0.064 | J31: =($L31-$G31)/($L$29-$G$29)+I31 -> 0.096 | K31: =($L31-$G31)/($L$29-$G$29)+J31 -> 0.128 | L31: =CHOOSE(MATCH($B$17, Control!$B$19:$B$23, 0),cuota_operador_movil_1, cuota_operador_movil_2, cuota_operador_movil_3, cuota_operador_movil_4, cuota_operador_movil_5) -> 0.16 | M31: =L31 -> 0.16 | N31: =M31 -> 0.16 | O31: =N31 -> 0.16 | P31: =O31 -> 0.16 | Q31: =P31 -> 0.16 | R31: =Q31 -> 0.16 | S31: =R31 -> 0.16 | T31: =S31 -> 0.16 | ... BC31: =BB31 -> 0.16 | BD31: Mobile.operator.market.share
A34: 3 | B34: Escenarios de demanda
D36: Escenarios: | E36: Conservador | F36: Base | G36: Agresivo | H36: scenarios
B37: Escenario para penetración móvil: | C37: Base | D37: scenario.mobile.penetration.selected | E37: -0.05 | F37: 0 | G37: 0.05 | H37: scenario.mobile.penetration
B38: Escenario para penetración fija: | C38: Base | D38: scenario.fixed.penetration.selected | E38: -0.3 | F38: 0 | G38: 0.3 | H38: scenario.fixed.penetration
B39: Escenario para penetración banda ancha: | C39: Base | D39: scenario.bb.penetration.selected | E39: -0.1 | F39: 0 | G39: 0.1 | H39: scenario.bb.penetration
B40: Escenario para voz móvil: | C40: Base | D40: scenario.mobile.voice.selected | E40: -0.5 | F40: 0 | G40: 0.5 | H40: scenario.mobile.voice
B41: Escenario para voz fija: | C41: Base | D41: scenario.fixed.voice.selected | E41: -0.3 | F41: 0 | G41: 0.3 | H41: scenario.fixed.voice
B42: Escenario para SMS móvil: | C42: Base | D42: scenario.mobile.SMS.selected | E42: -0.3 | F42: 0 | G42: 0.3 | H42: scenario.mobile.SMS
B43: Escenario para datos móviles: | C43: Base | D43: scenario.mobile.data.selected | E43: -0.5 | F43: 0 | G43: 1 | H43: scenario.mobile.data
B44: Escenario para enlaces dedicados: | C44: Base | D44: scenario.fixed.links.selected | E44: -0.3 | F44: 0 | G44: 0.3 | H44: scenario.fixed.links
B45: Escenario para xDSL: | C45: Base | D45: scenario.fixed.DSL.selected | E45: -0.2 | F45: 0 | G45: 0.2 | H45: scenario.fixed.DSL
B46: Escenario para televisión: | C46: Base | D46: scenario.fixed.television.selected | E46: -0.1 | F46: 0 | G46: 0.1 | H46: scenario.fixed.television

Sheet Listas
D1: Listas
B2: 1000 | C2: thousand
B3: 1000 | C3: kbps.per.Mbps
B5: Años | D5: Servicios móviles a nivel de mercado | E5: Unidades | G5: Servicios fijos a nivel de mercado | H5: Unidades | J5: Geotipos | L5: Tecnologías Móviles | N5: Tecnologia de Voz | P5: Acceso a Internet | R5: Tecnologías de Televisión de Paga
B6: 2000 | C6: 1 | D6: Llamadas on-net | E6: minutos | F6: 1 | G6: Llamadas salientes Local on-net | H6: Minutos | J6: Urban | L6: 2G | N6: Fijas PSTN | P6: Fija | R6: Cable
B7: =B6+1 -> 2001 | C7: 2 | D7: Llamadas a redes fijas | E7: minutos | F7: 2 | G7: Llamadas salientes Larga Distancia on-net | H7: Minutos | J7: Suburban | L7: R.99 | N7: Fijas (otros) | P7: Móvil | R7: Microondas
B8: =B7+1 -> 2002 | C8: 3 | D8: Llamadas a otras redes móviles | E8: minutos | F8: 3 | G8: Llamadas salientes Local a otros operadores fijos | H8: Minutos | J8: Rural | L8: HSPA | N8: Lineas moviles | P8: otras | R8: Satelite
B9: =B8+1 -> 2003 | C9: 4 | D9: Llamadas a internacional | E9: minutos | F9: 4 | G9: Llamadas salientes larga Distancia a otros operadores fijos | H9: Minutos | J9: Micro/indoor | L9: other | N9: Otros | P9: otras | R9: IPTV
B10: =B9+1 -> 2004 | C10: 5 | D10: Llamadas entrantes de fijos | E10: minutos | F10: 5 | G10: Llamadas salientes a móvil | H10: Minutos | J10: spare | L10: other | N10: Otros | P10: otras | R10: otras
B11: =B10+1 -> 2005 | C11: 6 | D11: Llamadas entrantes de otros móviles | E11: minutos | F11: 6 | G11: Llamadas salientes a internacional | H11: Minutos | J11: geotypes | L11: Mobile.technologies | N11: Voice.technologies | P11: Data.technologies | R11: TV.technologies
B12: =B11+1 -> 2006 | C12: 7 | D12: Llamadas entrantes internacionales | E12: minutos | F12: 7 | G12: Llamadas salientes a números no geográficos | H12: Minutos
B13: =B12+1 -> 2007 | C13: 8 | D13: Roaming in originación | E13: minutos | F13: 8 | G13: ="Fixed Service"&F13 -> Fixed Service8 | H13: ="Fixed Unit"&F13 -> Fixed Unit8
B14: =B13+1 -> 2008 | C14: 9 | D14: Roaming in terminación | E14: minutos | F14: 9 | G14: Llamadas entrantes Local de otros operadores fijos | H14: Minutos
B15: =B14+1 -> 2009 | C15: 10 | D15: SMS on-net | E15: mensajes | F15: 10 | G15: Llamadas entrantes Larga Distancia de otros operadores fijos | H15: Minutos
B16: =B15+1 -> 2010 | C16: 11 | D16: SMS salientes a otras redes | E16: mensajes | F16: 11 | G16: Llamadas entrantes de móvil | H16: Minutos
B17: =B16+1 -> 2011 | C17: 12 | D17: SMS entrantes de otras redes | E17: mensajes | F17: 12 | G17: Llamadas entrantes de internacional | H17: Minutos
B18: =B17+1 -> 2012 | C18: 13 | D18: Recuperación de correo de voz | E18: minutos | F18: 13 | G18: Llamadas entrantes de números no geográficos | H18: Minutos
B19: =B18+1 -> 2013 | C19: 14 | D19: Depósito de corroe de voz | E19: minutos | F19: 14 | G19: ="Fixed Service"&F19 -> Fixed Service14 | H19: ="Fixed Unit"&F19 -> Fixed Unit14
B20: =B19+1 -> 2014 | C20: 15 | D20: Datos GPRS | E20: megabytes | F20: 15 | G20: Llamadas en tránsito Local | H20: Minutos
B21: =B20+1 -> 2015 | C21: 16 | D21: Datos EDGE | E21: megabytes | F21: 16 | G21: Llamadas en tránsito Larga Distancia | H21: Minutos
B22: =B21+1 -> 2016 | C22: 17 | D22: Datos Release 99 | E22: megabytes | F22: 17 | G22: ="Fixed Service"&F22 -> Fixed Service17 | H22: ="Fixed Unit"&F22 -> Fixed Unit17
B23: =B22+1 -> 2017 | C23: 18 | D23: Datos - HSDPA | E23: megabytes | F23: 18 | G23: SMS on-net | H23: SMS
B24: =B23+1 -> 2018 | C24: 19 | D24: Datos - HSUPA | E24: megabytes | F24: 19 | G24: SMS salientes | H24: SMS
B25: =B24+1 -> 2019 | C25: 20 | D25: ="Mobile Service"&C25 -> Mobile Service20 | E25: ="Mobile Unit"&C25 -> Mobile Unit20 | F25: 20 | G25: SMS entrantes | H25: SMS
B26: =B25+1 -> 2020 | C26: 21 | D26: Llamadas en tránsito Local | E26: Minutos | F26: 21 | G26: ="Fixed Service"&F26 -> Fixed Service21 | H26: ="Fixed Unit"&F26 -> Fixed Unit21
B27: =B26+1 -> 2021 | C27: 22 | D27: Llamadas en tránsito Larga Distancia | E27: Minutos | F27: 22 | G27: Enlaces dedicados | H27: Mbps
B28: =B27+1 -> 2022 | C28: 23 | D28: ="Mobile Service"&C28 -> Mobile Service23 | E28: ="Mobile Unit"&C28 -> Mobile Unit23 | F28: 23 | G28: xDSL propio (líneas) | H28: # lineas
B29: =B28+1 -> 2023 | C29: 24 | D29: ="Mobile Service"&C29 -> Mobile Service24 | E29: ="Mobile Unit"&C29 -> Mobile Unit24 | F29: 24 | G29: xDSL propio (contendido) | H29: Mbps
B30: =B29+1 -> 2024 | C30: 25 | D30: ="Mobile Service"&C30 -> Mobile Service25 | E30: ="Mobile Unit"&C30 -> Mobile Unit25 | F30: 25 | G30: xDSL ajeno (líneas) | H30: # lineas
B31: =B30+1 -> 2025 | C31: 26 | D31: ="Mobile Service"&C31 -> Mobile Service26 | E31: ="Mobile Unit"&C31 -> Mobile Unit26 | F31: 26 | G31: xDSL ajeno (bitstream) | H31: Mbps
B32: =B31+1 -> 2026 | C32: 27 | D32: ="Mobile Service"&C32 -> Mobile Service27 | E32: ="Mobile Unit"&C32 -> Mobile Unit27 | F32: 27 | G32: ="Fixed Service"&F32 -> Fixed Service27 | H32: ="Fixed Unit"&F32 -> Fixed Unit27
B33: =B32+1 -> 2027 | C33: 28 | D33: ="Mobile Service"&C33 -> Mobile Service28 | E33: ="Mobile Unit"&C33 -> Mobile Unit28 | F33: 28 | G33: ="Fixed Service"&F33 -> Fixed Service28 | H33: ="Fixed Unit"&F33 -> Fixed Unit28
B34: =B33+1 -> 2028 | C34: 29 | D34: ="Mobile Service"&C34 -> Mobile Service29 | E34: ="Mobile Unit"&C34 -> Mobile Unit29 | F34: 29 | G34: ="Fixed Service"&F34 -> Fixed Service29 | H34: ="Fixed Unit"&F34 -> Fixed Unit29
B35: =B34+1 -> 2029 | C35: 30 | D35: ="Mobile Service"&C35 -> Mobile Service30 | E35: ="Mobile Unit"&C35 -> Mobile Unit30 | F35: 30 | G35: Televisión | H35: #
B36: =B35+1 -> 2030 | D36: Mobile.Retail.Services | E36: Mobile.Retail.Services.Units | G36: Fixed.Retail.Services | H36: Fixed.Retail.Services.Units
B37: =B36+1 -> 2031
B38: =B37+1 -> 2032
B39: =B38+1 -> 2033
B40: =B39+1 -> 2034
B41: =B40+1 -> 2035
...

Sheet Mercado
F1: Modelo de demanda para servicios fijos y móviles | AB1: ---> PRONOSTICOS
BR2: Parametros de curva exponencial
G3: Fuente | H3: Notas | I3: Periodo | J3: Unidades | K3: Check | L3: {=TRANSPOSE(Market.Years)} -> 2000 | M3: 2001 | N3: 2002 | O3: 2003 | P3: 2004 | Q3: 2005 | R3: 2006 | S3: 2007 | T3: 2008 | U3: 2009 | V3: 2010 | W3: 2011 | X3: 2012 | Y3: 2013 | Z3: 2014 | AA3: 2015 | AB3: 2016 | AC3: 2017 | AD3: 2018 | AE3: 2019 | AF3: 2020 | AG3: 2021 | AH3: 2022 | AI3: 2023 | AJ3: 2024 | AK3: 2025 | AL3: 2026 | AM3: 2027 | AN3: 2028 | AO3: 2029 | AP3: 2030 | AQ3: 2031 | AR3: 2032 | AS3: 2033 | AT3: 2034 | AU3: 2035 | AV3: 2036 | AW3: 2037 | AX3: 2038 | AY3: 2039 | AZ3: 2040 | BA3: 2041 | BB3: 2042 | BC3: 2043 | BD3: 2044 | BE3: 2045 | BF3: 2046 | BG3: 2047 | BH3: 2048 | BI3: 2049 | BJ3: 2050 | BK3: 2051 | BL3: 2052 | BM3: 2053 | BN3: 2054 | BO3: 2055 | BP3: 2056 | BR3: a | BS3: b | BT3: pendiente
A5: 1 | B5: Factores macroeconómicos
E7: Población | G7: CONAPO (2010) | I7: Mitad de año | J7: # | L7: 100895811 | M7: 102122295 | N7: 103417944 | O7: 104719891 | P7: 105951569 | Q7: 107151011 | R7: 108408827 | S7: 109787388 | T7: 111299015 | U7: 112852594 | V7: 1.1425556e+08 | W7: 1.1568287e+08 | X7: 1.1705375e+08 | Y7: 1.1839505e+08 | Z7: 1.197132e+08 | AA7: 1.2100582e+08 | AB7: 1.2227347e+08 | AC7: 1.2351827e+08 | AD7: 1.2473779e+08 | AE7: 1.2592944e+08 | AF7: 1.2709164e+08 | AG7: 1.2823052e+08 | AH7: 1.2935185e+08 | AI7: 1.3045169e+08 | AJ7: 1.3152947e+08 | AK7: 1.3258405e+08 | AL7: 1.3361419e+08 | AM7: 1.3461941e+08 | AN7: 1.3559964e+08 | AO7: 1.3655449e+08 | AP7: 1.3748134e+08 | AQ7: 1.3838314e+08 | AR7: 1.3926309e+08 | AS7: 1.4011893e+08 | AT7: 1.4095031e+08 | AU7: 1.4175692e+08 | AV7: 1.4253874e+08 | AW7: 1.4329572e+08 | AX7: 1.4402764e+08 | AY7: 1.4473435e+08 | AZ7: 1.4541586e+08 | BA7: 1.4607245e+08 | BB7: 1.4670423e+08 | BC7: 1.4731119e+08 | BD7: 1.478934e+08 | BE7: 1.4845103e+08 | BF7: 1.4898451e+08 | BG7: 1.4949416e+08 | BH7: 1.4998025e+08 | BI7: 1.5044306e+08 | BJ7: 1.5083752e+08
E8: Población | G8: Analysys Mason basado en CONAPO | I8: Fin de año | J8: # | L8: =AVERAGE(L7:M7) -> 101509053 | M8: =AVERAGE(M7:N7) -> 1.0277012e+08 | N8: =AVERAGE(N7:O7) -> 1.0406892e+08 | O8: =AVERAGE(O7:P7) -> 105335730 | P8: =AVERAGE(P7:Q7) -> 106551290 | Q8: =AVERAGE(Q7:R7) -> 107779919 | R8: =AVERAGE(R7:S7) -> 1.0909811e+08 | S8: =AVERAGE(S7:T7) -> 1.105432e+08 | ... BJ8: =AVERAGE(BJ7:BK7) -> 1.5083752e+08
E9: Población | G9: INEGI (Censo 2010) | I9: Fin de año | J9: # | L9: 97483412 | M9: =($Q9-$L9)/5+L9 -> 98639407 | N9: =($Q9-$L9)/5+M9 -> 99795402 | O9: =($Q9-$L9)/5+N9 -> 1.009514e+08 | P9: =($Q9-$L9)/5+O9 -> 1.0210739e+08 | Q9: 103263388 | R9: =($V9-$Q9)/5+Q9 -> 105078018 | S9: =($V9-$Q9)/5+R9 -> 106892648 | T9: =($V9-$Q9)/5+S9 -> 108707278 | U9: =($V9-$Q9)/5+T9 -> 110521908 | V9: 112336538 | W9: =V9*(1+W10) -> 1.137036e+08 | X9: =W9*(1+X10) -> 1.1502864e+08 | Y9: =X9*(1+Y10) -> 1.1632791e+08 | Z9: =Y9*(1+Z10) -> 1.176034e+08 | AA9: =Z9*(1+AA10) -> 1.1885422e+08 | AB9: =AA9*(1+AB10) -> 1.2008169e+08 | AC9: =AB9*(1+AC10) -> 1.2128563e+08 | AD9: =AC9*(1+AD10) -> 1.2246361e+08 | ... BP9: =BO9*(1+BP10) -> 1.4854507e+08
E10: Crecimiento poblacional | H10: Crecimiento en base a Conapo | J10: % | W10: =W8/V8-1 -> 0.01216932 | X10: =X8/W8-1 -> 0.011653457 | Y10: =Y8/X8-1 -> 0.011295253 | Z10: =Z8/Y8-1 -> 0.010964599 | AA10: =AA8/Z8-1 -> 0.010635927 | AB10: =AB8/AA8-1 -> 0.010327448 | AC10: =AC8/AB8-1 -> 0.01002603 | AD10: =AD8/AC8-1 -> 0.0097124294 | ... BJ10: =BJ8/BI8-1 -> 0.0013092528 | BK10: =BJ10 -> 0.0013092528 | BL10: =BK10 -> 0.0013092528 | BM10: =BL10 -> 0.0013092528 | BN10: =BM10 -> 0.0013092528 | BO10: =BN10 -> 0.0013092528 | BP10: =BO10 -> 0.0013092528
C12: Viviendas
D13: CONAPO
E14: Viviendas | G14: CONAPO | I14: Mitad de año | J14: # | Q14: 24385837 | R14: 24958260 | S14: 25540981 | T14: 26125086 | U14: 26709680 | V14: 27294756 | W14: 27880737 | X14: 28466745 | Y14: 29051124 | Z14: 29633076 | AA14: 30212863 | AB14: 30790321 | AC14: 31363805 | AD14: 31932230 | AE14: 32497443 | AF14: 33061322 | AG14: 33617389 | AH14: 34158948 | AI14: 34686953 | AJ14: 35205613 | AK14: 35719329 | AL14: 36220755 | AM14: 36702270 | AN14: 37165580 | AO14: 37614402 | AP14: 38053202 | AQ14: 38496016 | AR14: 38919975 | AS14: 39326080 | AT14: 39716361 | AU14: 40093636 | AV14: 40456354 | AW14: 40801679 | AX14: 41129835 | AY14: 41442077 | AZ14: 41740203 | BA14: 42022589 | BB14: 42286674 | BC14: 42532403 | BD14: 42760757 | BE14: 42973348 | BF14: 43169076 | BG14: 43345993 | BH14: 43504089 | BI14: 43644387 | BJ14: 43768332
E15: Viviendas | G15: Analysys Mason basado en CONAPO | I15: Fin de año | J15: # | Q15: =AVERAGE(Q14:R14) -> 24672048 | R15: =AVERAGE(R14:S14) -> 25249620 | S15: =AVERAGE(S14:T14) -> 25833034 | T15: =AVERAGE(T14:U14) -> 26417383 | U15: =AVERAGE(U14:V14) -> 27002218 | V15: =AVERAGE(V14:W14) -> 27587746 | W15: =AVERAGE(W14:X14) -> 28173741 | X15: =AVERAGE(X14:Y14) -> 28758934 | ... BJ15: =AVERAGE(BJ14:BK14) -> 43768332
E16: Crecimiento de viviendas | H16: Crecimiento en base a Conapo | J16: % | W16: =W15/V15-1 -> 0.021241115 | X16: =X15/W15-1 -> 0.020770884 | Y16: =Y15/X15-1 -> 0.020277716 | Z16: =Z15/Y15-1 -> 0.019796453 | AA16: =AA15/Z15-1 -> 0.019337068 | AB16: =AB15/AA15-1 -> 0.018866917 | AC16: =AC15/AB15-1 -> 0.018372216 | AD16: =AD15/AC15-1 -> 0.017910095 | ... BJ16: =BJ15/BI15-1 -> 0.0014179287 | BK16: =BJ16 -> 0.0014179287 | BL16: =BK16 -> 0.0014179287 | BM16: =BL16 -> 0.0014179287 | BN16: =BM16 -> 0.0014179287 | BO16: =BN16 -> 0.0014179287 | BP16: =BO16 -> 0.0014179287
D17: INEGI
E18: Viviendas | G18: INEGI | I18: Fin de año | J18: # | L18: 21954733 | M18: =($Q18-$L18)/5+L18 -> 22507592 | N18: =($Q18-$L18)/5+M18 -> 23060451 | O18: =($Q18-$L18)/5+N18 -> 23613311 | P18: =($Q18-$L18)/5+O18 -> 24166170 | Q18: 24719029 | R18: =($V18-$Q18)/5+Q18 -> 25498221 | S18: =($V18-$Q18)/5+R18 -> 26277414 | T18: =($V18-$Q18)/5+S18 -> 27056606 | U18: =($V18-$Q18)/5+T18 -> 27835799 | V18: 28614991
C19: Hogares
D20: CONAPO
E21: Hogares | G21: CONAPO | I21: Mitad de año | J21: # | Q21: 25120275 | R21: 25709757 | S21: 26309910 | T21: 26911483 | U21: 27513560 | V21: 28116121 | W21: 28719609 | X21: 29323117 | Y21: 29924935 | Z21: 30524243 | AA21: 31121301 | AB21: 31715951 | AC21: 32306497 | AD21: 32891810 | AE21: 33473802 | AF21: 34054400 | AG21: 34626930 | AH21: 35184503 | AI21: 35728098 | AJ21: 36262055 | AK21: 36790908 | AL21: 37307082 | AM21: 37802736 | AN21: 38279632 | AO21: 38741592 | AP21: 39193231
E22: Hogares | G22: Analysys Mason basado en CONAPO | I22: Fin de año | J22: # | Q22: =AVERAGE(Q21:R21) -> 25415016 | R22: =AVERAGE(R21:S21) -> 26009834 | S22: =AVERAGE(S21:T21) -> 26610696 | T22: =AVERAGE(T21:U21) -> 27212522 | U22: =AVERAGE(U21:V21) -> 27814840 | V22: =AVERAGE(V21:W21) -> 28417865 | W22: =AVERAGE(W21:X21) -> 29021363 | X22: =AVERAGE(X21:Y21) -> 29624026 | ... AP22: =AVERAGE(AP21:AQ21) -> 39193231
D23: INEGI
E24: Hogares | G24: INEGI | H24: Crecimiento en base de viviendas de CONAPO | I24: Fin de año | J24: # | L24: 22268916 | M24: =($Q24-$L24)/5+L24 -> 22775858 | N24: =($Q24-$L24)/5+M24 -> 23282800 | O24: =($Q24-$L24)/5+N24 -> 23789741 | P24: =($Q24-$L24)/5+O24 -> 24296683 | Q24: 24803625 | R24: =($V24-$Q24)/5+Q24 -> 25293947 | S24: =($V24-$Q24)/5+R24 -> 25784268 | T24: =($V24-$Q24)/5+S24 -> 26274590 | U24: =($V24-$Q24)/5+T24 -> 26764912 | V24: =V9/V25 -> 27255234 | W24: =V24*(1+W16) -> 27834165 | X24: =W24*(1+X16) -> 28412305 | Y24: =X24*(1+Y16) -> 28988442 | Z24: =Y24*(1+Z16) -> 29562310 | AA24: =Z24*(1+AA16) -> 30133959 | AB24: =AA24*(1+AB16) -> 30702494 | AC24: =AB24*(1+AC16) -> 31266566 | AD24: =AC24*(1+AD16) -> 31826554 | ... BP24: =BO24*(1+BP16) -> 43609977
E25: Habitantes por Hogar | I25: Fin de año | J25: # | L25: =IF(L24=0,0,L9/L24) -> 4.3775553 | M25: =IF(M24=0,0,M9/M24) -> 4.3308756 | N25: =IF(N24=0,0,N9/N24) -> 4.2862286 | O25: =IF(O24=0,0,O9/O24) -> 4.2434844 | P25: =IF(P24=0,0,P9/P24) -> 4.2025239 | Q25: =IF(Q24=0,0,Q9/Q24) -> 4.1632378 | R25: =IF(R24=0,0,R9/R24) -> 4.1542753 | S25: =IF(S24=0,0,S9/S24) -> 4.1456537 | ... U25: =IF(U24=0,0,U9/U24) -> 4.1293582 | V25: =Q25*((Q25/L25)^(1/5)) -> 4.1216502 | W25: =IF(W24=0,0,W9/W24) -> 4.0850371 | X25: =IF(X24=0,0,X9/X24) -> 4.0485499 | Y25: =IF(Y24=0,0,Y9/Y24) -> 4.0129068 | Z25: =IF(Z24=0,0,Z9/Z24) -> 3.9781533 | AA25: =IF(AA24=0,0,AA9/AA24) -> 3.9441955 | AB25: =IF(AB24=0,0,AB9/AB24) -> 3.9111379 | AC25: =IF(AC24=0,0,AC9/AC24) -> 3.8790837 | AD25: =IF(AD24=0,0,AD9/AD24) -> 3.8478438 | ... BP25: =IF(BP24=0,0,BP9/BP24) -> 3.4062175
E27: PIB per capita (PPP) | G27: Economist Intelligence Unit | I27: Promedio | J27: USD - PPP | M27: 10613.5 | N27: 10606.8 | O27: 10661.1 | P27: 10891 | Q27: 11468.7 | R27: 12466.6 | S27: 13671.5 | T27: 14213.4 | U27: 14915.9 | V27: 14600.8 | W27: 15432 | X27: 16652.8 | Y27: 17001.3 | Z27: 17322.3 | AA27: 17820 | AB27: 18650 | AC27: 19520 | AD27: 20490 | AE27: 21590 | AF27: 22760 | AG27: 24060 | AH27: 25450 | AI27: 26910 | AJ27: 28440 | AK27: 30060 | AL27: 31740 | AM27: 33480 | AN27: 35270 | AO27: 37120 | AP27: 39020 | AQ27: 40970
C29: Chosen for model
D30: Población | I30: Fin de año | J30: # | L30: =L9 -> 97483412 | M30: =M9 -> 98639407 | N30: =N9 -> 99795402 | O30: =O9 -> 1.009514e+08 | P30: =P9 -> 1.0210739e+08 | Q30: =Q9 -> 103263388 | R30: =R9 -> 105078018 | S30: =S9 -> 106892648 | ... BP30: =BP9 -> 1.4854507e+08
D31: Hogares | I31: Fin de año | J31: # | L31: =L24 -> 22268916 | M31: =M24 -> 22775858 | N31: =N24 -> 23282800 | O31: =O24 -> 23789741 | P31: =P24 -> 24296683 | Q31: =Q24 -> 24803625 | R31: =R24 -> 25293947 | S31: =S24 -> 25784268 | ... BP31: =BP24 -> 43609977
A33: 2 | B33: Conexiones
B35: Conexiones de Voz
C37: Conexiones residenciales fijas | I37: Fin de año | J37: # | L37: =SUM(L640:L668) -> 9034054 | M37: =SUM(M640:M668) -> 10063040 | N37: =SUM(N640:N668) -> 11069019 | O37: =SUM(O640:O668) -> 12220291 | P37: =SUM(P640:P668) -> 13658581 | Q37: =SUM(Q640:Q668) -> 14817155 | R37: =SUM(R640:R668) -> 14891231 | S37: =SUM(S640:S668) -> 14752712 | ... X37: =SUM(X640:X668) -> 14285809 | Y37: =Y639 -> 13532384 | Z37: =Z639 -> 13047420 | AA37: =AA639 -> 13457309 | AB37: =AB24*AB38 -> 13574095 | AC37: =AC24*AC38 -> 13685246 | AD37: =AD24*AD38 -> 13791047 | AE37: =AE24*AE38 -> 13892399 | AF37: =AF24*AF38 -> 13988427 | AG37: =AG24*AG38 -> 14076510 | AH37: =AH24*AH38 -> 14155662 | AI37: =AI24*AI38 -> 14227162 | ... BP37: =BP24*BP38 -> 17970884 | BQ37: residential.fixed.connections
D38: Penetración (viviendas) | J38: % | L38: =L37/L31 -> 0.40568001 | M38: =M37/M31 -> 0.44182924 | N38: =N37/N31 -> 0.47541615 | O38: =O37/O31 -> 0.51367902 | P38: =P37/P31 -> 0.56215825 | Q38: =Q37/Q31 -> 0.59737861 | R38: =R37/R31 -> 0.58872706 | S38: =S37/S31 -> 0.57215942 | ... AA38: =AA37/AA31 -> 0.44658284 | AB38: =AA38*(1+AB40) -> 0.44211701 | AC38: =AB38*(1+AC40) -> 0.43769584 | AD38: =AC38*(1+AD40) -> 0.43331889 | AE38: =AD38*(1+AE40) -> 0.4289857 | AF38: =AE38*(1+AF40) -> 0.42469584 | AG38: =AF38*(1+AG40) -> 0.42044888 | AH38: =AG38*(1+AH40) -> 0.41624439 | AI38: =AH38*(1+AI40) -> 0.41208195 | ... BP38: =BO38*(1+BP40) -> 0.41208195
D39: Crecimiento base | AB39: -0.01 | AC39: =AB39 -> -0.01 | AD39: =AC39 -> -0.01 | AE39: =AD39 -> -0.01 | AF39: =AE39 -> -0.01 | AG39: =AF39 -> -0.01 | AH39: =AG39 -> -0.01 | AI39: =AH39 -> -0.01
D40: Crecimiento escenario seleccionado | H40: Estimación Analysys Mason | J40: % | M40: =M38/L38-1 -> 0.089107757 | N40: =N38/M38-1 -> 0.076017851 | O40: =O38/N38-1 -> 0.08048289 | P40: =P38/O38-1 -> 0.094376515 | Q40: =Q38/P38-1 -> 0.062652029 | R40: =R38/Q38-1 -> -0.014482515 | S40: =S38/R38-1 -> -0.028141474 | T40: =T38/S38-1 -> -0.0024711343 | ... AA40: =AA38/Z38-1 -> 0.011849145 | AB40: =AB39*(1+INDEX(scenario.fixed.penetration, MATCH(scenario.fixed.penetration.selected, scenarios,0))) -> -0.01 | AC40: =AC39*(1+INDEX(scenario.fixed.penetration, MATCH(scenario.fixed.penetration.selected, scenarios,0))) -> -0.01 | AD40: =AD39*(1+INDEX(scenario.fixed.penetration, MATCH(scenario.fixed.penetration.selected, scenarios,0))) -> -0.01 | AE40: =AE39*(1+INDEX(scenario.fixed.penetration, MATCH(scenario.fixed.penetration.selected, scenarios,0))) -> -0.01 | AF40: =AF39*(1+INDEX(scenario.fixed.penetration, MATCH(scenario.fixed.penetration.selected, scenarios,0))) -> -0.01 | AG40: =AG39*(1+INDEX(scenario.fixed.penetration, MATCH(scenario.fixed.penetration.selected, scenarios,0))) -> -0.01 | AH40: =AH39*(1+INDEX(scenario.fixed.penetration, MATCH(scenario.fixed.penetration.selected, scenarios,0))) -> -0.01 | AI40: =AI39*(1+INDEX(scenario.fixed.penetration, MATCH(scenario.fixed.penetration.selected, scenarios,0))) -> -0.01 | AJ40: 0 | AK40: 0 | AL40: =AK40 -> 0 | AM40: =AL40 -> 0 | AN40: =AM40 -> 0 | AO40: =AN40 -> 0 | AP40: =AO40 -> 0 | AQ40: =AP40 -> 0 | AR40: =AQ40 -> 0 | AS40: =AR40 -> 0 | ... BP40: =BO40 -> 0
C42: Conexiones no residenciales fijas | I42: Fin de año | J42: # | L42: =SUM(L670:L698) -> 3297622 | M42: =SUM(M670:M698) -> 3711106 | N42: =SUM(N670:N698) -> 3906066 | O42: =SUM(O670:O698) -> 4109775 | P42: =SUM(P670:P698) -> 4414657 | Q42: =SUM(Q670:Q698) -> 4694869 | R42: =SUM(R670:R698) -> 4970068 | S42: =SUM(S670:S698) -> 5245191 | ... X42: =SUM(X670:X698) -> 6302015 | Y42: =Y669 -> 6331430.1 | Z42: =Z669 -> 6098417.2 | AA42: =AA669 -> 6290001.1 | AB42: =AA42*(1+AB44) -> 6415801.1 | AC42: =AB42*(1+AC44) -> 6544117.1 | AD42: =AC42*(1+AD44) -> 6674999.4 | AE42: =AD42*(1+AE44) -> 6808499.4 | AF42: =AE42*(1+AF44) -> 6944669.4 | AG42: =AF42*(1+AG44) -> 7083562.8 | AH42: =AG42*(1+AH44) -> 7225234.1 | AI42: =AH42*(1+AI44) -> 7369738.7 | ... BP42: =BO42*(1+BP44) -> 7369738.7
D43: Crecimiento base | AB43: 0.02 | AC43: =AB43 -> 0.02 | AD43: =AC43 -> 0.02 | AE43: =AD43 -> 0.02 | AF43: =AE43 -> 0.02 | AG43: =AF43 -> 0.02 | AH43: =AG43 -> 0.02 | AI43: =AH43 -> 0.02
D44: Crecimiento escenario seleccionado | H44: Estimación Analysys Mason | J44: % | M44: =M42/L42-1 -> 0.12538854 | N44: =N42/M42-1 -> 0.052534204 | O44: =O42/N42-1 -> 0.052151961 | P44: =P42/O42-1 -> 0.074184596 | Q44: =Q42/P42-1 -> 0.063473108 | R44: =R42/Q42-1 -> 0.058616971 | S44: =S42/R42-1 -> 0.055355983 | T44: =T42/S42-1 -> 0.058464411 | ... AA44: =AA42/Z42-1 -> 0.031415341 | AB44: =AB43*(1+INDEX(scenario.fixed.penetration, MATCH(scenario.fixed.penetration.selected, scenarios,0))) -> 0.02 | AC44: =AC43*(1+INDEX(scenario.fixed.penetration, MATCH(scenario.fixed.penetration.selected, scenarios,0))) -> 0.02 | AD44: =AD43*(1+INDEX(scenario.fixed.penetration, MATCH(scenario.fixed.penetration.selected, scenarios,0))) -> 0.02 | AE44: =AE43*(1+INDEX(scenario.fixed.penetration, MATCH(scenario.fixed.penetration.selected, scenarios,0))) -> 0.02 | AF44: =AF43*(1+INDEX(scenario.fixed.penetration, MATCH(scenario.fixed.penetration.selected, scenarios,0))) -> 0.02 | AG44: =AG43*(1+INDEX(scenario.fixed.penetration, MATCH(scenario.fixed.penetration.selected, scenarios,0))) -> 0.02 | AH44: =AH43*(1+INDEX(scenario.fixed.penetration, MATCH(scenario.fixed.penetration.selected, scenarios,0))) -> 0.02 | AI44: =AI43*(1+INDEX(scenario.fixed.penetration, MATCH(scenario.fixed.penetration.selected, scenarios,0))) -> 0.02 | AJ44: 0 | AK44: =AJ44 -> 0 | AL44: =AK44 -> 0 | AM44: =AL44 -> 0 | AN44: =AM44 -> 0 | AO44: =AN44 -> 0 | AP44: =AO44 -> 0 | AQ44: =AP44 -> 0 | AR44: =AQ44 -> 0 | ... BN44: =BM44 -> 0
C46: Conexiones fijas totales
D47: Conecciones fijas activas | I47: Fin de año | J47: # | L47: {=L42:BP42+L37:BP37} -> 12331676 | M47: 13774146 | N47: 14975085 | O47: 16330066 | P47: 18073238 | Q47: 19512024 | R47: 19861299 | S47: 19997903 | T47: 20547953 | U47: 19651057 | V47: 20140563 | W47: 19996824 | X47: 20587824 | Y47: 19863814 | Z47: 19145837 | AA47: 19747310 | AB47: 19989896 | AC47: 20229363 | AD47: 20466046 | AE47: 20700899 | AF47: 20933097 | AG47: 21160072 | AH47: 21380896 | AI47: 21596900 | AJ47: 21807048 | AK47: 22013688 | AL47: 22213773 | AM47: 22406099 | AN47: 22591771 | AO47: 22772453 | AP47: 22951912 | AQ47: 23128350 | AR47: 23297316 | AS47: 23459427 | AT47: 23615668 | AU47: 23766300 | AV47: 23910427 | AW47: 24047519 | AX47: 24177877 | AY47: 24302122 | AZ47: 24420290 | BA47: 24531528 | BB47: 24635305 | BC47: 24731808 | BD47: 24821566 | BE47: 24904682 | BF47: 24980537 | BG47: 25048731 | BH47: 25109472 | BI47: 25163260 | BJ47: 25188490 | BK47: 25213756 | BL47: 25239057 | BM47: 25264395 | BN47: 25289768 | BO47: 25315177 | BP47: 25340623
C49: Conexiones móviles
D50: Penetración móvil activa | I50: Fin de año | J50: % | L50: =L51/L30 -> 0.14441308 | M50: =M51/M30 -> 0.22057674 | N50: =N51/N30 -> 0.25981423 | O50: =O51/O30 -> 0.2981405 | P50: =P51/P30 -> 0.37657543 | Q50: =Q51/Q30 -> 0.45639357 | R50: =R51/R30 -> 0.52718411 | S50: =S51/S30 -> 0.62267577 | ... AA50: =AA51/AA30 -> 0.9060851 | AB50: =AB52 -> 0.93936595 | AC50: =AC52 -> 0.97084137 | AD50: =AD52 -> 1.000621 | AE50: =AE52 -> 1.0288097 | AF50: =AF52 -> 1.055507 | AG50: =AG52 -> 1.0808069 | AH50: =AH52 -> 1.1047978 | AI50: =AI52 -> 1.1275625 | AJ50: =AI50 -> 1.1275625 | AK50: =AJ50 -> 1.1275625 | AL50: =AK50 -> 1.1275625 | AM50: =AL50 -> 1.1275625 | AN50: =AM50 -> 1.1275625 | AO50: =AN50 -> 1.1275625 | AP50: =AO50 -> 1.1275625 | AQ50: =AP50 -> 1.1275625 | ... BP50: =BO50 -> 1.1275625
D51: Usuarios móviles activos | I51: Fin de año | J51: # | L51: =SUM(L711:L712) -> 14077880 | M51: =SUM(M711:M712) -> 21757559 | N51: =SUM(N711:N712) -> 25928266 | O51: =SUM(O711:O712) -> 30097700 | P51: =SUM(P711:P712) -> 38451135 | Q51: =SUM(Q711:Q712) -> 47128746 | R51: =SUM(R711:R712) -> 55395461 | S51: =SUM(S711:S712) -> 66559462 | ... AA51: =SUM(AA711:AA712) -> 107692042 | AB51: =AB50*AB9 -> 1.1280065e+08 | AC51: =AC50*AC9 -> 1.1774911e+08 | AD51: =AD50*AD9 -> 1.2253966e+08 | AE51: =AE50*AE9 -> 1.2717485e+08 | AF51: =AF50*AF9 -> 1.3166159e+08 | AG51: =AG50*AG9 -> 1.360109e+08 | AH51: =AH50*AH9 -> 1.4022884e+08 | AI51: =AI50*AI9 -> 1.4431789e+08 | ... BP51: =BP50*BP9 -> 1.6749385e+08
...

Sheet Fijo
D1: Demanda del operador fijo modelado
F3: Período | G3: Unidades | I3: {=TRANSPOSE(Market.Years)} -> 2000 | J3: 2001 | K3: 2002 | L3: 2003 | M3: 2004 | N3: 2005 | O3: 2006 | P3: 2007 | Q3: 2008 | R3: 2009 | S3: 2010 | T3: 2011 | U3: 2012 | V3: 2013 | W3: 2014 | X3: 2015 | Y3: 2016 | Z3: 2017 | AA3: 2018 | AB3: 2019 | AC3: 2020 | AD3: 2021 | AE3: 2022 | AF3: 2023 | AG3: 2024 | AH3: 2025 | AI3: 2026 | AJ3: 2027 | AK3: 2028 | AL3: 2029 | AM3: 2030 | AN3: 2031 | AO3: 2032 | AP3: 2033 | AQ3: 2034 | AR3: 2035 | AS3: 2036 | AT3: 2037 | AU3: 2038 | AV3: 2039 | AW3: 2040 | AX3: 2041 | AY3: 2042 | AZ3: 2043 | BA3: 2044 | BB3: 2045 | BC3: 2046 | BD3: 2047 | BE3: 2048 | BF3: 2049 | BG3: 2050 | BH3: 2051 | BI3: 2052 | BJ3: 2053 | BK3: 2054 | BL3: 2055 | BM3: 2056
A5: 1 | B5: Mercado
B7: Usuarios / Conexiones
C9: Usuarios o conexiones | F9: Año promedio | G9: # | N9: {=Fixed.Connections} -> 0 | O9: 19686662 | P9: 19929601 | Q9: 20272928 | R9: 20099505 | S9: 19895810 | T9: 20068694 | U9: 20292324 | V9: 20225819 | W9: 19504826 | X9: 19446573 | Y9: 19868603 | Z9: 20109630 | AA9: 20347705 | AB9: 20583473 | AC9: 20816998 | AD9: 21046585 | AE9: 21270484 | AF9: 21488898 | AG9: 21701974 | AH9: 21910368 | AI9: 22113731 | AJ9: 22309936 | AK9: 22498935 | AL9: 22682112 | AM9: 22862183 | AN9: 23040131 | AO9: 23212833 | AP9: 23378371 | AQ9: 23537548 | AR9: 23690984 | AS9: 23838363 | AT9: 23978973 | AU9: 24112698 | AV9: 24240000 | AW9: 24361206 | AX9: 24475909 | AY9: 24583416 | AZ9: 24683556 | BA9: 24776687 | BB9: 24863124 | BC9: 24942609 | BD9: 25014634 | BE9: 25079101 | BF9: 25136366 | BG9: 25175875 | BH9: 25201123 | BI9: 25226407 | BJ9: 25251726 | BK9: 25277081 | BL9: 25302473 | BM9: 25327900 | BN9: Market.Subscribers.Fijo
B11: Tráfico anual
T12: =(T13+T14+T15+T16+T17+T18+T19)/T9/12 -> 567.46338
C13: {=Fixed.Retail.Services} -> Llamadas salientes Local on-net | G13: {=Fixed.Retail.Services.Units} -> Minutos | N13: {=Fixed.Retail.Services.Volumes} -> 0 | O13: 1.1567298e+11 | P13: 1.1353795e+11 | Q13: 1.0079371e+11 | R13: 7.8548232e+10 | S13: 6.7516783e+10 | T13: 5.5350034e+10 | U13: 4.6570548e+10 | V13: 4.2090233e+10 | W13: 4.1544855e+10 | X13: 3.4840804e+10 | Y13: 3.0456061e+10 | Z13: 2.6361733e+10 | AA13: 2.2901726e+10 | AB13: 1.9818646e+10 | AC13: 1.7080218e+10 | AD13: 1.4654984e+10 | AE13: 1.2514532e+10 | AF13: 1.0634417e+10 | AG13: 1.0706725e+10 | AH13: 1.081576e+10 | AI13: 1.0922134e+10 | AJ13: 1.1024429e+10 | AK13: 1.1122617e+10 | AL13: 1.1217656e+10 | AM13: 1.13114e+10 | AN13: 1.1404465e+10 | AO13: 1.1494687e+10 | AP13: 1.1580785e+10 | AQ13: 1.1663323e+10 | AR13: 1.1742728e+10 | AS13: 1.1818789e+10 | AT13: 1.1891025e+10 | AU13: 1.1959362e+10 | AV13: 1.2024117e+10 | AW13: 1.208551e+10 | AX13: 1.2143258e+10 | AY13: 1.2196892e+10 | AZ13: 1.2246292e+10 | BA13: 1.2291699e+10 | BB13: 1.233332e+10 | BC13: 1.2370971e+10 | BD13: 1.2404298e+10 | BE13: 1.2433229e+10 | BF13: 1.2458335e+10 | BG13: 1.2475617e+10 | BH13: 1.2486739e+10 | BI13: 1.2497878e+10 | BJ13: 1.2509034e+10 | BK13: 1.2520207e+10 | BL13: 1.2531397e+10 | BM13: 1.2542603e+10
C14: Llamadas salientes Larga Distancia on-net | G14: Minutos | N14: 0 | O14: 2.3925449e+10 | P14: 2.6266035e+10 | Q14: 2.6797769e+10 | R14: 2.3027978e+10 | S14: 2.3779466e+10 | T14: 2.1374356e+10 | U14: 1.9183034e+10 | V14: 2.0343355e+10 | W14: 2.1912178e+10 | X14: 1.8376233e+10 | Y14: 1.6063569e+10 | Z14: 1.390408e+10 | AA14: 1.2079154e+10 | AB14: 1.0453032e+10 | AC14: 9.0086914e+09 | AD14: 7.7295401e+09 | AE14: 6.6005926e+09 | AF14: 5.6089556e+09 | AG14: 5.6470929e+09 | AH14: 5.7046021e+09 | AI14: 5.7607075e+09 | AJ14: 5.8146613e+09 | AK14: 5.8664487e+09 | AL14: 5.9165758e+09 | AM14: 5.9660195e+09 | AN14: 6.015105e+09 | AO14: 6.0626915e+09 | AP14: 6.1081025e+09 | AQ14: 6.1516358e+09 | AR14: 6.1935168e+09 | AS14: 6.2336336e+09 | AT14: 6.2717332e+09 | AU14: 6.307777e+09 | AV14: 6.3419309e+09 | AW14: 6.3743113e+09 | AX14: 6.40477e+09 | AY14: 6.433058e+09 | AZ14: 6.4591133e+09 | BA14: 6.4830625e+09 | BB14: 6.5050149e+09 | BC14: 6.5248735e+09 | BD14: 6.5424514e+09 | BE14: 6.5577103e+09 | BF14: 6.5709524e+09 | BG14: 6.5800671e+09 | BH14: 6.5859335e+09 | BI14: 6.5918087e+09 | BJ14: 6.5976928e+09 | BK14: 6.6035857e+09 | BL14: 6.6094874e+09 | BM14: 6.6153981e+09
C15: Llamadas salientes Local a otros operadores fijos | G15: Minutos | N15: 0 | O15: 0 | P15: 0 | Q15: 0 | R15: 9.8542912e+09 | S15: 1.7091567e+10 | T15: 2.0965234e+10 | U15: 2.298611e+10 | V15: 2.4688506e+10 | W15: 2.4365841e+10 | X15: 1.8759896e+10 | Y15: 1.6398799e+10 | Z15: 1.4194207e+10 | AA15: 1.2331193e+10 | AB15: 1.0671139e+10 | AC15: 9.1966609e+09 | AD15: 7.8908196e+09 | AE15: 6.7383161e+09 | AF15: 5.7259883e+09 | AG15: 5.7649214e+09 | AH15: 5.8236306e+09 | AI15: 5.8809066e+09 | AJ15: 5.9359861e+09 | AK15: 5.9888541e+09 | AL15: 6.0400271e+09 | AM15: 6.0905025e+09 | AN15: 6.1406121e+09 | AO15: 6.1891916e+09 | AP15: 6.2355501e+09 | AQ15: 6.2799917e+09 | AR15: 6.3227466e+09 | AS15: 6.3637004e+09 | AT15: 6.402595e+09 | AU15: 6.4393908e+09 | AV15: 6.4742574e+09 | AW15: 6.5073135e+09 | AX15: 6.5384076e+09 | AY15: 6.5672859e+09 | AZ15: 6.5938849e+09 | BA15: 6.6183337e+09 | BB15: 6.6407442e+09 | BC15: 6.6610171e+09 | BD15: 6.6789618e+09 | BE15: 6.6945391e+09 | BF15: 6.7080575e+09 | BG15: 6.7173624e+09 | BH15: 6.7233512e+09 | BI15: 6.729349e+09 | BJ15: 6.7353558e+09 | BK15: 6.7413717e+09 | BL15: 6.7473966e+09 | BM15: 6.7534305e+09
C16: Llamadas salientes larga Distancia a otros operadores fijos | G16: Minutos | N16: 0 | O16: 0 | P16: 0 | Q16: 0 | R16: 2.8889816e+09 | S16: 6.0196638e+09 | T16: 8.0960814e+09 | U16: 9.4682876e+09 | V16: 1.1932627e+10 | W16: 1.2851378e+10 | X16: 1.2450616e+10 | Y16: 1.0883597e+10 | Z16: 9.4204482e+09 | AA16: 8.1839981e+09 | AB16: 7.0822492e+09 | AC16: 6.1036636e+09 | AD16: 5.2369995e+09 | AE16: 4.472103e+09 | AF16: 3.8002387e+09 | AG16: 3.8260779e+09 | AH16: 3.8650422e+09 | AI16: 3.9030552e+09 | AJ16: 3.9396106e+09 | AK16: 3.9746982e+09 | AL16: 4.0086607e+09 | AM16: 4.0421604e+09 | AN16: 4.0754173e+09 | AO16: 4.1076586e+09 | AP16: 4.1384259e+09 | AQ16: 4.1679211e+09 | AR16: 4.1962968e+09 | AS16: 4.2234771e+09 | AT16: 4.2492908e+09 | AU16: 4.2737115e+09 | AV16: 4.2968518e+09 | AW16: 4.3187906e+09 | AX16: 4.3394272e+09 | AY16: 4.3585932e+09 | AZ16: 4.3762465e+09 | BA16: 4.3924728e+09 | BB16: 4.4073463e+09 | BC16: 4.420801e+09 | BD16: 4.4327106e+09 | BE16: 4.443049e+09 | BF16: 4.4520209e+09 | BG16: 4.4581964e+09 | BH16: 4.4621711e+09 | BI16: 4.4661517e+09 | BJ16: 4.4701383e+09 | BK16: 4.474131e+09 | BL16: 4.4781296e+09 | BM16: 4.4821342e+09
C17: Llamadas salientes a móvil | G17: Minutos | N17: 0 | O17: 1.2135199e+10 | P17: 1.3160493e+10 | Q17: 1.7932156e+10 | R17: 1.8923372e+10 | S17: 1.7879578e+10 | T17: 2.0405739e+10 | U17: 1.8324557e+10 | V17: 1.2135352e+10 | W17: 1.2627124e+10 | X17: 1.3691539e+10 | Y17: 1.4030482e+10 | Z17: 1.4451844e+10 | AA17: 1.4739743e+10 | AB17: 1.4935432e+10 | AC17: 1.5036074e+10 | AD17: 1.5040291e+10 | AE17: 1.4948142e+10 | AF17: 1.4761552e+10 | AG17: 1.4988228e+10 | AH17: 1.511707e+10 | AI17: 1.5242873e+10 | AJ17: 1.5365061e+10 | AK17: 1.548361e+10 | AL17: 1.5598805e+10 | AM17: 1.5711282e+10 | AN17: 1.5821402e+10 | AO17: 1.5928513e+10 | AP17: 1.6032107e+10 | AQ17: 1.6132328e+10 | AR17: 1.6229315e+10 | AS17: 1.6322982e+10 | AT17: 1.6413149e+10 | AU17: 1.6499775e+10 | AV17: 1.6582968e+10 | AW17: 1.6662813e+10 | AX17: 1.6739221e+10 | AY17: 1.681203e+10 | AZ17: 1.6881201e+10 | BA17: 1.6946827e+10 | BB17: 1.7009002e+10 | BC17: 1.7067686e+10 | BD17: 1.7122775e+10 | BE17: 1.7174265e+10 | BF17: 1.7221435e+10 | BG17: 1.7254079e+10 | BH17: 1.7274747e+10 | BI17: 1.7295443e+10 | BJ17: 1.7316166e+10 | BK17: 1.7336916e+10 | BL17: 1.7357692e+10 | BM17: 1.7378496e+10
C18: Llamadas salientes a internacional | G18: Minutos | N18: 0 | O18: 2.5169528e+09 | P18: 2.8045252e+09 | Q18: 3.1738721e+09 | R18: 3.0961563e+09 | S18: 4.3572379e+09 | T18: 1.0057563e+10 | U18: 3.1113277e+09 | V18: 3.2716693e+09 | W18: 3.4402742e+09 | X18: 3.2764504e+09 | Y18: 2.9329549e+09 | Z18: 2.6157187e+09 | AA18: 2.3453557e+09 | AB18: 2.1024141e+09 | AC18: 1.8841871e+09 | AD18: 1.6880834e+09 | AE18: 1.5118056e+09 | AF18: 1.3534401e+09 | AG18: 1.3668604e+09 | AH18: 1.3799857e+09 | AI18: 1.3927941e+09 | AJ18: 1.4051518e+09 | AK18: 1.4170555e+09 | AL18: 1.4285926e+09 | AM18: 1.439934e+09 | AN18: 1.4511418e+09 | AO18: 1.4620191e+09 | AP18: 1.4724453e+09 | AQ18: 1.4824707e+09 | AR18: 1.4921346e+09 | AS18: 1.501417e+09 | AT18: 1.5102731e+09 | AU18: 1.5186955e+09 | AV18: 1.5267134e+09 | AW18: 1.5343474e+09 | AX18: 1.5415717e+09 | AY18: 1.5483429e+09 | AZ18: 1.55465e+09 | BA18: 1.5605157e+09 | BB18: 1.5659597e+09 | BC18: 1.570966e+09 | BD18: 1.5755023e+09 | BE18: 1.5795627e+09 | BF18: 1.5831694e+09 | BG18: 1.5856578e+09 | BH18: 1.587248e+09 | BI18: 1.5888405e+09 | BJ18: 1.5904352e+09 | BK18: 1.5920321e+09 | BL18: 1.5936314e+09 | BM18: 1.5952329e+09
C19: Llamadas salientes a números no geográficos | G19: Minutos | N19: 0 | O19: 4.6414417e+08 | P19: 4.6871314e+08 | Q19: 4.4743483e+08 | R19: 4.1024778e+08 | S19: 4.1116639e+08 | T19: 4.0997695e+08 | U19: 3.6001163e+08 | V19: 3.4441848e+08 | W19: 3.5127879e+08 | X19: 3.0510192e+08 | Y19: 2.7311573e+08 | Z19: 2.4357482e+08 | AA19: 2.1839871e+08 | AB19: 1.9577607e+08 | AC19: 1.7545485e+08 | AD19: 1.5719373e+08 | AE19: 1.4077881e+08 | AF19: 1.2603187e+08 | AG19: 1.2728156e+08 | AH19: 1.2850378e+08 | AI19: 1.296965e+08 | AJ19: 1.3084724e+08 | AK19: 1.3195572e+08 | AL19: 1.3303004e+08 | AM19: 1.3408615e+08 | AN19: 1.3512982e+08 | AO19: 1.3614271e+08 | AP19: 1.3711359e+08 | AQ19: 1.3804715e+08 | AR19: 1.3894705e+08 | AS19: 1.3981143e+08 | AT19: 1.406361e+08 | AU19: 1.414204e+08 | AV19: 1.4216702e+08 | AW19: 1.4287789e+08 | AX19: 1.4355062e+08 | AY19: 1.4418115e+08 | AZ19: 1.4476847e+08 | BA19: 1.4531467e+08 | BB19: 1.4582163e+08 | BC19: 1.4628781e+08 | BD19: 1.4671023e+08 | BE19: 1.4708833e+08 | BF19: 1.4742418e+08 | BG19: 1.4765591e+08 | BH19: 1.4780398e+08 | BI19: 1.4795227e+08 | BJ19: 1.4810077e+08 | BK19: 1.4824948e+08 | BL19: 1.483984e+08 | BM19: 1.4854753e+08
C20: Fixed Service8 | G20: Fixed Unit8 | N20: 0 | O20: 0 | P20: 0 | Q20: 0 | R20: 0 | S20: 0 | T20: 0 | U20: 0 | V20: 0 | W20: 0 | X20: 0 | Y20: 0 | Z20: 0 | AA20: 0 | AB20: 0 | AC20: 0 | AD20: 0 | AE20: 0 | AF20: 0 | AG20: 0 | AH20: 0 | AI20: 0 | AJ20: 0 | AK20: 0 | AL20: 0 | AM20: 0 | AN20: 0 | AO20: 0 | AP20: 0 | AQ20: 0 | AR20: 0 | AS20: 0 | AT20: 0 | AU20: 0 | AV20: 0 | AW20: 0 | AX20: 0 | AY20: 0 | AZ20: 0 | BA20: 0 | BB20: 0 | BC20: 0 | BD20: 0 | BE20: 0 | BF20: 0 | BG20: 0 | BH20: 0 | BI20: 0 | BJ20: 0 | BK20: 0 | BL20: 0 | BM20: 0
C21: Llamadas entrantes Local de otros operadores fijos | G21: Minutos | N21: 0 | O21: 0 | P21: 0 | Q21: 0 | R21: 9.8542912e+09 | S21: 1.7091567e+10 | T21: 2.0965234e+10 | U21: 2.298611e+10 | V21: 2.4688506e+10 | W21: 2.4365841e+10 | X21: 1.8759896e+10 | Y21: 1.6398799e+10 | Z21: 1.4194207e+10 | AA21: 1.2331193e+10 | AB21: 1.0671139e+10 | AC21: 9.1966609e+09 | AD21: 7.8908196e+09 | AE21: 6.7383161e+09 | AF21: 5.7259883e+09 | AG21: 5.7649214e+09 | AH21: 5.8236306e+09 | AI21: 5.8809066e+09 | AJ21: 5.9359861e+09 | AK21: 5.9888541e+09 | AL21: 6.0400271e+09 | AM21: 6.0905025e+09 | AN21: 6.1406121e+09 | AO21: 6.1891916e+09 | AP21: 6.2355501e+09 | AQ21: 6.2799917e+09 | AR21: 6.3227466e+09 | AS21: 6.3637004e+09 | AT21: 6.402595e+09 | AU21: 6.4393908e+09 | AV21: 6.4742574e+09 | AW21: 6.5073135e+09 | AX21: 6.5384076e+09 | AY21: 6.5672859e+09 | AZ21: 6.5938849e+09 | BA21: 6.6183337e+09 | BB21: 6.6407442e+09 | BC21: 6.6610171e+09 | BD21: 6.6789618e+09 | BE21: 6.6945391e+09 | BF21: 6.7080575e+09 | BG21: 6.7173624e+09 | BH21: 6.7233512e+09 | BI21: 6.729349e+09 | BJ21: 6.7353558e+09 | BK21: 6.7413717e+09 | BL21: 6.7473966e+09 | BM21: 6.7534305e+09
C22: Llamadas entrantes Larga Distancia de otros operadores fijos | G22: Minutos | N22: 0 | O22: 0 | P22: 0 | Q22: 0 | R22: 2.8889816e+09 | S22: 6.0196638e+09 | T22: 8.0960814e+09 | U22: 9.4682876e+09 | V22: 1.1932627e+10 | W22: 1.2851378e+10 | X22: 1.2450616e+10 | Y22: 1.0883597e+10 | Z22: 9.4204482e+09 | AA22: 8.1839981e+09 | AB22: 7.0822492e+09 | AC22: 6.1036636e+09 | AD22: 5.2369995e+09 | AE22: 4.472103e+09 | AF22: 3.8002387e+09 | AG22: 3.8260779e+09 | AH22: 3.8650422e+09 | AI22: 3.9030552e+09 | AJ22: 3.9396106e+09 | AK22: 3.9746982e+09 | AL22: 4.0086607e+09 | AM22: 4.0421604e+09 | AN22: 4.0754173e+09 | AO22: 4.1076586e+09 | AP22: 4.1384259e+09 | AQ22: 4.1679211e+09 | AR22: 4.1962968e+09 | AS22: 4.2234771e+09 | AT22: 4.2492908e+09 | AU22: 4.2737115e+09 | AV22: 4.2968518e+09 | AW22: 4.3187906e+09 | AX22: 4.3394272e+09 | AY22: 4.3585932e+09 | AZ22: 4.3762465e+09 | BA22: 4.3924728e+09 | BB22: 4.4073463e+09 | BC22: 4.420801e+09 | BD22: 4.4327106e+09 | BE22: 4.443049e+09 | BF22: 4.4520209e+09 | BG22: 4.4581964e+09 | BH22: 4.4621711e+09 | BI22: 4.4661517e+09 | BJ22: 4.4701383e+09 | BK22: 4.474131e+09 | BL22: 4.4781296e+09 | BM22: 4.4821342e+09
C23: Llamadas entrantes de móvil | G23: Minutos | N23: 0 | O23: 2.7926258e+09 | P23: 4.5731047e+09 | Q23: 8.4662262e+09 | R23: 1.4779048e+10 | S23: 6.1266102e+09 | T23: 7.2024923e+09 | U23: 8.4994408e+09 | V23: 7.1209111e+09 | W23: 6.8559971e+09 | X23: 6.8968421e+09 | Y23: 7.2374951e+09 | Z23: 7.6811243e+09 | AA23: 8.0856505e+09 | AB23: 8.4868524e+09 | AC23: 8.8848413e+09 | AD23: 9.2800298e+09 | AE23: 9.6728211e+09 | AF23: 1.0063336e+10 | AG23: 1.0249494e+10 | AH23: 1.0331652e+10 | AI23: 1.041192e+10 | AJ23: 1.0490254e+10 | AK23: 1.0566635e+10 | AL23: 1.0640994e+10 | AM23: 1.071328e+10 | AN23: 1.0783619e+10 | AO23: 1.0852148e+10 | AP23: 1.0918836e+10 | AQ23: 1.0983619e+10 | AR23: 1.1046477e+10 | AS23: 1.1107402e+10 | AT23: 1.1166388e+10 | AU23: 1.1223423e+10 | AV23: 1.1278496e+10 | AW23: 1.1331611e+10 | AX23: 1.1382781e+10 | AY23: 1.1432014e+10 | AZ23: 1.1479315e+10 | BA23: 1.1524689e+10 | BB23: 1.1568153e+10 | BC23: 1.1609733e+10 | BD23: 1.1649455e+10 | BE23: 1.1687341e+10 | BF23: 1.1722529e+10 | BG23: 1.1746915e+10 | BH23: 1.1762295e+10 | BI23: 1.1777695e+10 | BJ23: 1.1793115e+10 | BK23: 1.1808555e+10 | BL23: 1.1824015e+10 | BM23: 1.1839496e+10
C24: Llamadas entrantes de internacional | G24: Minutos | N24: 0 | O24: 1.7611514e+10 | P24: 1.6712194e+10 | Q24: 1.4959565e+10 | R24: 1.4228292e+10 | S24: 1.5578675e+10 | T24: 1.9166576e+10 | U24: 2.3793576e+10 | V24: 2.6182005e+10 | W24: 2.8789554e+10 | X24: 2.7020295e+10 | Y24: 2.4954462e+10 | Z24: 2.2672254e+10 | AA24: 2.0258682e+10 | AB24: 1.7798166e+10 | AC24: 1.536952e+10 | AD24: 1.3041731e+10 | AE24: 1.0870871e+10 | AF24: 8.8982986e+09 | AG24: 8.8982986e+09 | AH24: 8.8982986e+09 | AI24: 8.8982986e+09 | AJ24: 8.8982986e+09 | AK24: 8.8982986e+09 | AL24: 8.8982986e+09 | AM24: 8.8982986e+09 | AN24: 8.8982986e+09 | AO24: 8.8982986e+09 | AP24: 8.8982986e+09 | AQ24: 8.8982986e+09 | AR24: 8.8982986e+09 | AS24: 8.8982986e+09 | AT24: 8.8982986e+09 | AU24: 8.8982986e+09 | AV24: 8.8982986e+09 | AW24: 8.8982986e+09 | AX24: 8.8982986e+09 | AY24: 8.8982986e+09 | AZ24: 8.8982986e+09 | BA24: 8.8982986e+09 | BB24: 8.8982986e+09 | BC24: 8.8982986e+09 | BD24: 8.8982986e+09 | BE24: 8.8982986e+09 | BF24: 8.8982986e+09 | BG24: 8.8982986e+09 | BH24: 8.8982986e+09 | BI24: 8.8982986e+09 | BJ24: 8.8982986e+09 | BK24: 8.8982986e+09 | BL24: 8.8982986e+09 | BM24: 8.8982986e+09
C25: Llamadas entrantes de números no geográficos | G25: Minutos | N25: 0 | O25: 0 | P25: 0 | Q25: 0 | R25: 0 | S25: 0 | T25: 0 | U25: 0 | V25: 0 | W25: 0 | X25: 0 | Y25: 0 | Z25: 0 | AA25: 0 | AB25: 0 | AC25: 0 | AD25: 0 | AE25: 0 | AF25: 0 | AG25: 0 | AH25: 0 | AI25: 0 | AJ25: 0 | AK25: 0 | AL25: 0 | AM25: 0 | AN25: 0 | AO25: 0 | AP25: 0 | AQ25: 0 | AR25: 0 | AS25: 0 | AT25: 0 | AU25: 0 | AV25: 0 | AW25: 0 | AX25: 0 | AY25: 0 | AZ25: 0 | BA25: 0 | BB25: 0 | BC25: 0 | BD25: 0 | BE25: 0 | BF25: 0 | BG25: 0 | BH25: 0 | BI25: 0 | BJ25: 0 | BK25: 0 | BL25: 0 | BM25: 0
... C42: Televisión | G42: # | N42: 0 | O42: 3972572 | P42: 4339398 | Q42: 4836069 | R42: 5061919 | S42: 5384040 | T42: 5668893 | U42: 5987513 | V42: 6715720 | W42: 6344338 | X42: 7255572 | Y42: 7597181.9 | Z42: 7955644.6 | AA42: 8287888.9 | AB42: 8596658.4 | AC42: 8883786.7 | AD42: 9149903.6 | AE42: 9294296.3 | AF42: 9435597.6 | AG42: 9574969.8 | AH42: 9712015.5 | AI42: 9844713.9 | AJ42: 9972266.7 | AK42: 10095406 | AL42: 10215236 | AM42: 10334255 | AN42: 10451271 | AO42: 10563331 | AP42: 10670844 | AQ42: 10774465 | AR42: 10874365 | AS42: 10969952 | AT42: 11060873 | AU42: 11147328 | AV42: 11229728 | AW42: 11308098 | AX42: 11381873 | AY42: 11450698 | AZ42: 11514700 | BA42: 11574228 | BB42: 11629352 | BC42: 11679660 | BD42: 11724887 | BE42: 11765170 | BF42: 11800844 | BG42: 11817576 | BH42: 11834333 | BI42: 11851113 | BJ42: 11867917 | BK42: 11884745 | BL42: 11901597 | BM42: 11918472
BN43: Market.Retail.Services.Volumes.Fijo
A44: 2 | B44: Demanda del operador modelado
B46: Cuota de mercado
C48: De usuarios fijos | N48: {=Fixed.operator.market.share} -> 0 | O48: 0 | P48: 0 | Q48: 0 | R48: 0.072 | S48: 0.144 | T48: 0.216 | U48: 0.288 | V48: 0.36 | W48: 0.36 | X48: 0.36 | Y48: 0.36 | Z48: 0.36 | AA48: 0.36 | AB48: 0.36 | AC48: 0.36 | AD48: 0.36 | AE48: 0.36 | AF48: 0.36 | AG48: 0.36 | AH48: 0.36 | AI48: 0.36 | AJ48: 0.36 | AK48: 0.36 | AL48: 0.36 | AM48: 0.36 | AN48: 0.36 | AO48: 0.36 | AP48: 0.36 | AQ48: 0.36 | AR48: 0.36 | AS48: 0.36 | AT48: 0.36 | AU48: 0.36 | AV48: 0.36 | AW48: 0.36 | AX48: 0.36 | AY48: 0.36 | AZ48: 0.36 | BA48: 0.36 | BB48: 0.36 | BC48: 0.36 | BD48: 0.36 | BE48: 0.36 | BF48: 0.36 | BG48: 0.36 | BH48: 0.36 | BI48: 0.36 | BJ48: 0.36 | BK48: 0.36 | BL48: 0.36 | BM48: 0.36 | BN48: Operator.Subscribers.Share
B50: Usuarios / Conexiones
N51: =N9*N48 -> 0 | O51: =O9*O48 -> 0 | P51: =P9*P48 -> 0 | Q51: =Q9*Q48 -> 0 | R51: =R9*R48 -> 1447164.4 | S51: =S9*S48 -> 2864996.6 | T51: =T9*T48 -> 4334837.8 | U51: =U9*U48 -> 5844189.3 | ... BM51: =BM9*BM48 -> 9118044.1 | BN51: Operator.Subscribers
B53: Tráfico anual
C55: {=Fixed.Retail.Services} -> Llamadas salientes Local on-net | G55: {=Fixed.Retail.Services.Units} -> Minutos | N55: =N13*N$48 -> 0 | O55: =O13*O$48 -> 0 | P55: =P13*P$48 -> 0 | Q55: =Q13*Q$48 -> 0 | R55: =R13*R$48 -> 5.6554727e+09 | S55: =S13*S$48 -> 9.7224167e+09 | T55: =T13*T$48 -> 1.1955607e+10 | U55: =U13*U$48 -> 1.3412318e+10 | ... BM55: =BM13*BM$48 -> 4.5153371e+09
C56: Llamadas salientes Larga Distancia on-net | G56: Minutos | N56: =N14*N$48 -> 0 | O56: =O14*O$48 -> 0 | P56: =P14*P$48 -> 0 | Q56: =Q14*Q$48 -> 0 | R56: =R14*R$48 -> 1.6580144e+09 | S56: =S14*S$48 -> 3.4242432e+09 | T56: =T14*T$48 -> 4.6168609e+09 | U56: =U14*U$48 -> 5.5247139e+09 | ... BM56: =BM14*BM$48 -> 2.3815433e+09
C57: Llamadas salientes Local a otros operadores fijos | G57: Minutos | N57: =N15*N$48 -> 0 | O57: =O15*O$48 -> 0 | P57: =P15*P$48 -> 0 | Q57: =Q15*Q$48 -> 0 | R57: =R15*R$48 -> 7.0950897e+08 | S57: =S15*S$48 -> 2.4611856e+09 | T57: =T15*T$48 -> 4.5284906e+09 | U57: =U15*U$48 -> 6.6199997e+09 | ... BM57: =BM15*BM$48 -> 2.431235e+09
C58: Llamadas salientes larga Distancia a otros operadores fijos | G58: Minutos | N58: =N16*N$48 -> 0 | O58: =O16*O$48 -> 0 | P58: =P16*P$48 -> 0 | Q58: =Q16*Q$48 -> 0 | R58: =R16*R$48 -> 2.0800668e+08 | S58: =S16*S$48 -> 8.6683159e+08 | T58: =T16*T$48 -> 1.7487536e+09 | U58: =U16*U$48 -> 2.7268668e+09 | ... BM58: =BM16*BM$48 -> 1.6135683e+09
C59: Llamadas salientes a móvil | G59: Minutos | N59: =N17*N$48 -> 0 | O59: =O17*O$48 -> 0 | P59: =P17*P$48 -> 0 | Q59: =Q17*Q$48 -> 0 | R59: =R17*R$48 -> 1.3624828e+09 | S59: =S17*S$48 -> 2.5746593e+09 | T59: =T17*T$48 -> 4.4076395e+09 | U59: =U17*U$48 -> 5.2774724e+09 | ... BM59: =BM17*BM$48 -> 6.2562587e+09
C60: Llamadas salientes a internacional | G60: Minutos | N60: =N18*N$48 -> 0 | O60: =O18*O$48 -> 0 | P60: =P18*P$48 -> 0 | Q60: =Q18*Q$48 -> 0 | R60: =R18*R$48 -> 2.2292326e+08 | S60: =S18*S$48 -> 6.2744226e+08 | T60: =T18*T$48 -> 2.1724335e+09 | U60: =U18*U$48 -> 8.9606236e+08 | ... BM60: =BM18*BM$48 -> 5.7428383e+08
C61: Llamadas salientes a números no geográficos | G61: Minutos | N61: =N19*N$48 -> 0 | O61: =O19*O$48 -> 0 | P61: =P19*P$48 -> 0 | Q61: =Q19*Q$48 -> 0 | R61: =R19*R$48 -> 29537840 | S61: =S19*S$48 -> 59207960 | T61: =T19*T$48 -> 88555022 | U61: =U19*U$48 -> 1.0368335e+08 | ... BM61: =BM19*BM$48 -> 53477110
C62: Fixed Service8 | G62: Fixed Unit8 | N62: =N20*N$48 -> 0 | O62: =O20*O$48 -> 0 | P62: =P20*P$48 -> 0 | Q62: =Q20*Q$48 -> 0 | R62: =R20*R$48 -> 0 | S62: =S20*S$48 -> 0 | T62: =T20*T$48 -> 0 | U62: =U20*U$48 -> 0 | ... BM62: =BM20*BM$48 -> 0
C63: Llamadas entrantes Local de otros operadores fijos | G63: Minutos | N63: =N21*N$48 -> 0 | O63: =O21*O$48 -> 0 | P63: =P21*P$48 -> 0 | Q63: =Q21*Q$48 -> 0 | R63: =R21*R$48 -> 7.0950897e+08 | S63: =S21*S$48 -> 2.4611856e+09 | T63: =T21*T$48 -> 4.5284906e+09 | U63: =U21*U$48 -> 6.6199997e+09 | ... BM63: =BM21*BM$48 -> 2.431235e+09
C64: Llamadas entrantes Larga Distancia de otros operadores fijos | G64: Minutos | N64: =N22*N$48 -> 0 | O64: =O22*O$48 -> 0 | P64: =P22*P$48 -> 0 | Q64: =Q22*Q$48 -> 0 | R64: =R22*R$48 -> 2.0800668e+08 | S64: =S22*S$48 -> 8.6683159e+08 | T64: =T22*T$48 -> 1.7487536e+09 | U64: =U22*U$48 -> 2.7268668e+09 | ... BM64: =BM22*BM$48 -> 1.6135683e+09
C65: Llamadas entrantes de móvil | G65: Minutos | N65: =N23*N$48 -> 0 | O65: =O23*O$48 -> 0 | P65: =P23*P$48 -> 0 | Q65: =Q23*Q$48 -> 0 | R65: =R23*R$48 -> 1.0640914e+09 | S65: =S23*S$48 -> 8.8223186e+08 | T65: =T23*T$48 -> 1.5557383e+09 | U65: =U23*U$48 -> 2.4478389e+09 | ... BM65: =BM23*BM$48 -> 4.2622186e+09
C66: Llamadas entrantes de internacional | G66: Minutos | N66: =N24*N$48 -> 0 | O66: =O24*O$48 -> 0 | P66: =P24*P$48 -> 0 | Q66: =Q24*Q$48 -> 0 | R66: =R24*R$48 -> 1.024437e+09 | S66: =S24*S$48 -> 2.2433291e+09 | T66: =T24*T$48 -> 4.1399805e+09 | U66: =U24*U$48 -> 6.85255e+09 | ... BM66: =BM24*BM$48 -> 3.2033875e+09
...

Sheet Móvil
D1: Demanda del operador móvil modelado
F3: Período | G3: Unidades | I3: {=TRANSPOSE(Market.Years)} -> 2000 | J3: 2001 | K3: 2002 | L3: 2003 | M3: 2004 | N3: 2005 | O3: 2006 | P3: 2007 | Q3: 2008 | R3: 2009 | S3: 2010 | T3: 2011 | U3: 2012 | V3: 2013 | W3: 2014 | X3: 2015 | Y3: 2016 | Z3: 2017 | AA3: 2018 | AB3: 2019 | AC3: 2020 | AD3: 2021 | AE3: 2022 | AF3: 2023 | AG3: 2024 | AH3: 2025 | AI3: 2026 | AJ3: 2027 | AK3: 2028 | AL3: 2029 | AM3: 2030 | AN3: 2031 | AO3: 2032 | AP3: 2033 | AQ3: 2034 | AR3: 2035 | AS3: 2036 | AT3: 2037 | AU3: 2038 | AV3: 2039 | AW3: 2040 | AX3: 2041 | AY3: 2042 | AZ3: 2043 | BA3: 2044 | BB3: 2045 | BC3: 2046 | BD3: 2047 | BE3: 2048 | BF3: 2049 | BG3: 2050 | BH3: 2051 | BI3: 2052 | BJ3: 2053 | BK3: 2054 | BL3: 2055 | BM3: 2056
A5: 1 | B5: Mercado
B7: Usuarios / Conexiones
C9: Usuarios o conexiones | F9: Año promedio | G9: # | N9: {=Mobile.subscribers} -> 0 | O9: 51262104 | P9: 60977462 | Q9: 70940993 | R9: 79253570 | S9: 87272129 | T9: 92971127 | U9: 97654596 | V9: 1.0286583e+08 | W9: 1.0581496e+08 | X9: 1.0715844e+08 | Y9: 1.1024634e+08 | Z9: 1.1527488e+08 | AA9: 1.2014438e+08 | AB9: 1.2485725e+08 | AC9: 1.2941822e+08 | AD9: 1.3383625e+08 | AE9: 1.3811987e+08 | AF9: 1.4227337e+08 | AG9: 1.4490522e+08 | AH9: 1.4606676e+08 | AI9: 1.4720157e+08 | AJ9: 1.4830905e+08 | AK9: 1.493889e+08 | AL9: 1.5044018e+08 | AM9: 1.5146214e+08 | AN9: 1.5245657e+08 | AO9: 1.5342543e+08 | AP9: 1.5436825e+08 | AQ9: 1.5528413e+08 | AR9: 1.561728e+08 | AS9: 1.5703415e+08 | AT9: 1.5786809e+08 | AU9: 1.5867443e+08 | AV9: 1.5945305e+08 | AW9: 1.6020397e+08 | AX9: 1.609274e+08 | AY9: 1.6162345e+08 | AZ9: 1.6229218e+08 | BA9: 1.6293368e+08 | BB9: 1.6354816e+08 | BC9: 1.6413601e+08 | BD9: 1.6469759e+08 | BE9: 1.6523321e+08 | BF9: 1.657307e+08 | BG9: 1.6607546e+08 | BH9: 1.662929e+08 | BI9: 1.6651062e+08 | BJ9: 1.6672862e+08 | BK9: 1.6694691e+08 | BL9: 1.6716549e+08 | BM9: 1.6738435e+08 | BN9: Market.Subscribers
B11: Tráfico anual
C13: {=Mobile.Retail.Services} -> Llamadas on-net | G13: {=Mobile.Retail.Services.Units} -> minutos | N13: {=Mobile.Retail.Services.Volumes} -> 0 | O13: 2.3840645e+10 | P13: 3.7730247e+10 | Q13: 5.3525112e+10 | R13: 5.915798e+10 | S13: 7.0244386e+10 | T13: 7.929036e+10 | U13: 9.1684819e+10 | V13: 1.1222915e+11 | W13: 1.2941173e+11 | X13: 1.2798264e+11 | Y13: 1.3430403e+11 | Z13: 1.4253633e+11 | AA13: 1.50043e+11 | AB13: 1.5748798e+11 | AC13: 1.6487334e+11 | AD13: 1.7220674e+11 | AE13: 1.7949565e+11 | AF13: 1.8674232e+11 | AG13: 1.9019679e+11 | AH13: 1.9172137e+11 | AI13: 1.9321089e+11 | AJ13: 1.9466451e+11 | AK13: 1.9608189e+11 | AL13: 1.9746175e+11 | AM13: 1.9880314e+11 | AN13: 2.0010839e+11 | AO13: 2.0138007e+11 | AP13: 2.0261758e+11 | AQ13: 2.0381973e+11 | AR13: 2.0498616e+11 | AS13: 2.0611674e+11 | AT13: 2.0721133e+11 | AU13: 2.082697e+11 | AV13: 2.0929168e+11 | AW13: 2.1027732e+11 | AX13: 2.1122686e+11 | AY13: 2.1214047e+11 | AZ13: 2.1301822e+11 | BA13: 2.1386022e+11 | BB13: 2.1466676e+11 | BC13: 2.1543835e+11 | BD13: 2.1617545e+11 | BE13: 2.1687849e+11 | BF13: 2.1753147e+11 | BG13: 2.17984e+11 | BH13: 2.1826939e+11 | BI13: 2.1855516e+11 | BJ13: 2.1884131e+11 | BK13: 2.1912783e+11 | BL13: 2.1941472e+11 | BM13: 2.1970199e+11
