Workbook
Name A.Broadband.Fixed: Mercado!$F$96
Name A.Broadband.Mobile: Mercado!$F$110
Name A.Mobile: Mercado!$F$60
Name A.TV: Mercado!$F$150
Name B.Broadband.Fixed: Mercado!$F$97
Name B.Broadband.Mobile: Mercado!$F$111
Name B.Mobile: Mercado!$F$61
Name B.TV: Mercado!$F$151
Name Base.Broadband.Fixed: Mercado!$F$91
Name Base.Broadband.Mobile: Mercado!$F$105
Name Base.Mobile: Mercado!$F$55
Name Base.TV: Mercado!$F$145
Name cuota_operador_fijo_1: Control!$D$8
Name cuota_operador_fijo_2: Control!$D$9
Name cuota_operador_fijo_3: Control!$D$10
Name cuota_operador_fijo_4: Control!$D$11
Name cuota_operador_fijo_5: Control!$D$12
Name cuota_operador_fijo_6: Control!$D$13
Name cuota_operador_movil_1: Control!$D$19
Name cuota_operador_movil_2: Control!$D$20
Name cuota_operador_movil_3: Control!$D$21
Name cuota_operador_movil_4: Control!$D$22
Name cuota_operador_movil_5: Control!$D$23
Name Data.technologies: Listas!$P$6:$P$10
Name Fixed.Connections: Mercado!$Q$525:$BP$525
Name Fixed.operator.market.share: Control!$D$30:$BC$30
Name Fixed.Retail.Services: Listas!$G$6:$G$35
Name Fixed.Retail.Services.Units: Listas!$H$6:$H$35
Name Fixed.Retail.Services.Volumes: Mercado!$Q$528:$BP$593
Name geotypes: Listas!$J$6:$J$10
Name kbps.per.Mbps: Listas!$B$3
Name Market.Retail.Services.Proporcion.Urbano: Mercado!$Q$601:$BP$630
Name Market.Retail.Services.Volumes.Fijo: Fijo!$P$13:$BM$42
Name Market.Retail.Services.Volumes.Movil: Móvil!$M$13:$BL$42
Name Market.Subscribers: Móvil!$M$9:$BL$9
Name Market.Subscribers.Fijo: Fijo!$P$9:$BM$9
Name Market.Years: Listas!$B$6:$B$62
Name mobile.data.user.proportion: Mercado!$S$66:$BP$66
Name Mobile.operator.market.share: Control!$D$31:$BC$31
Name Mobile.Retail.Services: Listas!$D$6:$D$35
Name Mobile.Retail.Services.Units: Listas!$E$6:$E$35
Name Mobile.Retail.Services.Volumes: Mercado!$Q$564:$BP$593
Name Mobile.subscribers: Mercado!$Q$561:$BP$561
Name Mobile.technologies: Listas!$L$6:$L$10
Name Number_of_operators: Control!$C$8:$C$19
Name NumberA.Broadband.Fixed: Mercado!$F$93
Name NumberA.Broadband.Mobile: Mercado!$F$107
Name NumberA.Mobile: Mercado!$F$57
Name NumberA.TV: Mercado!$F$147
Name NumberB.Broadband.Fixed: Mercado!$F$95
Name NumberB.Broadband.Mobile: Mercado!$F$109
Name NumberB.Mobile: Mercado!$F$59
Name NumberB.TV: Mercado!$F$149
Name Operator.Retail.Services.Volumes: Fijo!$P$55:$BM$84
Name Operator.Retail.Services.Volumes: Móvil!$M$74:$BL$103
Name Operator.Subscribers: Fijo!$P$51:$BM$51
Name Operator.Subscribers: Móvil!$P$69:$BM$69
Name Operator.Subscribers.Share: Fijo!$P$48:$BM$48
Name Operator.Subscribers.Share: Móvil!$P$48:$BM$48
Name oversubscription.factor: Mercado!$I$469

Sheet C
B1: =Workbook.Title -> Modelo de demanda de Mercado para el IFT
A3: Information
A5: Título | B5: Modelo de demanda de Mercado para el IFT
A6: Objetivo | B6: Demanda del mercado fijo y móvil de telecomunicaciones
A8: Versión | B8: Final
A9: Estatus | B9: Aprobado para publicación
B10: En construcción
B11: Trabajo en curso
B12: Listo para revisión
B13: Aprobado para publicación
A14: Autor | B14: Guillermo Fernández Castellanos
A15: Email | B15: guillermo.fernandez@analysysmason.com
A17: Contents
A19: Sheet | B19: Description | C19: Status | D19: Notes
A20: C | B20: Esta hoja de contenidos | C20: Aprobado para publicación
A21: V | B21: Una historia de las versiones de el modelo | C21: Aprobado para publicación
A22: S | B22: Una guía de los estilos utilizados en el modelo | C22: Aprobado para publicación
A23: Control | B23: Hoja de control de los principales escenarios y opciones del modelo | C23: Aprobado para publicación
A24: Listas | B24: Listas estándar utilizadas en el modelo | C24: Aprobado para publicación
A25: Mercado | B25: Modelo de demanda para servicios fijos y móviles | C25: Aprobado para publicación
A26: Fijo | B26: Demanda del operador fijo modelado | C26: Aprobado para publicación
A27: Móvil | B27: Demanda del operador móvil modelado | C27: Aprobado para publicación

Sheet V
C1: =Workbook.Title -> Modelo de demanda de Mercado para el IFT
A3: Information
A5: Title | B5: =Workbook.Title -> Modelo de demanda de Mercado para el IFT
A6: Objective | B6: =Workbook.Objective -> Demanda del mercado fijo y móvil de telecomunicaciones
A8: Version | B8: =Workbook.Version -> Final
A9: Status | B9: =Workbook.Status -> Aprobado para publicación
A10: Author | B10: =Workbook.Author -> Guillermo Fernández Castellanos
A11: Email | B11: =Workbook.Authors_Email_Address -> guillermo.fernandez@analysysmason.com

Sheet S
C1: Guía de estilo
A3: Input cell styles
B5: Input Parameter | C5: 100 | D5: unlocked | E5: An input to the model that it is expected the user will change (change at will)
B7: Input Data | C7: 100 | D7: unlocked | E7: A piece of real data (only change if you have better data)
B9: Input Estimate | C9: 100 | D9: unlocked | E9: An estimate used in the absence of real data (only change if you have a better estimate, or real data )
B11: Input Calculation | C11: 100 | D11: locked | E11: An input to the model that has, none the less, been calculated from other inputs (e.g. interpolated input values)
B13: Input Link | C13: 100 | D13: locked | E13: An input to this part of the model, which is linked to a source on this or another worksheet within this workbook
B15: Input Link (different Workbook) | C15: 100 | D15: locked | E15: An input to this part of the model, which is linked to a source on a worksheet in a different workbook
A17: Other cell styles
B19: Calculation | C19: 100 | D19: locked | E19: A calculation of the model
B21: Total | C21: 123.45 | E21: A total
B23: Checksum | C23: 0 | D23: locked | E23: A side calculation intended solely to cross check a result
B25: Checksum | C25: 0.1 | D25: locked | E25: A side calculation intended solely to cross check a result
B27: Output | C27: 100 | E27: A key result from this part of the model
B29: Name | C29: Name | D29: locked | E29: An Excel Name applying to one or more adjacent cells
B31: Highlight | C31: 100 | E31: A cell that is special in some way

Sheet Control
D1: Panel de Control
A3: 1 | B3: Modelo fijo
B5: =[1]!operator.active -> Alternativo
C7: Número de Operadores | D7: Cuota de Mercado
B8: {=[1]!Operator_group} -> Incumbente | D8: 0.64 | E8: cuota_operador_fijo_1
B9: Alternativo | D9: =(1-cuota_operador_fijo_1) -> 0.36 | E9: cuota_operador_fijo_2
B10: Spare 1 | D10: 0 | E10: cuota_operador_fijo_3
B11: Spare 2 | D11: 0 | E11: cuota_operador_fijo_4
B12: Spare 3 | D12: 0 | E12: cuota_operador_fijo_5
B13: Spare 4 | D13: 0 | E13: cuota_operador_fijo_6
A15: 1 | B15: Modelo móvil
B17: =[2]Control!$G$16 -> Alternativo
B19: Operadores Móviles | C19: 3 | D19: =1/C19 -> 0.33333333 | E19: cuota_operador_movil_1
B20: {=[2]!operadores} -> Alternativo | D20: 0.16 | E20: cuota_operador_movil_2
B21: Spare 1 | D21: 0 | E21: cuota_operador_movil_3
B22: Spare 2 | D22: 0 | E22: cuota_operador_movil_4
B23: Spare 3 | D23: 0 | E23: cuota_operador_movil_5
A25: 2 | B25: Serie de tiempo
B27: Migración en cuota de mercado
D29: 2005 | E29: 2006 | F29: 2007 | G29: 2008 | H29: 2009 | I29: 2010 | J29: 2011 | K29: 2012 | L29: 2013 | M29: 2014 | N29: 2015 | O29: 2016 | P29: 2017 | Q29: 2018 | R29: 2019 | S29: 2020 | T29: 2021 | U29: 2022 | V29: 2023 | W29: 2024 | X29: 2025 | Y29: 2026 | Z29: 2027 | AA29: 2028 | AB29: 2029 | AC29: 2030 | AD29: 2031 | AE29: 2032 | AF29: 2033 | AG29: 2034 | AH29: 2035 | AI29: 2036 | AJ29: 2037 | AK29: 2038 | AL29: 2039 | AM29: 2040 | AN29: 2041 | AO29: 2042 | AP29: 2043 | AQ29: 2044 | AR29: 2045 | AS29: 2046 | AT29: 2047 | AU29: 2048 | AV29: 2049 | AW29: 2050 | AX29: 2051 | AY29: 2052 | AZ29: 2053 | BA29: =AZ29+1 -> 2054 | BB29: =BA29+1 -> 2055 | BC29: =BB29+1 -> 2056
B30: Cuota Fija | D30: 0 | E30: 0 | F30: 0 | G30: 0 | H30: =($L30-$G30)/($L$29-$G$29)+G30 -> 0.072 | I30: =($L30-$G30)/($L$29-$G$29)+H30 -> 0.144 | J30: =($L30-$G30)/($L$29-$G$29)+I30 -> 0.216 | K30: =($L30-$G30)/($L$29-$G$29)+J30 -> 0.288 | L30: =CHOOSE(MATCH($B$5, Control!$B$8:$B$13, 0),cuota_operador_fijo_1, cuota_operador_fijo_2, cuota_operador_fijo_3, cuota_operador_fijo_4, cuota_operador_fijo_5, cuota_operador_fijo_6) -> 0.36 | M30: =L30 -> 0.36 | N30: =M30 -> 0.36 | O30: =N30 -> 0.36 | P30: =O30 -> 0.36 | Q30: =P30 -> 0.36 | R30: =Q30 -> 0.36 | S30: =R30 -> 0.36 | T30: =S30 -> 0.36 | ... BC30: =BB30 -> 0.36 | BD30: Fixed.operator.market.share
B31: Cuota Móvil | D31: 0 | E31: 0 | F31: 0 | G31: 0 | H31: =($L31-$G31)/($L$29-$G$29)+G31 -> 0.032 | I31: =($L31-$G31)/($L$29-$G$29)+H31 -> 0.064 | J31: =($L31-$G31)/($L$29-$G$29)+I31 -> 0.096 | K31: =($L31-$G31)/($L$29-$G$29)+J31 -> 0.128 | L31: =CHOOSE(MATCH($B$17, Control!$B$19:$B$23, 0),cuota_operador_movil_1, cuota_operador_movil_2, cuota_operador_movil_3, cuota_operador_movil_4, cuota_operador_movil_5) -> 0.16 | M31: =L31 -> 0.16 | N31: =M31 -> 0.16 | O31: =N31 -> 0.16 | P31: =O31 -> 0.16 | Q31: =P31 -> 0.16 | R31: =Q31 -> 0.16 | S31: =R31 -> 0.16 | T31: =S31 -> 0.16 | ... BC31: =BB31 -> 0.16 | BD31: Mobile.operator.market.share
A34: 3 | B34: Escenarios de demanda
D36: Escenarios: | E36: Conservador | F36: Base | G36: Agresivo | H36: scenarios
B37: Escenario para penetración móvil: | C37: Base | D37: scenario.mobile.penetration.selected | E37: -0.05 | F37: 0 | G37: 0.05 | H37: scenario.mobile.penetration
B38: Escenario para penetración fija: | C38: Base | D38: scenario.fixed.penetration.selected | E38: -0.3 | F38: 0 | G38: 0.3 | H38: scenario.fixed.penetration
B39: Escenario para penetración banda ancha: | C39: Base | D39: scenario.bb.penetration.selected | E39: -0.1 | F39: 0 | G39: 0.1 | H39: scenario.bb.penetration
B40: Escenario para voz móvil: | C40: Base | D40: scenario.mobile.voice.selected | E40: -0.5 | F40: 0 | G40: 0.5 | H40: scenario.mobile.voice
B41: Escenario para voz fija: | C41: Base | D41: scenario.fixed.voice.selected | E41: -0.3 | F41: 0 | G41: 0.3 | H41: scenario.fixed.voice
B42: Escenario para SMS móvil: | C42: Base | D42: scenario.mobile.SMS.selected | E42: -0.3 | F42: 0 | G42: 0.3 | H42: scenario.mobile.SMS
B43: Escenario para datos móviles: | C43: Base | D43: scenario.mobile.data.selected | E43: -0.5 | F43: 0 | G43: 1 | H43: scenario.mobile.data
B44: Escenario para enlaces dedicados: | C44: Base | D44: scenario.fixed.links.selected | E44: -0.3 | F44: 0 | G44: 0.3 | H44: scenario.fixed.links
B45: Escenario para xDSL: | C45: Base | D45: scenario.fixed.DSL.selected | E45: -0.2 | F45: 0 | G45: 0.2 | H45: scenario.fixed.DSL
B46: Escenario para televisión: | C46: Base | D46: scenario.fixed.television.selected | E46: -0.1 | F46: 0 | G46: 0.1 | H46: scenario.fixed.television

Sheet Listas
D1: Listas
B2: 1000 | C2: thousand
B3: 1000 | C3: kbps.per.Mbps
B5: Años | D5: Servicios móviles a nivel de mercado | E5: Unidades | G5: Servicios fijos a nivel de mercado | H5: Unidades | J5: Geotipos | L5: Tecnologías Móviles | N5: Tecnologia de Voz | P5: Acceso a Internet | R5: Tecnologías de Televisión de Paga
B6: 2000 | C6: 1 | D6: Llamadas on-net | E6: minutos | F6: 1 | G6: Llamadas salientes Local on-net | H6: Minutos | J6: Urban | L6: 2G | N6: Fijas PSTN | P6: Fija | R6: Cable
B7: =B6+1 -> 2001 | C7: 2 | D7: Llamadas a redes fijas | E7: minutos | F7: 2 | G7: Llamadas salientes Larga Distancia on-net | H7: Minutos | J7: Suburban | L7: R.99 | N7: Fijas (otros) | P7: Móvil | R7: Microondas
B8: =B7+1 -> 2002 | C8: 3 | D8: Llamadas a otras redes móviles | E8: minutos | F8: 3 | G8: Llamadas salientes Local a otros operadores fijos | H8: Minutos | J8: Rural | L8: HSPA | N8: Lineas moviles | P8: otras | R8: Satelite
B9: =B8+1 -> 2003 | C9: 4 | D9: Llamadas a internacional | E9: minutos | F9: 4 | G9: Llamadas salientes larga Distancia a otros operadores fijos | H9: Minutos | J9: Micro/indoor | L9: other | N9: Otros | P9: otras | R9: IPTV
B10: =B9+1 -> 2004 | C10: 5 | D10: Llamadas entrantes de fijos | E10: minutos | F10: 5 | G10: Llamadas salientes a móvil | H10: Minutos | J10: spare | L10: other | N10: Otros | P10: otras | R10: otras
B11: =B10+1 -> 2005 | C11: 6 | D11: Llamadas entrantes de otros móviles | E11: minutos | F11: 6 | G11: Llamadas salientes a internacional | H11: Minutos | J11: geotypes | L11: Mobile.technologies | N11: Voice.technologies | P11: Data.technologies | R11: TV.technologies
B12: =B11+1 -> 2006 | C12: 7 | D12: Llamadas entrantes internacionales | E12: minutos | F12: 7 | G12: Llamadas salientes a números no geográficos | H12: Minutos
B13: =B12+1 -> 2007 | C13: 8 | D13: Roaming in originación | E13: minutos | F13: 8 | G13: ="Fixed Service"&F13 -> Fixed Service8 | H13: ="Fixed Unit"&F13 -> Fixed Unit8
B14: =B13+1 -> 2008 | C14: 9 | D14: Roaming in terminación | E14: minutos | F14: 9 | G14: Llamadas entrantes Local de otros operadores fijos | H14: Minutos
B15: =B14+1 -> 2009 | C15: 10 | D15: SMS on-net | E15: mensajes | F15: 10 | G15: Llamadas entrantes Larga Distancia de otros operadores fijos | H15: Minutos
B16: =B15+1 -> 2010 | C16: 11 | D16: SMS salientes a otras redes | E16: mensajes | F16: 11 | G16: Llamadas entrantes de móvil | H16: Minutos
B17: =B16+1 -> 2011 | C17: 12 | D17: SMS entrantes de otras redes | E17: mensajes | F17: 12 | G17: Llamadas entrantes de internacional | H17: Minutos
B18: =B17+1 -> 2012 | C18: 13 | D18: Recuperación de correo de voz | E18: minutos | F18: 13 | G18: Llamadas entrantes de números no geográficos | H18: Minutos
B19: =B18+1 -> 2013 | C19: 14 | D19: Depósito de corroe de voz | E19: minutos | F19: 14 | G19: ="Fixed Service"&F19 -> Fixed Service14 | H19: ="Fixed Unit"&F19 -> Fixed Unit14
B20: =B19+1 -> 2014 | C20: 15 | D20: Datos GPRS | E20: megabytes | F20: 15 | G20: Llamadas en tránsito Local | H20: Minutos
B21: =B20+1 -> 2015 | C21: 16 | D21: Datos EDGE | E21: megabytes | F21: 16 | G21: Llamadas en tránsito Larga Distancia | H21: Minutos
B22: =B21+1 -> 2016 | C22: 17 | D22: Datos Release 99 | E22: megabytes | F22: 17 | G22: ="Fixed Service"&F22 -> Fixed Service17 | H22: ="Fixed Unit"&F22 -> Fixed Unit17
B23: =B22+1 -> 2017 | C23: 18 | D23: Datos - HSDPA | E23: megabytes | F23: 18 | G23: SMS on-net | H23: SMS
B24: =B23+1 -> 2018 | C24: 19 | D24: Datos - HSUPA | E24: megabytes | F24: 19 | G24: SMS salientes | H24: SMS
B25: =B24+1 -> 2019 | C25: 20 | D25: ="Mobile Service"&C25 -> Mobile Service20 | E25: ="Mobile Unit"&C25 -> Mobile Unit20 | F25: 20 | G25: SMS entrantes | H25: SMS
B26: =B25+1 -> 2020 | C26: 21 | D26: Llamadas en tránsito Local | E26: Minutos | F26: 21 | G26: ="Fixed Service"&F26 -> Fixed Service21 | H26: ="Fixed Unit"&F26 -> Fixed Unit21
B27: =B26+1 -> 2021 | C27: 22 | D27: Llamadas en tránsito Larga Distancia | E27: Minutos | F27: 22 | G27: Enlaces dedicados | H27: Mbps
B28: =B27+1 -> 2022 | C28: 23 | D28: ="Mobile Service"&C28 -> Mobile Service23 | E28: ="Mobile Unit"&C28 -> Mobile Unit23 | F28: 23 | G28: xDSL propio (líneas) | H28: # lineas
B29: =B28+1 -> 2023 | C29: 24 | D29: ="Mobile Service"&C29 -> Mobile Service24 | E29: ="Mobile Unit"&C29 -> Mobile Unit24 | F29: 24 | G29: xDSL propio (contendido) | H29: Mbps
B30: =B29+1 -> 2024 | C30: 25 | D30: ="Mobile Service"&C30 -> Mobile Service25 | E30: ="Mobile Unit"&C30 -> Mobile Unit25 | F30: 25 | G30: xDSL ajeno (líneas) | H30: # lineas
B31: =B30+1 -> 2025 | C31: 26 | D31: ="Mobile Service"&C31 -> Mobile Service26 | E31: ="Mobile Unit"&C31 -> Mobile Unit26 | F31: 26 | G31: xDSL ajeno (bitstream) | H31: Mbps
B32: =B31+1 -> 2026 | C32: 27 | D32: ="Mobile Service"&C32 -> Mobile Service27 | E32: ="Mobile Unit"&C32 -> Mobile Unit27 | F32: 27 | G32: ="Fixed Service"&F32 -> Fixed Service27 | H32: ="Fixed Unit"&F32 -> Fixed Unit27
B33: =B32+1 -> 2027 | C33: 28 | D33: ="Mobile Service"&C33 -> Mobile Service28 | E33: ="Mobile Unit"&C33 -> Mobile Unit28 | F33: 28 | G33: ="Fixed Service"&F33 -> Fixed Service28 | H33: ="Fixed Unit"&F33 -> Fixed Unit28
B34: =B33+1 -> 2028 | C34: 29 | D34: ="Mobile Service"&C34 -> Mobile Service29 | E34: ="Mobile Unit"&C34 -> Mobile Unit29 | F34: 29 | G34: ="Fixed Service"&F34 -> Fixed Service29 | H34: ="Fixed Unit"&F34 -> Fixed Unit29
B35: =B34+1 -> 2029 | C35: 30 | D35: ="Mobile Service"&C35 -> Mobile Service30 | E35: ="Mobile Unit"&C35 -> Mobile Unit30 | F35: 30 | G35: Televisión | H35: #
B36: =B35+1 -> 2030 | D36: Mobile.Retail.Services | E36: Mobile.Retail.Services.Units | G36: Fixed.Retail.Services | H36: Fixed.Retail.Services.Units
B37: =B36+1 -> 2031
B38: =B37+1 -> 2032
B39: =B38+1 -> 2033
B40: =B39+1 -> 2034
B41: =B40+1 -> 2035
B42: =B41+1 -> 2036
B43: =B42+1 -> 2037
B44: =B43+1 -> 2038
B45: =B44+1 -> 2039
B46: =B45+1 -> 2040
B47: =B46+1 -> 2041
B48: =B47+1 -> 2042
... B62: =B61+1 -> 2056
B63: Market.Years

Sheet Mercado
F1: Modelo de demanda para servicios fijos y móviles | AB1: ---> PRONOSTICOS
BR2: Parametros de curva exponencial
G3: Fuente | H3: Notas | I3: Periodo | J3: Unidades | K3: Check | L3: {=TRANSPOSE(Market.Years)} -> 2000 | M3: 2001 | N3: 2002 | O3: 2003 | P3: 2004 | Q3: 2005 | R3: 2006 | S3: 2007 | T3: 2008 | U3: 2009 | V3: 2010 | W3: 2011 | X3: 2012 | Y3: 2013 | Z3: 2014 | AA3: 2015 | AB3: 2016 | AC3: 2017 | AD3: 2018 | AE3: 2019 | AF3: 2020 | AG3: 2021 | AH3: 2022 | AI3: 2023 | AJ3: 2024 | AK3: 2025 | AL3: 2026 | AM3: 2027 | AN3: 2028 | AO3: 2029 | AP3: 2030 | AQ3: 2031 | AR3: 2032 | AS3: 2033 | AT3: 2034 | AU3: 2035 | AV3: 2036 | AW3: 2037 | AX3: 2038 | AY3: 2039 | AZ3: 2040 | BA3: 2041 | BB3: 2042 | BC3: 2043 | BD3: 2044 | BE3: 2045 | BF3: 2046 | BG3: 2047 | BH3: 2048 | BI3: 2049 | BJ3: 2050 | BK3: 2051 | BL3: 2052 | BM3: 2053 | BN3: 2054 | BO3: 2055 | BP3: 2056 | BR3: a | BS3: b | BT3: pendiente
A5: 1 | B5: Factores macroeconómicos
E7: Población | G7: CONAPO (2010) | I7: Mitad de año | J7: # | L7: 100895811 | M7: 102122295 | N7: 103417944 | O7: 104719891 | P7: 105951569 | Q7: 107151011 | R7: 108408827 | S7: 109787388 | T7: 111299015 | U7: 112852594 | V7: 1.1425556e+08 | W7: 1.1568287e+08 | X7: 1.1705375e+08 | Y7: 1.1839505e+08 | Z7: 1.197132e+08 | AA7: 1.2100582e+08 | AB7: 1.2227347e+08 | AC7: 1.2351827e+08 | AD7: 1.2473779e+08 | AE7: 1.2592944e+08 | AF7: 1.2709164e+08 | AG7: 1.2823052e+08 | AH7: 1.2935185e+08 | AI7: 1.3045169e+08 | AJ7: 1.3152947e+08 | AK7: 1.3258405e+08 | AL7: 1.3361419e+08 | AM7: 1.3461941e+08 | AN7: 1.3559964e+08 | AO7: 1.3655449e+08 | AP7: 1.3748134e+08 | AQ7: 1.3838314e+08 | AR7: 1.3926309e+08 | AS7: 1.4011893e+08 | AT7: 1.4095031e+08 | AU7: 1.4175692e+08 | AV7: 1.4253874e+08 | AW7: 1.4329572e+08 | AX7: 1.4402764e+08 | AY7: 1.4473435e+08 | AZ7: 1.4541586e+08 | BA7: 1.4607245e+08 | BB7: 1.4670423e+08 | BC7: 1.4731119e+08 | BD7: 1.478934e+08 | BE7: 1.4845103e+08 | BF7: 1.4898451e+08 | BG7: 1.4949416e+08 | BH7: 1.4998025e+08 | BI7: 1.5044306e+08 | BJ7: 1.5083752e+08
E8: Población | G8: Analysys Mason basado en CONAPO | I8: Fin de año | J8: # | L8: =AVERAGE(L7:M7) -> 101509053 | M8: =AVERAGE(M7:N7) -> 1.0277012e+08 | N8: =AVERAGE(N7:O7) -> 1.0406892e+08 | O8: =AVERAGE(O7:P7) -> 105335730 | P8: =AVERAGE(P7:Q7) -> 106551290 | Q8: =AVERAGE(Q7:R7) -> 107779919 | R8: =AVERAGE(R7:S7) -> 1.0909811e+08 | S8: =AVERAGE(S7:T7) -> 1.105432e+08 | ... BJ8: =AVERAGE(BJ7:BK7) -> 1.5083752e+08
E9: Población | G9: INEGI (Censo 2010) | I9: Fin de año | J9: # | L9: 97483412 | M9: =($Q9-$L9)/5+L9 -> 98639407 | N9: =($Q9-$L9)/5+M9 -> 99795402 | O9: =($Q9-$L9)/5+N9 -> 1.009514e+08 | P9: =($Q9-$L9)/5+O9 -> 1.0210739e+08 | Q9: 103263388 | R9: =($V9-$Q9)/5+Q9 -> 105078018 | S9: =($V9-$Q9)/5+R9 -> 106892648 | T9: =($V9-$Q9)/5+S9 -> 108707278 | U9: =($V9-$Q9)/5+T9 -> 110521908 | V9: 112336538 | W9: =V9*(1+W10) -> 1.137036e+08 | X9: =W9*(1+X10) -> 1.1502864e+08 | Y9: =X9*(1+Y10) -> 1.1632791e+08 | Z9: =Y9*(1+Z10) -> 1.176034e+08 | AA9: =Z9*(1+AA10) -> 1.1885422e+08 | AB9: =AA9*(1+AB10) -> 1.2008169e+08 | AC9: =AB9*(1+AC10) -> 1.2128563e+08 | AD9: =AC9*(1+AD10) -> 1.2246361e+08 | ... BP9: =BO9*(1+BP10) -> 1.4854507e+08
E10: Crecimiento poblacional | H10: Crecimiento en base a Conapo | J10: % | W10: =W8/V8-1 -> 0.01216932 | X10: =X8/W8-1 -> 0.011653457 | Y10: =Y8/X8-1 -> 0.011295253 | Z10: =Z8/Y8-1 -> 0.010964599 | AA10: =AA8/Z8-1 -> 0.010635927 | AB10: =AB8/AA8-1 -> 0.010327448 | AC10: =AC8/AB8-1 -> 0.01002603 | AD10: =AD8/AC8-1 -> 0.0097124294 | ... BJ10: =BJ8/BI8-1 -> 0.0013092528 | BK10: =BJ10 -> 0.0013092528 | BL10: =BK10 -> 0.0013092528 | BM10: =BL10 -> 0.0013092528 | BN10: =BM10 -> 0.0013092528 | BO10: =BN10 -> 0.0013092528 | BP10: =BO10 -> 0.0013092528
C12: Viviendas
D13: CONAPO
E14: Viviendas | G14: CONAPO | I14: Mitad de año | J14: # | Q14: 24385837 | R14: 24958260 | S14: 25540981 | T14: 26125086 | U14: 26709680 | V14: 27294756 | W14: 27880737 | X14: 28466745 | Y14: 29051124 | Z14: 29633076 | AA14: 30212863 | AB14: 30790321 | AC14: 31363805 | AD14: 31932230 | AE14: 32497443 | AF14: 33061322 | AG14: 33617389 | AH14: 34158948 | AI14: 34686953 | AJ14: 35205613 | AK14: 35719329 | AL14: 36220755 | AM14: 36702270 | AN14: 37165580 | AO14: 37614402 | AP14: 38053202 | AQ14: 38496016 | AR14: 38919975 | AS14: 39326080 | AT14: 39716361 | AU14: 40093636 | AV14: 40456354 | AW14: 40801679 | AX14: 41129835 | AY14: 41442077 | AZ14: 41740203 | BA14: 42022589 | BB14: 42286674 | BC14: 42532403 | BD14: 42760757 | BE14: 42973348 | BF14: 43169076 | BG14: 43345993 | BH14: 43504089 | BI14: 43644387 | BJ14: 43768332
E15: Viviendas | G15: Analysys Mason basado en CONAPO | I15: Fin de año | J15: # | Q15: =AVERAGE(Q14:R14) -> 24672048 | R15: =AVERAGE(R14:S14) -> 25249620 | S15: =AVERAGE(S14:T14) -> 25833034 | T15: =AVERAGE(T14:U14) -> 26417383 | U15: =AVERAGE(U14:V14) -> 27002218 | V15: =AVERAGE(V14:W14) -> 27587746 | W15: =AVERAGE(W14:X14) -> 28173741 | X15: =AVERAGE(X14:Y14) -> 28758934 | ... BJ15: =AVERAGE(BJ14:BK14) -> 43768332
E16: Crecimiento de viviendas | H16: Crecimiento en base a Conapo | J16: % | W16: =W15/V15-1 -> 0.021241115 | X16: =X15/W15-1 -> 0.020770884 | Y16: =Y15/X15-1 -> 0.020277716 | Z16: =Z15/Y15-1 -> 0.019796453 | AA16: =AA15/Z15-1 -> 0.019337068 | AB16: =AB15/AA15-1 -> 0.018866917 | AC16: =AC15/AB15-1 -> 0.018372216 | AD16: =AD15/AC15-1 -> 0.017910095 | ... BJ16: =BJ15/BI15-1 -> 0.0014179287 | BK16: =BJ16 -> 0.0014179287 | BL16: =BK16 -> 0.0014179287 | BM16: =BL16 -> 0.0014179287 | BN16: =BM16 -> 0.0014179287 | BO16: =BN16 -> 0.0014179287 | BP16: =BO16 -> 0.0014179287
D17: INEGI
E18: Viviendas | G18: INEGI | I18: Fin de año | J18: # | L18: 21954733 | M18: =($Q18-$L18)/5+L18 -> 22507592 | N18: =($Q18-$L18)/5+M18 -> 23060451 | O18: =($Q18-$L18)/5+N18 -> 23613311 | P18: =($Q18-$L18)/5+O18 -> 24166170 | Q18: 24719029 | R18: =($V18-$Q18)/5+Q18 -> 25498221 | S18: =($V18-$Q18)/5+R18 -> 26277414 | T18: =($V18-$Q18)/5+S18 -> 27056606 | U18: =($V18-$Q18)/5+T18 -> 27835799 | V18: 28614991
C19: Hogares
D20: CONAPO
E21: Hogares | G21: CONAPO | I21: Mitad de año | J21: # | Q21: 25120275 | R21: 25709757 | S21: 26309910 | T21: 26911483 | U21: 27513560 | V21: 28116121 | W21: 28719609 | X21: 29323117 | Y21: 29924935 | Z21: 30524243 | AA21: 31121301 | AB21: 31715951 | AC21: 32306497 | AD21: 32891810 | AE21: 33473802 | AF21: 34054400 | AG21: 34626930 | AH21: 35184503 | AI21: 35728098 | AJ21: 36262055 | AK21: 36790908 | AL21: 37307082 | AM21: 37802736 | AN21: 38279632 | AO21: 38741592 | AP21: 39193231
E22: Hogares | G22: Analysys Mason basado en CONAPO | I22: Fin de año | J22: # | Q22: =AVERAGE(Q21:R21) -> 25415016 | R22: =AVERAGE(R21:S21) -> 26009834 | S22: =AVERAGE(S21:T21) -> 26610696 | T22: =AVERAGE(T21:U21) -> 27212522 | U22: =AVERAGE(U21:V21) -> 27814840 | V22: =AVERAGE(V21:W21) -> 28417865 | W22: =AVERAGE(W21:X21) -> 29021363 | X22: =AVERAGE(X21:Y21) -> 29624026 | ... AP22: =AVERAGE(AP21:AQ21) -> 39193231
D23: INEGI
E24: Hogares | G24: INEGI | H24: Crecimiento en base de viviendas de CONAPO | I24: Fin de año | J24: # | L24: 22268916 | M24: =($Q24-$L24)/5+L24 -> 22775858 | N24: =($Q24-$L24)/5+M24 -> 23282800 | O24: =($Q24-$L24)/5+N24 -> 23789741 | P24: =($Q24-$L24)/5+O24 -> 24296683 | Q24: 24803625 | R24: =($V24-$Q24)/5+Q24 -> 25293947 | S24: =($V24-$Q24)/5+R24 -> 25784268 | T24: =($V24-$Q24)/5+S24 -> 26274590 | U24: =($V24-$Q24)/5+T24 -> 26764912 | V24: =V9/V25 -> 27255234 | W24: =V24*(1+W16) -> 27834165 | X24: =W24*(1+X16) -> 28412305 | Y24: =X24*(1+Y16) -> 28988442 | Z24: =Y24*(1+Z16) -> 29562310 | AA24: =Z24*(1+AA16) -> 30133959 | AB24: =AA24*(1+AB16) -> 30702494 | AC24: =AB24*(1+AC16) -> 31266566 | AD24: =AC24*(1+AD16) -> 31826554 | ... BP24: =BO24*(1+BP16) -> 43609977
E25: Habitantes por Hogar | I25: Fin de año | J25: # | L25: =IF(L24=0,0,L9/L24) -> 4.3775553 | M25: =IF(M24=0,0,M9/M24) -> 4.3308756 | N25: =IF(N24=0,0,N9/N24) -> 4.2862286 | O25: =IF(O24=0,0,O9/O24) -> 4.2434844 | P25: =IF(P24=0,0,P9/P24) -> 4.2025239 | Q25: =IF(Q24=0,0,Q9/Q24) -> 4.1632378 | R25: =IF(R24=0,0,R9/R24) -> 4.1542753 | S25: =IF(S24=0,0,S9/S24) -> 4.1456537 | ... U25: =IF(U24=0,0,U9/U24) -> 4.1293582 | V25: =Q25*((Q25/L25)^(1/5)) -> 4.1216502 | W25: =IF(W24=0,0,W9/W24) -> 4.0850371 | X25: =IF(X24=0,0,X9/X24) -> 4.0485499 | Y25: =IF(Y24=0,0,Y9/Y24) -> 4.0129068 | Z25: =IF(Z24=0,0,Z9/Z24) -> 3.9781533 | AA25: =IF(AA24=0,0,AA9/AA24) -> 3.9441955 | AB25: =IF(AB24=0,0,AB9/AB24) -> 3.9111379 | AC25: =IF(AC24=0,0,AC9/AC24) -> 3.8790837 | AD25: =IF(AD24=0,0,AD9/AD24) -> 3.8478438 | ... BP25: =IF(BP24=0,0,BP9/BP24) -> 3.4062175
E27: PIB per capita (PPP) | G27: Economist Intelligence Unit | I27: Promedio | J27: USD - PPP | M27: 10613.5 | N27: 10606.8 | O27: 10661.1 | P27: 10891 | Q27: 11468.7 | R27: 12466.6 | S27: 13671.5 | T27: 14213.4 | U27: 14915.9 | V27: 14600.8 | W27: 15432 | X27: 16652.8 | Y27: 17001.3 | Z27: 17322.3 | AA27: 17820 | AB27: 18650 | AC27: 19520 | AD27: 20490 | AE27: 21590 | AF27: 22760 | AG27: 24060 | AH27: 25450 | AI27: 26910 | AJ27: 28440 | AK27: 30060 | AL27: 31740 | AM27: 33480 | AN27: 35270 | AO27: 37120 | AP27: 39020 | AQ27: 40970
C29: Chosen for model
D30: Población | I30: Fin de año | J30: # | L30: =L9 -> 97483412 | M30: =M9 -> 98639407 | N30: =N9 -> 99795402 | O30: =O9 -> 1.009514e+08 | P30: =P9 -> 1.0210739e+08 | Q30: =Q9 -> 103263388 | R30: =R9 -> 105078018 | S30: =S9 -> 106892648 | ... BP30: =BP9 -> 1.4854507e+08
D31: Hogares | I31: Fin de año | J31: # | L31: =L24 -> 22268916 | M31: =M24 -> 22775858 | N31: =N24 -> 23282800 | O31: =O24 -> 23789741 | P31: =P24 -> 24296683 | Q31: =Q24 -> 24803625 | R31: =R24 -> 25293947 | S31: =S24 -> 25784268 | ... BP31: =BP24 -> 43609977
A33: 2 | B33: Conexiones
B35: Conexiones de Voz
C37: Conexiones residenciales fijas | I37: Fin de año | J37: # | L37: =SUM(L640:L668) -> 9034054 | M37: =SUM(M640:M668) -> 10063040 | N37: =SUM(N640:N668) -> 11069019 | O37: =SUM(O640:O668) -> 12220291 | P37: =SUM(P640:P668) -> 13658581 | Q37: =SUM(Q640:Q668) -> 14817155 | R37: =SUM(R640:R668) -> 14891231 | S37: =SUM(S640:S668) -> 14752712 | ... X37: =SUM(X640:X668) -> 14285809 | Y37: =Y639 -> 13532384 | Z37: =Z639 -> 13047420 | AA37: =AA639 -> 13457309 | AB37: =AB24*AB38 -> 13574095 | AC37: =AC24*AC38 -> 13685246 | AD37: =AD24*AD38 -> 13791047 | AE37: =AE24*AE38 -> 13892399 | AF37: =AF24*AF38 -> 13988427 | AG37: =AG24*AG38 -> 14076510 | AH37: =AH24*AH38 -> 14155662 | AI37: =AI24*AI38 -> 14227162 | ... BP37: =BP24*BP38 -> 17970884 | BQ37: residential.fixed.connections
D38: Penetración (viviendas) | J38: % | L38: =L37/L31 -> 0.40568001 | M38: =M37/M31 -> 0.44182924 | N38: =N37/N31 -> 0.47541615 | O38: =O37/O31 -> 0.51367902 | P38: =P37/P31 -> 0.56215825 | Q38: =Q37/Q31 -> 0.59737861 | R38: =R37/R31 -> 0.58872706 | S38: =S37/S31 -> 0.57215942 | ... AA38: =AA37/AA31 -> 0.44658284 | AB38: =AA38*(1+AB40) -> 0.44211701 | AC38: =AB38*(1+AC40) -> 0.43769584 | AD38: =AC38*(1+AD40) -> 0.43331889 | AE38: =AD38*(1+AE40) -> 0.4289857 | AF38: =AE38*(1+AF40) -> 0.42469584 | AG38: =AF38*(1+AG40) -> 0.42044888 | AH38: =AG38*(1+AH40) -> 0.41624439 | AI38: =AH38*(1+AI40) -> 0.41208195 | ... BP38: =BO38*(1+BP40) -> 0.41208195
D39: Crecimiento base | AB39: -0.01 | AC39: =AB39 -> -0.01 | AD39: =AC39 -> -0.01 | AE39: =AD39 -> -0.01 | AF39: =AE39 -> -0.01 | AG39: =AF39 -> -0.01 | AH39: =AG39 -> -0.01 | AI39: =AH39 -> -0.01
D40: Crecimiento escenario seleccionado | H40: Estimación Analysys Mason | J40: % | M40: =M38/L38-1 -> 0.089107757 | N40: =N38/M38-1 -> 0.076017851 | O40: =O38/N38-1 -> 0.08048289 | P40: =P38/O38-1 -> 0.094376515 | Q40: =Q38/P38-1 -> 0.062652029 | R40: =R38/Q38-1 -> -0.014482515 | S40: =S38/R38-1 -> -0.028141474 | T40: =T38/S38-1 -> -0.0024711343 | ... AA40: =AA38/Z38-1 -> 0.011849145 | AB40: =AB39*(1+INDEX(scenario.fixed.penetration, MATCH(scenario.fixed.penetration.selected, scenarios,0))) -> -0.01 | AC40: =AC39*(1+INDEX(scenario.fixed.penetration, MATCH(scenario.fixed.penetration.selected, scenarios,0))) -> -0.01 | AD40: =AD39*(1+INDEX(scenario.fixed.penetration, MATCH(scenario.fixed.penetration.selected, scenarios,0))) -> -0.01 | AE40: =AE39*(1+INDEX(scenario.fixed.penetration, MATCH(scenario.fixed.penetration.selected, scenarios,0))) -> -0.01 | AF40: =AF39*(1+INDEX(scenario.fixed.penetration, MATCH(scenario.fixed.penetration.selected, scenarios,0))) -> -0.01 | AG40: =AG39*(1+INDEX(scenario.fixed.penetration, MATCH(scenario.fixed.penetration.selected, scenarios,0))) -> -0.01 | AH40: =AH39*(1+INDEX(scenario.fixed.penetration, MATCH(scenario.fixed.penetration.selected, scenarios,0))) -> -0.01 | AI40: =AI39*(1+INDEX(scenario.fixed.penetration, MATCH(scenario.fixed.penetration.selected, scenarios,0))) -> -0.01 | AJ40: 0 | AK40: 0 | AL40: =AK40 -> 0 | AM40: =AL40 -> 0 | AN40: =AM40 -> 0 | AO40: =AN40 -> 0 | AP40: =AO40 -> 0 | AQ40: =AP40 -> 0 | AR40: =AQ40 -> 0 | AS40: =AR40 -> 0 | ... BP40: =BO40 -> 0
C42: Conexiones no residenciales fijas | I42: Fin de año | J42: # | L42: =SUM(L670:L698) -> 3297622 | M42: =SUM(M670:M698) -> 3711106 | N42: =SUM(N670:N698) -> 3906066 | O42: =SUM(O670:O698) -> 4109775 | P42: =SUM(P670:P698) -> 4414657 | Q42: =SUM(Q670:Q698) -> 4694869 | R42: =SUM(R670:R698) -> 4970068 | S42: =SUM(S670:S698) -> 5245191 | ... X42: =SUM(X670:X698) -> 6302015 | Y42: =Y669 -> 6331430.1 | Z42: =Z669 -> 6098417.2 | AA42: =AA669 -> 6290001.1 | AB42: =AA42*(1+AB44) -> 6415801.1 | AC42: =AB42*(1+AC44) -> 6544117.1 | AD42: =AC42*(1+AD44) -> 6674999.4 | AE42: =AD42*(1+AE44) -> 6808499.4 | AF42: =AE42*(1+AF44) -> 6944669.4 | AG42: =AF42*(1+AG44) -> 7083562.8 | AH42: =AG42*(1+AH44) -> 7225234.1 | AI42: =AH42*(1+AI44) -> 7369738.7 | ... BP42: =BO42*(1+BP44) -> 7369738.7
D43: Crecimiento base | AB43: 0.02 | AC43: =AB43 -> 0.02 | AD43: =AC43 -> 0.02 | AE43: =AD43 -> 0.02 | AF43: =AE43 -> 0.02 | AG43: =AF43 -> 0.02 | AH43: =AG43 -> 0.02 | AI43: =AH43 -> 0.02
D44: Crecimiento escenario seleccionado | H44: Estimación Analysys Mason | J44: % | M44: =M42/L42-1 -> 0.12538854 | N44: =N42/M42-1 -> 0.052534204 | O44: =O42/N42-1 -> 0.052151961 | P44: =P42/O42-1 -> 0.074184596 | Q44: =Q42/P42-1 -> 0.063473108 | R44: =R42/Q42-1 -> 0.058616971 | S44: =S42/R42-1 -> 0.055355983 | T44: =T42/S42-1 -> 0.058464411 | ... AA44: =AA42/Z42-1 -> 0.031415341 | AB44: =AB43*(1+INDEX(scenario.fixed.penetration, MATCH(scenario.fixed.penetration.selected, scenarios,0))) -> 0.02 | AC44: =AC43*(1+INDEX(scenario.fixed.penetration, MATCH(scenario.fixed.penetration.selected, scenarios,0))) -> 0.02 | AD44: =AD43*(1+INDEX(scenario.fixed.penetration, MATCH(scenario.fixed.penetration.selected, scenarios,0))) -> 0.02 | AE44: =AE43*(1+INDEX(scenario.fixed.penetration, MATCH(scenario.fixed.penetration.selected, scenarios,0))) -> 0.02 | AF44: =AF43*(1+INDEX(scenario.fixed.penetration, MATCH(scenario.fixed.penetration.selected, scenarios,0))) -> 0.02 | AG44: =AG43*(1+INDEX(scenario.fixed.penetration, MATCH(scenario.fixed.penetration.selected, scenarios,0))) -> 0.02 | AH44: =AH43*(1+INDEX(scenario.fixed.penetration, MATCH(scenario.fixed.penetration.selected, scenarios,0))) -> 0.02 | AI44: =AI43*(1+INDEX(scenario.fixed.penetration, MATCH(scenario.fixed.penetration.selected, scenarios,0))) -> 0.02 | AJ44: 0 | AK44: =AJ44 -> 0 | AL44: =AK44 -> 0 | AM44: =AL44 -> 0 | AN44: =AM44 -> 0 | AO44: =AN44 -> 0 | AP44: =AO44 -> 0 | AQ44: =AP44 -> 0 | AR44: =AQ44 -> 0 | ... BN44: =BM44 -> 0
C46: Conexiones fijas totales
D47: Conecciones fijas activas | I47: Fin de año | J47: # | L47: {=L42:BP42+L37:BP37} -> 12331676 | M47: 13774146 | N47: 14975085 | O47: 16330066 | P47: 18073238 | Q47: 19512024 | R47: 19861299 | S47: 19997903 | T47: 20547953 | U47: 19651057 | V47: 20140563 | W47: 19996824 | X47: 20587824 | Y47: 19863814 | Z47: 19145837 | AA47: 19747310 | AB47: 19989896 | AC47: 20229363 | AD47: 20466046 | AE47: 20700899 | AF47: 20933097 | AG47: 21160072 | AH47: 21380896 | AI47: 21596900 | AJ47: 21807048 | AK47: 22013688 | AL47: 22213773 | AM47: 22406099 | AN47: 22591771 | AO47: 22772453 | AP47: 22951912 | AQ47: 23128350 | AR47: 23297316 | AS47: 23459427 | AT47: 23615668 | AU47: 23766300 | AV47: 23910427 | AW47: 24047519 | AX47: 24177877 | AY47: 24302122 | AZ47: 24420290 | BA47: 24531528 | BB47: 24635305 | BC47: 24731808 | BD47: 24821566 | BE47: 24904682 | BF47: 24980537 | BG47: 25048731 | BH47: 25109472 | BI47: 25163260 | BJ47: 25188490 | BK47: 25213756 | BL47: 25239057 | BM47: 25264395 | BN47: 25289768 | BO47: 25315177 | BP47: 25340623
C49: Conexiones móviles
D50: Penetración móvil activa | I50: Fin de año | J50: % | L50: =L51/L30 -> 0.14441308 | M50: =M51/M30 -> 0.22057674 | N50: =N51/N30 -> 0.25981423 | O50: =O51/O30 -> 0.2981405 | P50: =P51/P30 -> 0.37657543 | Q50: =Q51/Q30 -> 0.45639357 | R50: =R51/R30 -> 0.52718411 | S50: =S51/S30 -> 0.62267577 | ... AA50: =AA51/AA30 -> 0.9060851 | AB50: =AB52 -> 0.93936595 | AC50: =AC52 -> 0.97084137 | AD50: =AD52 -> 1.000621 | AE50: =AE52 -> 1.0288097 | AF50: =AF52 -> 1.055507 | AG50: =AG52 -> 1.0808069 | AH50: =AH52 -> 1.1047978 | AI50: =AI52 -> 1.1275625 | AJ50: =AI50 -> 1.1275625 | AK50: =AJ50 -> 1.1275625 | AL50: =AK50 -> 1.1275625 | AM50: =AL50 -> 1.1275625 | AN50: =AM50 -> 1.1275625 | AO50: =AN50 -> 1.1275625 | AP50: =AO50 -> 1.1275625 | AQ50: =AP50 -> 1.1275625 | ... BP50: =BO50 -> 1.1275625
D51: Usuarios móviles activos | I51: Fin de año | J51: # | L51: =SUM(L711:L712) -> 14077880 | M51: =SUM(M711:M712) -> 21757559 | N51: =SUM(N711:N712) -> 25928266 | O51: =SUM(O711:O712) -> 30097700 | P51: =SUM(P711:P712) -> 38451135 | Q51: =SUM(Q711:Q712) -> 47128746 | R51: =SUM(R711:R712) -> 55395461 | S51: =SUM(S711:S712) -> 66559462 | ... AA51: =SUM(AA711:AA712) -> 107692042 | AB51: =AB50*AB9 -> 1.1280065e+08 | AC51: =AC50*AC9 -> 1.1774911e+08 | AD51: =AD50*AD9 -> 1.2253966e+08 | AE51: =AE50*AE9 -> 1.2717485e+08 | AF51: =AF50*AF9 -> 1.3166159e+08 | AG51: =AG50*AG9 -> 1.360109e+08 | AH51: =AH50*AH9 -> 1.4022884e+08 | AI51: =AI50*AI9 -> 1.4431789e+08 | ... BP51: =BP50*BP9 -> 1.6749385e+08
D52: Pronóstico con curva S | I52: Fin de año | J52: % | L52: =Saturation.Mobile/(1+EXP(-A.Mobile-B.Mobile*LN(L$3-Base.Mobile))) -> 0.14441308 | M52: =Saturation.Mobile/(1+EXP(-A.Mobile-B.Mobile*LN(M$3-Base.Mobile))) -> 0.20612832 | N52: =Saturation.Mobile/(1+EXP(-A.Mobile-B.Mobile*LN(N$3-Base.Mobile))) -> 0.2687726 | O52: =Saturation.Mobile/(1+EXP(-A.Mobile-B.Mobile*LN(O$3-Base.Mobile))) -> 0.3309571 | P52: =Saturation.Mobile/(1+EXP(-A.Mobile-B.Mobile*LN(P$3-Base.Mobile))) -> 0.39178673 | Q52: =Saturation.Mobile/(1+EXP(-A.Mobile-B.Mobile*LN(Q$3-Base.Mobile))) -> 0.45069063 | R52: =Saturation.Mobile/(1+EXP(-A.Mobile-B.Mobile*LN(R$3-Base.Mobile))) -> 0.50731931 | S52: =Saturation.Mobile/(1+EXP(-A.Mobile-B.Mobile*LN(S$3-Base.Mobile))) -> 0.56147707 | ... BP52: =Saturation.Mobile/(1+EXP(-A.Mobile-B.Mobile*LN(BP$3-Base.Mobile))) -> 1.5072307
D54: Saturation | F54: 1.8 | G54: Saturation.Mobile | H54: Estimación Analysys Mason
D55: Base | F55: 1997 | G55: Base.Mobile
D56: TimeA | F56: 2000 | G56: TimeA.Mobile
D57: NumberA | F57: =INDEX($L$50:$BM$50,MATCH(TimeA.Mobile,L$3:BM$3,0)) -> 0.14441308 | G57: NumberA.Mobile
D58: TimeB | F58: 2015 | G58: TimeB.Mobile
D59: NumberB | F59: =INDEX($L$50:$BM$50,MATCH(TimeB.Mobile,L$3:BM$3,0)) -> 0.9060851 | G59: NumberB.Mobile
D60: A | F60: =-B.Mobile*LN(TimeB.Mobile-Base.Mobile)-LN(Saturation.Mobile/NumberB.Mobile-1) -> -3.9431333 | G60: A.Mobile
D61: B | F61: =(LN(Saturation.Mobile/NumberA.Mobile-1)-LN(Saturation.Mobile/NumberB.Mobile-1))/(LN(TimeB.Mobile-Base.Mobile)-LN(TimeA.Mobile-Base.Mobile)) -> 1.368909 | G61: B.Mobile
D63: Usuarios móviles de solo voz | S63: =S$51*S64 -> 39155251 | T63: =T$51*T64 -> 36883322 | U63: =U$51*U64 -> 34050834 | V63: =V$51*V64 -> 30184479 | W63: =W$51*W64 -> 21131615 | X63: =X$51*X64 -> 17003399 | Y63: =Y$51*Y64 -> 14835118 | Z63: =Z$51*Z64 -> 14228178 | ... BP63: =BP$51*BP64 -> 18603314
E64: como % de usuarios móviles | S64: =1-S66 -> 0.58827476 | T64: =1-T66 -> 0.48967188 | U64: =1-U66 -> 0.40934053 | V64: =1-V66 -> 0.33039182 | W64: =1-W66 -> 0.22341967 | X64: =1-X66 -> 0.16880746 | Y64: =1-Y66 -> 0.14128 | Z64: =1-Z66 -> 0.1334415 | ... BP64: =1-BP66 -> 0.11106864
D65: Usuarios móviles de datos | H65: No se excluye la utilización de voz en paralelo con los datos | S65: =S$51*S66 -> 27404211 | T65: =T$51*T66 -> 38439202 | U65: =U$51*U66 -> 49133781 | V65: =V$51*V66 -> 61175165 | W65: =W$51*W66 -> 73450995 | X65: =X$51*X66 -> 83723183 | Y65: =Y$51*Y66 -> 90169963 | Z65: =Z$51*Z66 -> 92396653 | ... BP65: =BP$51*BP66 -> 1.4889054e+08
E66: como % de usuarios móviles | S66: =S$714 -> 0.41172524 | T66: =T$714 -> 0.51032812 | U66: =U$714 -> 0.59065947 | V66: =V$714 -> 0.66960818 | W66: =W$714 -> 0.77658033 | X66: =X$714 -> 0.83119254 | Y66: =Y$714 -> 0.85872 | Z66: =Z$714 -> 0.8665585 | AA66: =AA$714 -> 0.88893136 | AB66: =AA66 -> 0.88893136 | AC66: =AB66 -> 0.88893136 | AD66: =AC66 -> 0.88893136 | AE66: =AD66 -> 0.88893136 | AF66: =AE66 -> 0.88893136 | AG66: =AF66 -> 0.88893136 | AH66: =AG66 -> 0.88893136 | AI66: =AH66 -> 0.88893136 | ... BP66: =BO66 -> 0.88893136 | BQ66: mobile.data.user.proportion
B69: Conexiones de Internet (banda ancha)
C71: Conexiones de banda ancha por tecnología | L71: {=L72:BP72+L73:BP73+L74:BP74+L75:BP75+L76:BP76} -> 111963 | M71: 111070 | N71: 231486 | O71: 428371 | P71: 1055328 | Q71: 1921896 | R71: 3083989 | S71: 4660451 | T71: 8026335 | U71: 10563986 | V71: 19729614 | W71: 30834670 | X71: 44962076 | Y71: 47950559 | Z71: 65413233 | AA71: 78234323 | AB71: 86620147 | AC71: 92813387 | AD71: 97415549 | AE71: 1.009397e+08 | AF71: 1.0375178e+08 | AG71: 1.0609323e+08 | AH71: 1.0757406e+08 | AI71: 1.0900921e+08 | AJ71: 1.1003683e+08 | AK71: 1.1104325e+08 | AL71: 1.1202337e+08 | AM71: 1.1297521e+08 | AN71: 1.1390027e+08 | AO71: 1.148e+08 | AP71: 1.1568012e+08 | AQ71: 1.1654003e+08 | AR71: 1.1737341e+08 | AS71: 1.181803e+08 | AT71: 1.1896196e+08 | AU71: 1.1971865e+08 | AV71: 1.2044903e+08 | AW71: 1.2115221e+08 | AX71: 1.2182851e+08 | AY71: 1.2247882e+08 | AZ71: 1.2310329e+08 | BA71: 1.2370077e+08 | BB71: 1.242705e+08 | BC71: 1.248128e+08 | BD71: 1.2532852e+08 | BE71: 1.2581803e+08 | BF71: 1.2628064e+08 | BG71: 1.2671597e+08 | BH71: 1.271245e+08 | BI71: 1.2749197e+08 | BJ71: 1.2766176e+08 | BK71: 1.2783179e+08 | BL71: 1.2800203e+08 | BM71: 1.2817251e+08 | BN71: 1.2834321e+08 | BO71: 1.2851414e+08 | BP71: 1.286853e+08
D72: {=Data.technologies} -> Fija | I72: Fin de año | J72: # | L72: =SUM(L701:L703) -> 111963 | M72: =SUM(M701:M703) -> 111070 | N72: =SUM(N701:N703) -> 231486 | O72: =SUM(O701:O703) -> 428371 | P72: =SUM(P701:P703) -> 1055328 | Q72: =SUM(Q701:Q703) -> 1921896 | R72: =SUM(R701:R703) -> 3083989 | S72: =SUM(S701:S703) -> 4560451 | ... X72: =SUM(X701:X703) -> 12654992 | Y72: =Y700 -> 13336157 | Z72: =Z700 -> 13960483 | AA72: =AA700 -> 14584809 | AB72: =AB87 -> 15531205 | AC72: =AC87 -> 16439018 | AD72: =AD87 -> 17310168 | AE72: =AE87 -> 18147692 | AF72: =AF87 -> 18952491 | AG72: =AG87 -> 19722850 | AH72: =AH87 -> 20458891 | AI72: =AI87 -> 21163861 | ... BP72: =BP87 -> 26732901
D73: Móvil | I73: Fin de año | J73: # | S73: =S722 -> 100000 | T73: =T722 -> 500000 | U73: =U722 -> 1000000 | V73: =V722 -> 8406608 | W73: =W722 -> 18617150 | X73: =X722 -> 32307085 | Y73: =Y722 -> 34614402 | Z73: =Z722 -> 51452750 | AA73: =AA722 -> 63649514 | AB73: =AB101 -> 71088943 | AC73: =AC101 -> 76374369 | AD73: =AD101 -> 80105381 | AE73: =AE101 -> 82792008 | AF73: =AF101 -> 84799286 | AG73: =AG101 -> 86370383 | AH73: =AH101 -> 87115168 | AI73: =AI101 -> 87845350 | ... BP73: =BP101 -> 1.019524e+08
D74: otras | I74: Fin de año | J74: #
D75: otras | I75: Fin de año | J75: #
D76: otras | I76: Fin de año | J76: #
C78: Penetración por tecnología (viviendas)
D79: {=Data.technologies} -> Fija | I79: Fin de año | J79: # | L79: =L72/L$31 -> 0.0050277705 | M79: =M72/M$31 -> 0.004876655 | N79: =N72/N$31 -> 0.0099423611 | O79: =O72/O$31 -> 0.018006543 | P79: =P72/P$31 -> 0.043435064 | Q79: =Q72/Q$31 -> 0.077484481 | R79: =R72/R$31 -> 0.12192597 | S79: =S72/S$31 -> 0.17686951 | ... BP79: =BP72/BP$31 -> 0.61299966
D80: Móvil | I80: Fin de año | J80: # | L80: =L73/L$30 -> 0 | M80: =M73/M$30 -> 0 | N80: =N73/N$30 -> 0 | O80: =O73/O$30 -> 0 | P80: =P73/P$30 -> 0 | Q80: =Q73/Q$30 -> 0 | R80: =R73/R$30 -> 0 | S80: =S73/S$30 -> 0.00093551803 | ... BP80: =BP73/BP$30 -> 0.68633987
D81: otras | I81: Fin de año | J81: #
D82: otras | I82: Fin de año | J82: #
D83: otras | I83: Fin de año | J83: #
C85: Pronóstico de conexiones de banda ancha fija
D86: Penetración | H86: Hogares | I86: Fin de año | J86: % | L86: =L87/L$31 -> 0.0050277705 | M86: =M87/M$31 -> 0.004876655 | N86: =N87/N$31 -> 0.0099423611 | O86: =O87/O$31 -> 0.018006543 | P86: =P87/P$31 -> 0.043435064 | Q86: =Q87/Q$31 -> 0.077484481 | R86: =R87/R$31 -> 0.12192597 | S86: =S87/S$31 -> 0.17686951 | ... AA86: =AA87/AA$31 -> 0.4839991 | AB86: =AB88 -> 0.50586134 | AC86: =AC88 -> 0.52576986 | AD86: =AD88 -> 0.54389075 | AE86: =AE88 -> 0.56038557 | AF86: =AF88 -> 0.57540736 | AG86: =AG88 -> 0.58909846 | AH86: =AH88 -> 0.60158958 | AI86: =AI88 -> 0.61299966 | AJ86: =AI86 -> 0.61299966 | AK86: =AJ86 -> 0.61299966 | AL86: =AK86 -> 0.61299966 | AM86: =AL86 -> 0.61299966 | AN86: =AM86 -> 0.61299966 | AO86: =AN86 -> 0.61299966 | AP86: =AO86 -> 0.61299966 | AQ86: =AP86 -> 0.61299966 | ... BP86: =BO86 -> 0.61299966
D87: Usuarios | I87: Fin de año | J87: # | L87: =L72 -> 111963 | M87: =M72 -> 111070 | N87: =N72 -> 231486 | O87: =O72 -> 428371 | P87: =P72 -> 1055328 | Q87: =Q72 -> 1921896 | R87: =R72 -> 3083989 | S87: =S72 -> 4560451 | ... AA87: =AA72 -> 14584809 | AB87: =AB24*AB86 -> 15531205 | AC87: =AC24*AC86 -> 16439018 | AD87: =AD24*AD86 -> 17310168 | AE87: =AE24*AE86 -> 18147692 | AF87: =AF24*AF86 -> 18952491 | AG87: =AG24*AG86 -> 19722850 | AH87: =AH24*AH86 -> 20458891 | AI87: =AI24*AI86 -> 21163861 | ... BP87: =BP24*BP86 -> 26732901
D88: scurve forecast | I88: Fin de año | J88: % | L88: =Saturation.Broadband.Fixed/(1+EXP(-A.Broadband.Fixed-B.Broadband.Fixed*LN(L$3-Base.Broadband.Fixed))) -> 0.0050277705 | M88: =Saturation.Broadband.Fixed/(1+EXP(-A.Broadband.Fixed-B.Broadband.Fixed*LN(M$3-Base.Broadband.Fixed))) -> 0.01965467 | N88: =Saturation.Broadband.Fixed/(1+EXP(-A.Broadband.Fixed-B.Broadband.Fixed*LN(N$3-Base.Broadband.Fixed))) -> 0.042780235 | O88: =Saturation.Broadband.Fixed/(1+EXP(-A.Broadband.Fixed-B.Broadband.Fixed*LN(O$3-Base.Broadband.Fixed))) -> 0.07283516 | P88: =Saturation.Broadband.Fixed/(1+EXP(-A.Broadband.Fixed-B.Broadband.Fixed*LN(P$3-Base.Broadband.Fixed))) -> 0.10800867 | Q88: =Saturation.Broadband.Fixed/(1+EXP(-A.Broadband.Fixed-B.Broadband.Fixed*LN(Q$3-Base.Broadband.Fixed))) -> 0.14647829 | R88: =Saturation.Broadband.Fixed/(1+EXP(-A.Broadband.Fixed-B.Broadband.Fixed*LN(R$3-Base.Broadband.Fixed))) -> 0.18658837 | S88: =Saturation.Broadband.Fixed/(1+EXP(-A.Broadband.Fixed-B.Broadband.Fixed*LN(S$3-Base.Broadband.Fixed))) -> 0.22695748 | ... BP88: =Saturation.Broadband.Fixed/(1+EXP(-A.Broadband.Fixed-B.Broadband.Fixed*LN(BP$3-Base.Broadband.Fixed))) -> 0.74389589
D90: Saturation | F90: 0.78 | G90: Saturation.Broadband.Fixed | H90: Estimación Analysys Mason
D91: Base | F91: 1999 | G91: Base.Broadband.Fixed
D92: TimeA | F92: 2000 | G92: TimeA.Broadband.Fixed
D93: NumberA | F93: =INDEX($L$86:$BM$86,MATCH(TimeA.Broadband.Fixed,L$3:BM$3,0)) -> 0.0050277705 | G93: NumberA.Broadband.Fixed
D94: TimeB | F94: 2015 | G94: TimeB.Broadband.Fixed
D95: NumberB | F95: =INDEX($L$86:$BM$86,MATCH(TimeB.Broadband.Fixed,L$3:BM$3,0)) -> 0.4839991 | G95: NumberB.Broadband.Fixed
D96: A | F96: =-B.Broadband.Fixed*LN(TimeB.Broadband.Fixed-Base.Broadband.Fixed)-LN(Saturation.Broadband.Fixed/NumberB.Broadband.Fixed-1) -> -5.0378505 | G96: A.Broadband.Fixed
D97: B | F97: =(LN(Saturation.Broadband.Fixed/NumberA.Broadband.Fixed-1)-LN(Saturation.Broadband.Fixed/NumberB.Broadband.Fixed-1))/(LN(TimeB.Broadband.Fixed-Base.Broadband.Fixed)-LN(TimeA.Broadband.Fixed-Base.Broadband.Fixed)) -> 1.9943712 | G97: B.Broadband.Fixed
C99: Pronóstico de conexiones de banda ancha móvil
D100: Penetración | H100: Población | I100: Fin de año | J100: % | L100: =L101/L$30 -> 1.0258156e-10 | M100: =M101/M$30 -> 0 | N100: =N101/N$30 -> 0 | O100: =O101/O$30 -> 0 | P100: =P101/P$30 -> 0 | Q100: =Q101/Q$30 -> 0 | R100: =R101/R$30 -> 0 | S100: =S101/S$30 -> 0.00093551803 | ... AA100: =AA101/AA$30 -> 0.53552589 | AB100: =AB102 -> 0.59200487 | AC100: =AC102 -> 0.62970667 | AD100: =AD102 -> 0.65411581 | AE100: =AE102 -> 0.66976465 | AF100: =AF102 -> 0.6798204 | AG100: =AG102 -> 0.68633987 | AH100: =AG100 -> 0.68633987 | AI100: =AH100 -> 0.68633987 | AJ100: =AI100 -> 0.68633987 | AK100: =AJ100 -> 0.68633987 | AL100: =AK100 -> 0.68633987 | AM100: =AL100 -> 0.68633987 | AN100: =AM100 -> 0.68633987 | AO100: =AN100 -> 0.68633987 | ... BP100: =BO100 -> 0.68633987
D101: Usuarios | I101: Fin de año | J101: # | L101: 0.01 | M101: =M73 -> 0 | N101: =N73 -> 0 | O101: =O73 -> 0 | P101: =P73 -> 0 | Q101: =Q73 -> 0 | R101: =R73 -> 0 | S101: =S73 -> 100000 | T101: =T73 -> 500000 | ... AA101: =AA73 -> 63649514 | AB101: =AB9*AB100 -> 71088943 | AC101: =AC9*AC100 -> 76374369 | AD101: =AD9*AD100 -> 80105381 | AE101: =AE9*AE100 -> 82792008 | AF101: =AF9*AF100 -> 84799286 | AG101: =AG9*AG100 -> 86370383 | AH101: =AH9*AH100 -> 87115168 | AI101: =AI9*AI100 -> 87845350 | ... BP101: =BP9*BP100 -> 1.019524e+08
D102: scurve forecast | I102: Fin de año | J102: % | L102: =Saturation.Broadband.Mobile/(1+EXP(-A.Broadband.Mobile-B.Broadband.Mobile*LN(L$3-Base.Broadband.Mobile))) -> 1.0258156e-10 | M102: =Saturation.Broadband.Mobile/(1+EXP(-A.Broadband.Mobile-B.Broadband.Mobile*LN(M$3-Base.Broadband.Mobile))) -> 3.960474e-08 | N102: =Saturation.Broadband.Mobile/(1+EXP(-A.Broadband.Mobile-B.Broadband.Mobile*LN(N$3-Base.Broadband.Mobile))) -> 1.2907911e-06 | O102: =Saturation.Broadband.Mobile/(1+EXP(-A.Broadband.Mobile-B.Broadband.Mobile*LN(O$3-Base.Broadband.Mobile))) -> 1.5290287e-05 | P102: =Saturation.Broadband.Mobile/(1+EXP(-A.Broadband.Mobile-B.Broadband.Mobile*LN(P$3-Base.Broadband.Mobile))) -> 0.00010401234 | Q102: =Saturation.Broadband.Mobile/(1+EXP(-A.Broadband.Mobile-B.Broadband.Mobile*LN(Q$3-Base.Broadband.Mobile))) -> 0.00049799573 | R102: =Saturation.Broadband.Mobile/(1+EXP(-A.Broadband.Mobile-B.Broadband.Mobile*LN(R$3-Base.Broadband.Mobile))) -> 0.0018690938 | S102: =Saturation.Broadband.Mobile/(1+EXP(-A.Broadband.Mobile-B.Broadband.Mobile*LN(S$3-Base.Broadband.Mobile))) -> 0.0058540414 | ... BP102: =Saturation.Broadband.Mobile/(1+EXP(-A.Broadband.Mobile-B.Broadband.Mobile*LN(BP$3-Base.Broadband.Mobile))) -> 0.6999961
D104: Saturation | F104: 0.7 | G104: Saturation.Broadband.Mobile | H104: Estimación Analysys Mason
D105: Base | F105: 1999 | G105: Base.Broadband.Mobile
D106: TimeA | F106: 2000 | G106: TimeA.Broadband.Mobile
D107: NumberA | F107: =INDEX($L$100:$BM$100,MATCH(TimeA.Broadband.Mobile,L$3:BM$3,0)) -> 1.0258156e-10 | G107: NumberA.Broadband.Mobile
D108: TimeB | F108: 2015 | G108: TimeB.Broadband.Mobile
D109: NumberB | F109: =INDEX($L$100:$BM$100,MATCH(TimeB.Broadband.Mobile,L$3:BM$3,0)) -> 0.53552589 | G109: NumberB.Broadband.Mobile
D110: A | F110: =-B.Broadband.Mobile*LN(TimeB.Broadband.Mobile-Base.Broadband.Mobile)-LN(Saturation.Broadband.Mobile/NumberB.Broadband.Mobile-1) -> -22.643688 | G110: A.Broadband.Mobile
D111: B | F111: =(LN(Saturation.Broadband.Mobile/NumberA.Broadband.Mobile-1)-LN(Saturation.Broadband.Mobile/NumberB.Broadband.Mobile-1))/(LN(TimeB.Broadband.Mobile-Base.Broadband.Mobile)-LN(TimeA.Broadband.Mobile-Base.Broadband.Mobile)) -> 8.592758 | G111: B.Broadband.Mobile
B113: Conectividad para datos corporativos
C114: Lineas dedicada / circuitos IP/VPN | J114: circuitos E1 | O114: =SUM(O115:O116) -> 17922.355 | P114: =SUM(P115:P116) -> 37287.678 | Q114: =Q119 -> 56153 | R114: =R119 -> 59931 | S114: =S119 -> 86411 | T114: =SUM(T115:T116) -> 90413.33 | U114: =SUM(U115:U116) -> 95928.23 | V114: =SUM(V115:V116) -> 102995.45 | W114: =SUM(W115:W116) -> 112461.07 | X114: =SUM(X115:X116) -> 119939.96 | Y114: =SUM(Y115:Y116) -> 132228.35 | Z114: =SUM(Z115:Z116) -> 154566.26 | AA114: =SUM(AA115:AA116) -> 162968.81 | ... BP114: =SUM(BP115:BP116) -> 186691.62
C115: Lineas dedicada / circuitos IP/VPN para operadores móviles | J115: circuitos E1 | P115: 1000 | Q115: 1500 | R115: 2000 | S115: 3000 | T115: 4500 | U115: =SUM([2]Full_network!K$28:K$31)/cuota_operador_movil_2 -> 7437.5 | V115: =SUM([2]Full_network!L$28:L$31)/cuota_operador_movil_2 -> 11850 | W115: =SUM([2]Full_network!M$28:M$31)/cuota_operador_movil_2 -> 18581.25 | X115: =SUM([2]Full_network!N$28:N$31)/cuota_operador_movil_2 -> 23243.75 | Y115: =SUM([2]Full_network!O$28:O$31)/cuota_operador_movil_2 -> 32631.25 | Z115: =SUM([2]Full_network!P$28:P$31)/cuota_operador_movil_2 -> 51981.25 | AA115: =SUM([2]Full_network!Q$28:Q$31)/cuota_operador_movil_2 -> 57306.25 | AB115: =SUM([2]Full_network!R$28:R$31)/cuota_operador_movil_2 -> 57031.25 | ... BP115: =SUM([2]Full_network!BF$28:BF$31)/cuota_operador_movil_2 -> 60525
C116: Lineas dedicada / circuitos IP/VPN para empresas | J116: circuitos E1 | O116: =O123*O131*O132+O124*O133*O134 -> 17922.355 | P116: =AVERAGE(O116,Q116) -> 36287.678 | Q116: =Q114-Q115 -> 54653 | R116: =R114-R115 -> 57931 | S116: =S114-S115 -> 83411 | T116: =S116*(1+T117) -> 85913.33 | U116: =T116*(1+U117) -> 88490.73 | V116: =U116*(1+V117) -> 91145.452 | W116: =V116*(1+W117) -> 93879.815 | X116: =W116*(1+X117) -> 96696.21 | Y116: =X116*(1+Y117) -> 99597.096 | Z116: =Y116*(1+Z117) -> 102585.01 | AA116: =Z116*(1+AA117) -> 105662.56 | ... BP116: =BO116*(1+BP117) -> 126166.62
E117: Crecimiento | T117: 0.03 | U117: =T117 -> 0.03 | V117: =U117 -> 0.03 | W117: =V117 -> 0.03 | X117: =W117 -> 0.03 | Y117: =X117 -> 0.03 | Z117: =Y117 -> 0.03 | AA117: =Z117 -> 0.03 | AB117: =AA117 -> 0.03 | ... AG117: =AF117 -> 0.03 | AH117: 0 | AI117: =AH117 -> 0 | AJ117: =AI117 -> 0 | AK117: =AJ117 -> 0 | AL117: =AK117 -> 0 | AM117: =AL117 -> 0 | AN117: =AM117 -> 0 | AO117: =AN117 -> 0 | AP117: =AO117 -> 0 | ... BP117: =BO117 -> 0
E119: Número de enlaces (líneas equivalentes a E1) | G119: COFECO Commission federal de competencia | I119: Fin de año | J119: # | Q119: 56153 | R119: 59931 | S119: 86411
E120: Número de enlaces (basado en las empresas) | I120: Fin de año | J120: #
E122: Unidades económicas
E123: Negocios grandes | G123: INEGI Censo economico 2004 | I123: Fin de año | J123: # | O123: 9867.2484 | S123: 9615
E124: Negocios medianos y pequeños | G124: INEGI Censo economico 2004 | I124: Fin de año | J124: # | O124: 208928.26 | S124: 257371
...

Sheet Fijo
D1: Demanda del operador fijo modelado
F3: Período | G3: Unidades | I3: {=TRANSPOSE(Market.Years)} -> 2000 | J3: 2001 | K3: 2002 | L3: 2003 | M3: 2004 | N3: 2005 | O3: 2006 | P3: 2007 | Q3: 2008 | R3: 2009 | S3: 2010 | T3: 2011 | U3: 2012 | V3: 2013 | W3: 2014 | X3: 2015 | Y3: 2016 | Z3: 2017 | AA3: 2018 | AB3: 2019 | AC3: 2020 | AD3: 2021 | AE3: 2022 | AF3: 2023 | AG3: 2024 | AH3: 2025 | AI3: 2026 | AJ3: 2027 | AK3: 2028 | AL3: 2029 | AM3: 2030 | AN3: 2031 | AO3: 2032 | AP3: 2033 | AQ3: 2034 | AR3: 2035 | AS3: 2036 | AT3: 2037 | AU3: 2038 | AV3: 2039 | AW3: 2040 | AX3: 2041 | AY3: 2042 | AZ3: 2043 | BA3: 2044 | BB3: 2045 | BC3: 2046 | BD3: 2047 | BE3: 2048 | BF3: 2049 | BG3: 2050 | BH3: 2051 | BI3: 2052 | BJ3: 2053 | BK3: 2054 | BL3: 2055 | BM3: 2056
A5: 1 | B5: Mercado
B7: Usuarios / Conexiones
C9: Usuarios o conexiones | F9: Año promedio | G9: # | N9: {=Fixed.Connections} -> 0 | O9: 19686662 | P9: 19929601 | Q9: 20272928 | R9: 20099505 | S9: 19895810 | T9: 20068694 | U9: 20292324 | V9: 20225819 | W9: 19504826 | X9: 19446573 | Y9: 19868603 | Z9: 20109630 | AA9: 20347705 | AB9: 20583473 | AC9: 20816998 | AD9: 21046585 | AE9: 21270484 | AF9: 21488898 | AG9: 21701974 | AH9: 21910368 | AI9: 22113731 | AJ9: 22309936 | AK9: 22498935 | AL9: 22682112 | AM9: 22862183 | AN9: 23040131 | AO9: 23212833 | AP9: 23378371 | AQ9: 23537548 | AR9: 23690984 | AS9: 23838363 | AT9: 23978973 | AU9: 24112698 | AV9: 24240000 | AW9: 24361206 | AX9: 24475909 | AY9: 24583416 | AZ9: 24683556 | BA9: 24776687 | BB9: 24863124 | BC9: 24942609 | BD9: 25014634 | BE9: 25079101 | BF9: 25136366 | BG9: 25175875 | BH9: 25201123 | BI9: 25226407 | BJ9: 25251726 | BK9: 25277081 | BL9: 25302473 | BM9: 25327900 | BN9: Market.Subscribers.Fijo
B11: Tráfico anual
T12: =(T13+T14+T15+T16+T17+T18+T19)/T9/12 -> 567.46338
C13: {=Fixed.Retail.Services} -> Llamadas salientes Local on-net | G13: {=Fixed.Retail.Services.Units} -> Minutos | N13: {=Fixed.Retail.Services.Volumes} -> 0 | O13: 1.1567298e+11 | P13: 1.1353795e+11 | Q13: 1.0079371e+11 | R13: 7.8548232e+10 | S13: 6.7516783e+10 | T13: 5.5350034e+10 | U13: 4.6570548e+10 | V13: 4.2090233e+10 | W13: 4.1544855e+10 | X13: 3.4840804e+10 | Y13: 3.0456061e+10 | Z13: 2.6361733e+10 | AA13: 2.2901726e+10 | AB13: 1.9818646e+10 | AC13: 1.7080218e+10 | AD13: 1.4654984e+10 | AE13: 1.2514532e+10 | AF13: 1.0634417e+10 | AG13: 1.0706725e+10 | AH13: 1.081576e+10 | AI13: 1.0922134e+10 | AJ13: 1.1024429e+10 | AK13: 1.1122617e+10 | AL13: 1.1217656e+10 | AM13: 1.13114e+10 | AN13: 1.1404465e+10 | AO13: 1.1494687e+10 | AP13: 1.1580785e+10 | AQ13: 1.1663323e+10 | AR13: 1.1742728e+10 | AS13: 1.1818789e+10 | AT13: 1.1891025e+10 | AU13: 1.1959362e+10 | AV13: 1.2024117e+10 | AW13: 1.208551e+10 | AX13: 1.2143258e+10 | AY13: 1.2196892e+10 | AZ13: 1.2246292e+10 | BA13: 1.2291699e+10 | BB13: 1.233332e+10 | BC13: 1.2370971e+10 | BD13: 1.2404298e+10 | BE13: 1.2433229e+10 | BF13: 1.2458335e+10 | BG13: 1.2475617e+10 | BH13: 1.2486739e+10 | BI13: 1.2497878e+10 | BJ13: 1.2509034e+10 | BK13: 1.2520207e+10 | BL13: 1.2531397e+10 | BM13: 1.2542603e+10
C14: Llamadas salientes Larga Distancia on-net | G14: Minutos | N14: 0 | O14: 2.3925449e+10 | P14: 2.6266035e+10 | Q14: 2.6797769e+10 | R14: 2.3027978e+10 | S14: 2.3779466e+10 | T14: 2.1374356e+10 | U14: 1.9183034e+10 | V14: 2.0343355e+10 | W14: 2.1912178e+10 | X14: 1.8376233e+10 | Y14: 1.6063569e+10 | Z14: 1.390408e+10 | AA14: 1.2079154e+10 | AB14: 1.0453032e+10 | AC14: 9.0086914e+09 | AD14: 7.7295401e+09 | AE14: 6.6005926e+09 | AF14: 5.6089556e+09 | AG14: 5.6470929e+09 | AH14: 5.7046021e+09 | AI14: 5.7607075e+09 | AJ14: 5.8146613e+09 | AK14: 5.8664487e+09 | AL14: 5.9165758e+09 | AM14: 5.9660195e+09 | AN14: 6.015105e+09 | AO14: 6.0626915e+09 | AP14: 6.1081025e+09 | AQ14: 6.1516358e+09 | AR14: 6.1935168e+09 | AS14: 6.2336336e+09 | AT14: 6.2717332e+09 | AU14: 6.307777e+09 | AV14: 6.3419309e+09 | AW14: 6.3743113e+09 | AX14: 6.40477e+09 | AY14: 6.433058e+09 | AZ14: 6.4591133e+09 | BA14: 6.4830625e+09 | BB14: 6.5050149e+09 | BC14: 6.5248735e+09 | BD14: 6.5424514e+09 | BE14: 6.5577103e+09 | BF14: 6.5709524e+09 | BG14: 6.5800671e+09 | BH14: 6.5859335e+09 | BI14: 6.5918087e+09 | BJ14: 6.5976928e+09 | BK14: 6.6035857e+09 | BL14: 6.6094874e+09 | BM14: 6.6153981e+09
C15: Llamadas salientes Local a otros operadores fijos | G15: Minutos | N15: 0 | O15: 0 | P15: 0 | Q15: 0 | R15: 9.8542912e+09 | S15: 1.7091567e+10 | T15: 2.0965234e+10 | U15: 2.298611e+10 | V15: 2.4688506e+10 | W15: 2.4365841e+10 | X15: 1.8759896e+10 | Y15: 1.6398799e+10 | Z15: 1.4194207e+10 | AA15: 1.2331193e+10 | AB15: 1.0671139e+10 | AC15: 9.1966609e+09 | AD15: 7.8908196e+09 | AE15: 6.7383161e+09 | AF15: 5.7259883e+09 | AG15: 5.7649214e+09 | AH15: 5.8236306e+09 | AI15: 5.8809066e+09 | AJ15: 5.9359861e+09 | AK15: 5.9888541e+09 | AL15: 6.0400271e+09 | AM15: 6.0905025e+09 | AN15: 6.1406121e+09 | AO15: 6.1891916e+09 | AP15: 6.2355501e+09 | AQ15: 6.2799917e+09 | AR15: 6.3227466e+09 | AS15: 6.3637004e+09 | AT15: 6.402595e+09 | AU15: 6.4393908e+09 | AV15: 6.4742574e+09 | AW15: 6.5073135e+09 | AX15: 6.5384076e+09 | AY15: 6.5672859e+09 | AZ15: 6.5938849e+09 | BA15: 6.6183337e+09 | BB15: 6.6407442e+09 | BC15: 6.6610171e+09 | BD15: 6.6789618e+09 | BE15: 6.6945391e+09 | BF15: 6.7080575e+09 | BG15: 6.7173624e+09 | BH15: 6.7233512e+09 | BI15: 6.729349e+09 | BJ15: 6.7353558e+09 | BK15: 6.7413717e+09 | BL15: 6.7473966e+09 | BM15: 6.7534305e+09
C16: Llamadas salientes larga Distancia a otros operadores fijos | G16: Minutos | N16: 0 | O16: 0 | P16: 0 | Q16: 0 | R16: 2.8889816e+09 | S16: 6.0196638e+09 | T16: 8.0960814e+09 | U16: 9.4682876e+09 | V16: 1.1932627e+10 | W16: 1.2851378e+10 | X16: 1.2450616e+10 | Y16: 1.0883597e+10 | Z16: 9.4204482e+09 | AA16: 8.1839981e+09 | AB16: 7.0822492e+09 | AC16: 6.1036636e+09 | AD16: 5.2369995e+09 | AE16: 4.472103e+09 | AF16: 3.8002387e+09 | AG16: 3.8260779e+09 | AH16: 3.8650422e+09 | AI16: 3.9030552e+09 | AJ16: 3.9396106e+09 | AK16: 3.9746982e+09 | AL16: 4.0086607e+09 | AM16: 4.0421604e+09 | AN16: 4.0754173e+09 | AO16: 4.1076586e+09 | AP16: 4.1384259e+09 | AQ16: 4.1679211e+09 | AR16: 4.1962968e+09 | AS16: 4.2234771e+09 | AT16: 4.2492908e+09 | AU16: 4.2737115e+09 | AV16: 4.2968518e+09 | AW16: 4.3187906e+09 | AX16: 4.3394272e+09 | AY16: 4.3585932e+09 | AZ16: 4.3762465e+09 | BA16: 4.3924728e+09 | BB16: 4.4073463e+09 | BC16: 4.420801e+09 | BD16: 4.4327106e+09 | BE16: 4.443049e+09 | BF16: 4.4520209e+09 | BG16: 4.4581964e+09 | BH16: 4.4621711e+09 | BI16: 4.4661517e+09 | BJ16: 4.4701383e+09 | BK16: 4.474131e+09 | BL16: 4.4781296e+09 | BM16: 4.4821342e+09
C17: Llamadas salientes a móvil | G17: Minutos | N17: 0 | O17: 1.2135199e+10 | P17: 1.3160493e+10 | Q17: 1.7932156e+10 | R17: 1.8923372e+10 | S17: 1.7879578e+10 | T17: 2.0405739e+10 | U17: 1.8324557e+10 | V17: 1.2135352e+10 | W17: 1.2627124e+10 | X17: 1.3691539e+10 | Y17: 1.4030482e+10 | Z17: 1.4451844e+10 | AA17: 1.4739743e+10 | AB17: 1.4935432e+10 | AC17: 1.5036074e+10 | AD17: 1.5040291e+10 | AE17: 1.4948142e+10 | AF17: 1.4761552e+10 | AG17: 1.4988228e+10 | AH17: 1.511707e+10 | AI17: 1.5242873e+10 | AJ17: 1.5365061e+10 | AK17: 1.548361e+10 | AL17: 1.5598805e+10 | AM17: 1.5711282e+10 | AN17: 1.5821402e+10 | AO17: 1.5928513e+10 | AP17: 1.6032107e+10 | AQ17: 1.6132328e+10 | AR17: 1.6229315e+10 | AS17: 1.6322982e+10 | AT17: 1.6413149e+10 | AU17: 1.6499775e+10 | AV17: 1.6582968e+10 | AW17: 1.6662813e+10 | AX17: 1.6739221e+10 | AY17: 1.681203e+10 | AZ17: 1.6881201e+10 | BA17: 1.6946827e+10 | BB17: 1.7009002e+10 | BC17: 1.7067686e+10 | BD17: 1.7122775e+10 | BE17: 1.7174265e+10 | BF17: 1.7221435e+10 | BG17: 1.7254079e+10 | BH17: 1.7274747e+10 | BI17: 1.7295443e+10 | BJ17: 1.7316166e+10 | BK17: 1.7336916e+10 | BL17: 1.7357692e+10 | BM17: 1.7378496e+10
C18: Llamadas salientes a internacional | G18: Minutos | N18: 0 | O18: 2.5169528e+09 | P18: 2.8045252e+09 | Q18: 3.1738721e+09 | R18: 3.0961563e+09 | S18: 4.3572379e+09 | T18: 1.0057563e+10 | U18: 3.1113277e+09 | V18: 3.2716693e+09 | W18: 3.4402742e+09 | X18: 3.2764504e+09 | Y18: 2.9329549e+09 | Z18: 2.6157187e+09 | AA18: 2.3453557e+09 | AB18: 2.1024141e+09 | AC18: 1.8841871e+09 | AD18: 1.6880834e+09 | AE18: 1.5118056e+09 | AF18: 1.3534401e+09 | AG18: 1.3668604e+09 | AH18: 1.3799857e+09 | AI18: 1.3927941e+09 | AJ18: 1.4051518e+09 | AK18: 1.4170555e+09 | AL18: 1.4285926e+09 | AM18: 1.439934e+09 | AN18: 1.4511418e+09 | AO18: 1.4620191e+09 | AP18: 1.4724453e+09 | AQ18: 1.4824707e+09 | AR18: 1.4921346e+09 | AS18: 1.501417e+09 | AT18: 1.5102731e+09 | AU18: 1.5186955e+09 | AV18: 1.5267134e+09 | AW18: 1.5343474e+09 | AX18: 1.5415717e+09 | AY18: 1.5483429e+09 | AZ18: 1.55465e+09 | BA18: 1.5605157e+09 | BB18: 1.5659597e+09 | BC18: 1.570966e+09 | BD18: 1.5755023e+09 | BE18: 1.5795627e+09 | BF18: 1.5831694e+09 | BG18: 1.5856578e+09 | BH18: 1.587248e+09 | BI18: 1.5888405e+09 | BJ18: 1.5904352e+09 | BK18: 1.5920321e+09 | BL18: 1.5936314e+09 | BM18: 1.5952329e+09
C19: Llamadas salientes a números no geográficos | G19: Minutos | N19: 0 | O19: 4.6414417e+08 | P19: 4.6871314e+08 | Q19: 4.4743483e+08 | R19: 4.1024778e+08 | S19: 4.1116639e+08 | T19: 4.0997695e+08 | U19: 3.6001163e+08 | V19: 3.4441848e+08 | W19: 3.5127879e+08 | X19: 3.0510192e+08 | Y19: 2.7311573e+08 | Z19: 2.4357482e+08 | AA19: 2.1839871e+08 | AB19: 1.9577607e+08 | AC19: 1.7545485e+08 | AD19: 1.5719373e+08 | AE19: 1.4077881e+08 | AF19: 1.2603187e+08 | AG19: 1.2728156e+08 | AH19: 1.2850378e+08 | AI19: 1.296965e+08 | AJ19: 1.3084724e+08 | AK19: 1.3195572e+08 | AL19: 1.3303004e+08 | AM19: 1.3408615e+08 | AN19: 1.3512982e+08 | AO19: 1.3614271e+08 | AP19: 1.3711359e+08 | AQ19: 1.3804715e+08 | AR19: 1.3894705e+08 | AS19: 1.3981143e+08 | AT19: 1.406361e+08 | AU19: 1.414204e+08 | AV19: 1.4216702e+08 | AW19: 1.4287789e+08 | AX19: 1.4355062e+08 | AY19: 1.4418115e+08 | AZ19: 1.4476847e+08 | BA19: 1.4531467e+08 | BB19: 1.4582163e+08 | BC19: 1.4628781e+08 | BD19: 1.4671023e+08 | BE19: 1.4708833e+08 | BF19: 1.4742418e+08 | BG19: 1.4765591e+08 | BH19: 1.4780398e+08 | BI19: 1.4795227e+08 | BJ19: 1.4810077e+08 | BK19: 1.4824948e+08 | BL19: 1.483984e+08 | BM19: 1.4854753e+08
C20: Fixed Service8 | G20: Fixed Unit8 | N20: 0 | O20: 0 | P20: 0 | Q20: 0 | R20: 0 | S20: 0 | T20: 0 | U20: 0 | V20: 0 | W20: 0 | X20: 0 | Y20: 0 | Z20: 0 | AA20: 0 | AB20: 0 | AC20: 0 | AD20: 0 | AE20: 0 | AF20: 0 | AG20: 0 | AH20: 0 | AI20: 0 | AJ20: 0 | AK20: 0 | AL20: 0 | AM20: 0 | AN20: 0 | AO20: 0 | AP20: 0 | AQ20: 0 | AR20: 0 | AS20: 0 | AT20: 0 | AU20: 0 | AV20: 0 | AW20: 0 | AX20: 0 | AY20: 0 | AZ20: 0 | BA20: 0 | BB20: 0 | BC20: 0 | BD20: 0 | BE20: 0 | BF20: 0 | BG20: 0 | BH20: 0 | BI20: 0 | BJ20: 0 | BK20: 0 | BL20: 0 | BM20: 0
C21: Llamadas entrantes Local de otros operadores fijos | G21: Minutos | N21: 0 | O21: 0 | P21: 0 | Q21: 0 | R21: 9.8542912e+09 | S21: 1.7091567e+10 | T21: 2.0965234e+10 | U21: 2.298611e+10 | V21: 2.4688506e+10 | W21: 2.4365841e+10 | X21: 1.8759896e+10 | Y21: 1.6398799e+10 | Z21: 1.4194207e+10 | AA21: 1.2331193e+10 | AB21: 1.0671139e+10 | AC21: 9.1966609e+09 | AD21: 7.8908196e+09 | AE21: 6.7383161e+09 | AF21: 5.7259883e+09 | AG21: 5.7649214e+09 | AH21: 5.8236306e+09 | AI21: 5.8809066e+09 | AJ21: 5.9359861e+09 | AK21: 5.9888541e+09 | AL21: 6.0400271e+09 | AM21: 6.0905025e+09 | AN21: 6.1406121e+09 | AO21: 6.1891916e+09 | AP21: 6.2355501e+09 | AQ21: 6.2799917e+09 | AR21: 6.3227466e+09 | AS21: 6.3637004e+09 | AT21: 6.402595e+09 | AU21: 6.4393908e+09 | AV21: 6.4742574e+09 | AW21: 6.5073135e+09 | AX21: 6.5384076e+09 | AY21: 6.5672859e+09 | AZ21: 6.5938849e+09 | BA21: 6.6183337e+09 | BB21: 6.6407442e+09 | BC21: 6.6610171e+09 | BD21: 6.6789618e+09 | BE21: 6.6945391e+09 | BF21: 6.7080575e+09 | BG21: 6.7173624e+09 | BH21: 6.7233512e+09 | BI21: 6.729349e+09 | BJ21: 6.7353558e+09 | BK21: 6.7413717e+09 | BL21: 6.7473966e+09 | BM21: 6.7534305e+09
C22: Llamadas entrantes Larga Distancia de otros operadores fijos | G22: Minutos | N22: 0 | O22: 0 | P22: 0 | Q22: 0 | R22: 2.8889816e+09 | S22: 6.0196638e+09 | T22: 8.0960814e+09 | U22: 9.4682876e+09 | V22: 1.1932627e+10 | W22: 1.2851378e+10 | X22: 1.2450616e+10 | Y22: 1.0883597e+10 | Z22: 9.4204482e+09 | AA22: 8.1839981e+09 | AB22: 7.0822492e+09 | AC22: 6.1036636e+09 | AD22: 5.2369995e+09 | AE22: 4.472103e+09 | AF22: 3.8002387e+09 | AG22: 3.8260779e+09 | AH22: 3.8650422e+09 | AI22: 3.9030552e+09 | AJ22: 3.9396106e+09 | AK22: 3.9746982e+09 | AL22: 4.0086607e+09 | AM22: 4.0421604e+09 | AN22: 4.0754173e+09 | AO22: 4.1076586e+09 | AP22: 4.1384259e+09 | AQ22: 4.1679211e+09 | AR22: 4.1962968e+09 | AS22: 4.2234771e+09 | AT22: 4.2492908e+09 | AU22: 4.2737115e+09 | AV22: 4.2968518e+09 | AW22: 4.3187906e+09 | AX22: 4.3394272e+09 | AY22: 4.3585932e+09 | AZ22: 4.3762465e+09 | BA22: 4.3924728e+09 | BB22: 4.4073463e+09 | BC22: 4.420801e+09 | BD22: 4.4327106e+09 | BE22: 4.443049e+09 | BF22: 4.4520209e+09 | BG22: 4.4581964e+09 | BH22: 4.4621711e+09 | BI22: 4.4661517e+09 | BJ22: 4.4701383e+09 | BK22: 4.474131e+09 | BL22: 4.4781296e+09 | BM22: 4.4821342e+09
C23: Llamadas entrantes de móvil | G23: Minutos | N23: 0 | O23: 2.7926258e+09 | P23: 4.5731047e+09 | Q23: 8.4662262e+09 | R23: 1.4779048e+10 | S23: 6.1266102e+09 | T23: 7.2024923e+09 | U23: 8.4994408e+09 | V23: 7.1209111e+09 | W23: 6.8559971e+09 | X23: 6.8968421e+09 | Y23: 7.2374951e+09 | Z23: 7.6811243e+09 | AA23: 8.0856505e+09 | AB23: 8.4868524e+09 | AC23: 8.8848413e+09 | AD23: 9.2800298e+09 | AE23: 9.6728211e+09 | AF23: 1.0063336e+10 | AG23: 1.0249494e+10 | AH23: 1.0331652e+10 | AI23: 1.041192e+10 | AJ23: 1.0490254e+10 | AK23: 1.0566635e+10 | AL23: 1.0640994e+10 | AM23: 1.071328e+10 | AN23: 1.0783619e+10 | AO23: 1.0852148e+10 | AP23: 1.0918836e+10 | AQ23: 1.0983619e+10 | AR23: 1.1046477e+10 | AS23: 1.1107402e+10 | AT23: 1.1166388e+10 | AU23: 1.1223423e+10 | AV23: 1.1278496e+10 | AW23: 1.1331611e+10 | AX23: 1.1382781e+10 | AY23: 1.1432014e+10 | AZ23: 1.1479315e+10 | BA23: 1.1524689e+10 | BB23: 1.1568153e+10 | BC23: 1.1609733e+10 | BD23: 1.1649455e+10 | BE23: 1.1687341e+10 | BF23: 1.1722529e+10 | BG23: 1.1746915e+10 | BH23: 1.1762295e+10 | BI23: 1.1777695e+10 | BJ23: 1.1793115e+10 | BK23: 1.1808555e+10 | BL23: 1.1824015e+10 | BM23: 1.1839496e+10
C24: Llamadas entrantes de internacional | G24: Minutos | N24: 0 | O24: 1.7611514e+10 | P24: 1.6712194e+10 | Q24: 1.4959565e+10 | R24: 1.4228292e+10 | S24: 1.5578675e+10 | T24: 1.9166576e+10 | U24: 2.3793576e+10 | V24: 2.6182005e+10 | W24: 2.8789554e+10 | X24: 2.7020295e+10 | Y24: 2.4954462e+10 | Z24: 2.2672254e+10 | AA24: 2.0258682e+10 | AB24: 1.7798166e+10 | AC24: 1.536952e+10 | AD24: 1.3041731e+10 | AE24: 1.0870871e+10 | AF24: 8.8982986e+09 | AG24: 8.8982986e+09 | AH24: 8.8982986e+09 | AI24: 8.8982986e+09 | AJ24: 8.8982986e+09 | AK24: 8.8982986e+09 | AL24: 8.8982986e+09 | AM24: 8.8982986e+09 | AN24: 8.8982986e+09 | AO24: 8.8982986e+09 | AP24: 8.8982986e+09 | AQ24: 8.8982986e+09 | AR24: 8.8982986e+09 | AS24: 8.8982986e+09 | AT24: 8.8982986e+09 | AU24: 8.8982986e+09 | AV24: 8.8982986e+09 | AW24: 8.8982986e+09 | AX24: 8.8982986e+09 | AY24: 8.8982986e+09 | AZ24: 8.8982986e+09 | BA24: 8.8982986e+09 | BB24: 8.8982986e+09 | BC24: 8.8982986e+09 | BD24: 8.8982986e+09 | BE24: 8.8982986e+09 | BF24: 8.8982986e+09 | BG24: 8.8982986e+09 | BH24: 8.8982986e+09 | BI24: 8.8982986e+09 | BJ24: 8.8982986e+09 | BK24: 8.8982986e+09 | BL24: 8.8982986e+09 | BM24: 8.8982986e+09
C25: Llamadas entrantes de números no geográficos | G25: Minutos | N25: 0 | O25: 0 | P25: 0 | Q25: 0 | R25: 0 | S25: 0 | T25: 0 | U25: 0 | V25: 0 | W25: 0 | X25: 0 | Y25: 0 | Z25: 0 | AA25: 0 | AB25: 0 | AC25: 0 | AD25: 0 | AE25: 0 | AF25: 0 | AG25: 0 | AH25: 0 | AI25: 0 | AJ25: 0 | AK25: 0 | AL25: 0 | AM25: 0 | AN25: 0 | AO25: 0 | AP25: 0 | AQ25: 0 | AR25: 0 | AS25: 0 | AT25: 0 | AU25: 0 | AV25: 0 | AW25: 0 | AX25: 0 | AY25: 0 | AZ25: 0 | BA25: 0 | BB25: 0 | BC25: 0 | BD25: 0 | BE25: 0 | BF25: 0 | BG25: 0 | BH25: 0 | BI25: 0 | BJ25: 0 | BK25: 0 | BL25: 0 | BM25: 0
... C42: Televisión | G42: # | N42: 0 | O42: 3972572 | P42: 4339398 | Q42: 4836069 | R42: 5061919 | S42: 5384040 | T42: 5668893 | U42: 5987513 | V42: 6715720 | W42: 6344338 | X42: 7255572 | Y42: 7597181.9 | Z42: 7955644.6 | AA42: 8287888.9 | AB42: 8596658.4 | AC42: 8883786.7 | AD42: 9149903.6 | AE42: 9294296.3 | AF42: 9435597.6 | AG42: 9574969.8 | AH42: 9712015.5 | AI42: 9844713.9 | AJ42: 9972266.7 | AK42: 10095406 | AL42: 10215236 | AM42: 10334255 | AN42: 10451271 | AO42: 10563331 | AP42: 10670844 | AQ42: 10774465 | AR42: 10874365 | AS42: 10969952 | AT42: 11060873 | AU42: 11147328 | AV42: 11229728 | AW42: 11308098 | AX42: 11381873 | AY42: 11450698 | AZ42: 11514700 | BA42: 11574228 | BB42: 11629352 | BC42: 11679660 | BD42: 11724887 | BE42: 11765170 | BF42: 11800844 | BG42: 11817576 | BH42: 11834333 | BI42: 11851113 | BJ42: 11867917 | BK42: 11884745 | BL42: 11901597 | BM42: 11918472
BN43: Market.Retail.Services.Volumes.Fijo
A44: 2 | B44: Demanda del operador modelado
B46: Cuota de mercado
C48: De usuarios fijos | N48: {=Fixed.operator.market.share} -> 0 | O48: 0 | P48: 0 | Q48: 0 | R48: 0.072 | S48: 0.144 | T48: 0.216 | U48: 0.288 | V48: 0.36 | W48: 0.36 | X48: 0.36 | Y48: 0.36 | Z48: 0.36 | AA48: 0.36 | AB48: 0.36 | AC48: 0.36 | AD48: 0.36 | AE48: 0.36 | AF48: 0.36 | AG48: 0.36 | AH48: 0.36 | AI48: 0.36 | AJ48: 0.36 | AK48: 0.36 | AL48: 0.36 | AM48: 0.36 | AN48: 0.36 | AO48: 0.36 | AP48: 0.36 | AQ48: 0.36 | AR48: 0.36 | AS48: 0.36 | AT48: 0.36 | AU48: 0.36 | AV48: 0.36 | AW48: 0.36 | AX48: 0.36 | AY48: 0.36 | AZ48: 0.36 | BA48: 0.36 | BB48: 0.36 | BC48: 0.36 | BD48: 0.36 | BE48: 0.36 | BF48: 0.36 | BG48: 0.36 | BH48: 0.36 | BI48: 0.36 | BJ48: 0.36 | BK48: 0.36 | BL48: 0.36 | BM48: 0.36 | BN48: Operator.Subscribers.Share
B50: Usuarios / Conexiones
N51: =N9*N48 -> 0 | O51: =O9*O48 -> 0 | P51: =P9*P48 -> 0 | Q51: =Q9*Q48 -> 0 | R51: =R9*R48 -> 1447164.4 | S51: =S9*S48 -> 2864996.6 | T51: =T9*T48 -> 4334837.8 | U51: =U9*U48 -> 5844189.3 | ... BM51: =BM9*BM48 -> 9118044.1 | BN51: Operator.Subscribers
B53: Tráfico anual
C55: {=Fixed.Retail.Services} -> Llamadas salientes Local on-net | G55: {=Fixed.Retail.Services.Units} -> Minutos | N55: =N13*N$48 -> 0 | O55: =O13*O$48 -> 0 | P55: =P13*P$48 -> 0 | Q55: =Q13*Q$48 -> 0 | R55: =R13*R$48 -> 5.6554727e+09 | S55: =S13*S$48 -> 9.7224167e+09 | T55: =T13*T$48 -> 1.1955607e+10 | U55: =U13*U$48 -> 1.3412318e+10 | ... BM55: =BM13*BM$48 -> 4.5153371e+09
C56: Llamadas salientes Larga Distancia on-net | G56: Minutos | N56: =N14*N$48 -> 0 | O56: =O14*O$48 -> 0 | P56: =P14*P$48 -> 0 | Q56: =Q14*Q$48 -> 0 | R56: =R14*R$48 -> 1.6580144e+09 | S56: =S14*S$48 -> 3.4242432e+09 | T56: =T14*T$48 -> 4.6168609e+09 | U56: =U14*U$48 -> 5.5247139e+09 | ... BM56: =BM14*BM$48 -> 2.3815433e+09
C57: Llamadas salientes Local a otros operadores fijos | G57: Minutos | N57: =N15*N$48 -> 0 | O57: =O15*O$48 -> 0 | P57: =P15*P$48 -> 0 | Q57: =Q15*Q$48 -> 0 | R57: =R15*R$48 -> 7.0950897e+08 | S57: =S15*S$48 -> 2.4611856e+09 | T57: =T15*T$48 -> 4.5284906e+09 | U57: =U15*U$48 -> 6.6199997e+09 | ... BM57: =BM15*BM$48 -> 2.431235e+09
C58: Llamadas salientes larga Distancia a otros operadores fijos | G58: Minutos | N58: =N16*N$48 -> 0 | O58: =O16*O$48 -> 0 | P58: =P16*P$48 -> 0 | Q58: =Q16*Q$48 -> 0 | R58: =R16*R$48 -> 2.0800668e+08 | S58: =S16*S$48 -> 8.6683159e+08 | T58: =T16*T$48 -> 1.7487536e+09 | U58: =U16*U$48 -> 2.7268668e+09 | ... BM58: =BM16*BM$48 -> 1.6135683e+09
C59: Llamadas salientes a móvil | G59: Minutos | N59: =N17*N$48 -> 0 | O59: =O17*O$48 -> 0 | P59: =P17*P$48 -> 0 | Q59: =Q17*Q$48 -> 0 | R59: =R17*R$48 -> 1.3624828e+09 | S59: =S17*S$48 -> 2.5746593e+09 | T59: =T17*T$48 -> 4.4076395e+09 | U59: =U17*U$48 -> 5.2774724e+09 | ... BM59: =BM17*BM$48 -> 6.2562587e+09
C60: Llamadas salientes a internacional | G60: Minutos | N60: =N18*N$48 -> 0 | O60: =O18*O$48 -> 0 | P60: =P18*P$48 -> 0 | Q60: =Q18*Q$48 -> 0 | R60: =R18*R$48 -> 2.2292326e+08 | S60: =S18*S$48 -> 6.2744226e+08 | T60: =T18*T$48 -> 2.1724335e+09 | U60: =U18*U$48 -> 8.9606236e+08 | ... BM60: =BM18*BM$48 -> 5.7428383e+08
C61: Llamadas salientes a números no geográficos | G61: Minutos | N61: =N19*N$48 -> 0 | O61: =O19*O$48 -> 0 | P61: =P19*P$48 -> 0 | Q61: =Q19*Q$48 -> 0 | R61: =R19*R$48 -> 29537840 | S61: =S19*S$48 -> 59207960 | T61: =T19*T$48 -> 88555022 | U61: =U19*U$48 -> 1.0368335e+08 | ... BM61: =BM19*BM$48 -> 53477110
C62: Fixed Service8 | G62: Fixed Unit8 | N62: =N20*N$48 -> 0 | O62: =O20*O$48 -> 0 | P62: =P20*P$48 -> 0 | Q62: =Q20*Q$48 -> 0 | R62: =R20*R$48 -> 0 | S62: =S20*S$48 -> 0 | T62: =T20*T$48 -> 0 | U62: =U20*U$48 -> 0 | ... BM62: =BM20*BM$48 -> 0
C63: Llamadas entrantes Local de otros operadores fijos | G63: Minutos | N63: =N21*N$48 -> 0 | O63: =O21*O$48 -> 0 | P63: =P21*P$48 -> 0 | Q63: =Q21*Q$48 -> 0 | R63: =R21*R$48 -> 7.0950897e+08 | S63: =S21*S$48 -> 2.4611856e+09 | T63: =T21*T$48 -> 4.5284906e+09 | U63: =U21*U$48 -> 6.6199997e+09 | ... BM63: =BM21*BM$48 -> 2.431235e+09
C64: Llamadas entrantes Larga Distancia de otros operadores fijos | G64: Minutos | N64: =N22*N$48 -> 0 | O64: =O22*O$48 -> 0 | P64: =P22*P$48 -> 0 | Q64: =Q22*Q$48 -> 0 | R64: =R22*R$48 -> 2.0800668e+08 | S64: =S22*S$48 -> 8.6683159e+08 | T64: =T22*T$48 -> 1.7487536e+09 | U64: =U22*U$48 -> 2.7268668e+09 | ... BM64: =BM22*BM$48 -> 1.6135683e+09
C65: Llamadas entrantes de móvil | G65: Minutos | N65: =N23*N$48 -> 0 | O65: =O23*O$48 -> 0 | P65: =P23*P$48 -> 0 | Q65: =Q23*Q$48 -> 0 | R65: =R23*R$48 -> 1.0640914e+09 | S65: =S23*S$48 -> 8.8223186e+08 | T65: =T23*T$48 -> 1.5557383e+09 | U65: =U23*U$48 -> 2.4478389e+09 | ... BM65: =BM23*BM$48 -> 4.2622186e+09
C66: Llamadas entrantes de internacional | G66: Minutos | N66: =N24*N$48 -> 0 | O66: =O24*O$48 -> 0 | P66: =P24*P$48 -> 0 | Q66: =Q24*Q$48 -> 0 | R66: =R24*R$48 -> 1.024437e+09 | S66: =S24*S$48 -> 2.2433291e+09 | T66: =T24*T$48 -> 4.1399805e+09 | U66: =U24*U$48 -> 6.85255e+09 | ... BM66: =BM24*BM$48 -> 3.2033875e+09
C67: Llamadas entrantes de números no geográficos | G67: Minutos | N67: =N25*N$48 -> 0 | O67: =O25*O$48 -> 0 | P67: =P25*P$48 -> 0 | Q67: =Q25*Q$48 -> 0 | R67: =R25*R$48 -> 0 | S67: =S25*S$48 -> 0 | T67: =T25*T$48 -> 0 | U67: =U25*U$48 -> 0 | ... BM67: =BM25*BM$48 -> 0
... C84: Televisión | G84: # | N84: =N42*N$48 -> 0 | O84: =O42*O$48 -> 0 | P84: =P42*P$48 -> 0 | Q84: =Q42*Q$48 -> 0 | R84: =R42*R$48 -> 364458.17 | S84: =S42*S$48 -> 775301.76 | T84: =T42*T$48 -> 1224480.9 | U84: =U42*U$48 -> 1724403.7 | ... BM84: =BM42*BM$48 -> 4290650
BN85: Operator.Retail.Services.Volumes
A88: 3 | B88: Demanda del operador modelado
B90: Proporción de tráfico urbano
C92: {=Fixed.Retail.Services} -> Llamadas salientes Local on-net | G92: % | N92: {=Market.Retail.Services.Proporcion.Urbano} -> 0.995 | O92: 0.995 | P92: 0.995 | Q92: 0.995 | R92: 0.995 | S92: 0.995 | T92: 0.995 | U92: 0.995 | V92: 0.995 | W92: 0.995 | X92: 0.995 | Y92: 0.995 | Z92: 0.995 | AA92: 0.995 | AB92: 0.995 | AC92: 0.995 | AD92: 0.995 | AE92: 0.995 | AF92: 0.995 | AG92: 0.995 | AH92: 0.995 | AI92: 0.995 | AJ92: 0.995 | AK92: 0.995 | AL92: 0.995 | AM92: 0.995 | AN92: 0.995 | AO92: 0.995 | AP92: 0.995 | AQ92: 0.995 | AR92: 0.995 | AS92: 0.995 | AT92: 0.995 | AU92: 0.995 | AV92: 0.995 | AW92: 0.995 | AX92: 0.995 | AY92: 0.995 | AZ92: 0.995 | BA92: 0.995 | BB92: 0.995 | BC92: 0.995 | BD92: 0.995 | BE92: 0.995 | BF92: 0.995 | BG92: 0.995 | BH92: 0.995 | BI92: 0.995 | BJ92: 0.995 | BK92: 0.995 | BL92: 0.995 | BM92: 0.995
C93: Llamadas salientes Larga Distancia on-net | G93: % | N93: 0.995 | O93: 0.995 | P93: 0.995 | Q93: 0.995 | R93: 0.995 | S93: 0.995 | T93: 0.995 | U93: 0.995 | V93: 0.995 | W93: 0.995 | X93: 0.995 | Y93: 0.995 | Z93: 0.995 | AA93: 0.995 | AB93: 0.995 | AC93: 0.995 | AD93: 0.995 | AE93: 0.995 | AF93: 0.995 | AG93: 0.995 | AH93: 0.995 | AI93: 0.995 | AJ93: 0.995 | AK93: 0.995 | AL93: 0.995 | AM93: 0.995 | AN93: 0.995 | AO93: 0.995 | AP93: 0.995 | AQ93: 0.995 | AR93: 0.995 | AS93: 0.995 | AT93: 0.995 | AU93: 0.995 | AV93: 0.995 | AW93: 0.995 | AX93: 0.995 | AY93: 0.995 | AZ93: 0.995 | BA93: 0.995 | BB93: 0.995 | BC93: 0.995 | BD93: 0.995 | BE93: 0.995 | BF93: 0.995 | BG93: 0.995 | BH93: 0.995 | BI93: 0.995 | BJ93: 0.995 | BK93: 0.995 | BL93: 0.995 | BM93: 0.995
C94: Llamadas salientes Local a otros operadores fijos | G94: % | N94: 0.995 | O94: 0.995 | P94: 0.995 | Q94: 0.995 | R94: 0.995 | S94: 0.995 | T94: 0.995 | U94: 0.995 | V94: 0.995 | W94: 0.995 | X94: 0.995 | Y94: 0.995 | Z94: 0.995 | AA94: 0.995 | AB94: 0.995 | AC94: 0.995 | AD94: 0.995 | AE94: 0.995 | AF94: 0.995 | AG94: 0.995 | AH94: 0.995 | AI94: 0.995 | AJ94: 0.995 | AK94: 0.995 | AL94: 0.995 | AM94: 0.995 | AN94: 0.995 | AO94: 0.995 | AP94: 0.995 | AQ94: 0.995 | AR94: 0.995 | AS94: 0.995 | AT94: 0.995 | AU94: 0.995 | AV94: 0.995 | AW94: 0.995 | AX94: 0.995 | AY94: 0.995 | AZ94: 0.995 | BA94: 0.995 | BB94: 0.995 | BC94: 0.995 | BD94: 0.995 | BE94: 0.995 | BF94: 0.995 | BG94: 0.995 | BH94: 0.995 | BI94: 0.995 | BJ94: 0.995 | BK94: 0.995 | BL94: 0.995 | BM94: 0.995
C95: Llamadas salientes larga Distancia a otros operadores fijos | G95: % | N95: 0.995 | O95: 0.995 | P95: 0.995 | Q95: 0.995 | R95: 0.995 | S95: 0.995 | T95: 0.995 | U95: 0.995 | V95: 0.995 | W95: 0.995 | X95: 0.995 | Y95: 0.995 | Z95: 0.995 | AA95: 0.995 | AB95: 0.995 | AC95: 0.995 | AD95: 0.995 | AE95: 0.995 | AF95: 0.995 | AG95: 0.995 | AH95: 0.995 | AI95: 0.995 | AJ95: 0.995 | AK95: 0.995 | AL95: 0.995 | AM95: 0.995 | AN95: 0.995 | AO95: 0.995 | AP95: 0.995 | AQ95: 0.995 | AR95: 0.995 | AS95: 0.995 | AT95: 0.995 | AU95: 0.995 | AV95: 0.995 | AW95: 0.995 | AX95: 0.995 | AY95: 0.995 | AZ95: 0.995 | BA95: 0.995 | BB95: 0.995 | BC95: 0.995 | BD95: 0.995 | BE95: 0.995 | BF95: 0.995 | BG95: 0.995 | BH95: 0.995 | BI95: 0.995 | BJ95: 0.995 | BK95: 0.995 | BL95: 0.995 | BM95: 0.995
C96: Llamadas salientes a móvil | G96: % | N96: 0.995 | O96: 0.995 | P96: 0.995 | Q96: 0.995 | R96: 0.995 | S96: 0.995 | T96: 0.995 | U96: 0.995 | V96: 0.995 | W96: 0.995 | X96: 0.995 | Y96: 0.995 | Z96: 0.995 | AA96: 0.995 | AB96: 0.995 | AC96: 0.995 | AD96: 0.995 | AE96: 0.995 | AF96: 0.995 | AG96: 0.995 | AH96: 0.995 | AI96: 0.995 | AJ96: 0.995 | AK96: 0.995 | AL96: 0.995 | AM96: 0.995 | AN96: 0.995 | AO96: 0.995 | AP96: 0.995 | AQ96: 0.995 | AR96: 0.995 | AS96: 0.995 | AT96: 0.995 | AU96: 0.995 | AV96: 0.995 | AW96: 0.995 | AX96: 0.995 | AY96: 0.995 | AZ96: 0.995 | BA96: 0.995 | BB96: 0.995 | BC96: 0.995 | BD96: 0.995 | BE96: 0.995 | BF96: 0.995 | BG96: 0.995 | BH96: 0.995 | BI96: 0.995 | BJ96: 0.995 | BK96: 0.995 | BL96: 0.995 | BM96: 0.995
C97: Llamadas salientes a internacional | G97: % | N97: 0.995 | O97: 0.995 | P97: 0.995 | Q97: 0.995 | R97: 0.995 | S97: 0.995 | T97: 0.995 | U97: 0.995 | V97: 0.995 | W97: 0.995 | X97: 0.995 | Y97: 0.995 | Z97: 0.995 | AA97: 0.995 | AB97: 0.995 | AC97: 0.995 | AD97: 0.995 | AE97: 0.995 | AF97: 0.995 | AG97: 0.995 | AH97: 0.995 | AI97: 0.995 | AJ97: 0.995 | AK97: 0.995 | AL97: 0.995 | AM97: 0.995 | AN97: 0.995 | AO97: 0.995 | AP97: 0.995 | AQ97: 0.995 | AR97: 0.995 | AS97: 0.995 | AT97: 0.995 | AU97: 0.995 | AV97: 0.995 | AW97: 0.995 | AX97: 0.995 | AY97: 0.995 | AZ97: 0.995 | BA97: 0.995 | BB97: 0.995 | BC97: 0.995 | BD97: 0.995 | BE97: 0.995 | BF97: 0.995 | BG97: 0.995 | BH97: 0.995 | BI97: 0.995 | BJ97: 0.995 | BK97: 0.995 | BL97: 0.995 | BM97: 0.995
C98: Llamadas salientes a números no geográficos | G98: % | N98: 0.995 | O98: 0.995 | P98: 0.995 | Q98: 0.995 | R98: 0.995 | S98: 0.995 | T98: 0.995 | U98: 0.995 | V98: 0.995 | W98: 0.995 | X98: 0.995 | Y98: 0.995 | Z98: 0.995 | AA98: 0.995 | AB98: 0.995 | AC98: 0.995 | AD98: 0.995 | AE98: 0.995 | AF98: 0.995 | AG98: 0.995 | AH98: 0.995 | AI98: 0.995 | AJ98: 0.995 | AK98: 0.995 | AL98: 0.995 | AM98: 0.995 | AN98: 0.995 | AO98: 0.995 | AP98: 0.995 | AQ98: 0.995 | AR98: 0.995 | AS98: 0.995 | AT98: 0.995 | AU98: 0.995 | AV98: 0.995 | AW98: 0.995 | AX98: 0.995 | AY98: 0.995 | AZ98: 0.995 | BA98: 0.995 | BB98: 0.995 | BC98: 0.995 | BD98: 0.995 | BE98: 0.995 | BF98: 0.995 | BG98: 0.995 | BH98: 0.995 | BI98: 0.995 | BJ98: 0.995 | BK98: 0.995 | BL98: 0.995 | BM98: 0.995
C99: Fixed Service8 | G99: % | N99: 0 | O99: 0 | P99: 0 | Q99: 0 | R99: 0 | S99: 0 | T99: 0 | U99: 0 | V99: 0 | W99: 0 | X99: 0 | Y99: 0 | Z99: 0 | AA99: 0 | AB99: 0 | AC99: 0 | AD99: 0 | AE99: 0 | AF99: 0 | AG99: 0 | AH99: 0 | AI99: 0 | AJ99: 0 | AK99: 0 | AL99: 0 | AM99: 0 | AN99: 0 | AO99: 0 | AP99: 0 | AQ99: 0 | AR99: 0 | AS99: 0 | AT99: 0 | AU99: 0 | AV99: 0 | AW99: 0 | AX99: 0 | AY99: 0 | AZ99: 0 | BA99: 0 | BB99: 0 | BC99: 0 | BD99: 0 | BE99: 0 | BF99: 0 | BG99: 0 | BH99: 0 | BI99: 0 | BJ99: 0 | BK99: 0 | BL99: 0 | BM99: 0
C100: Llamadas entrantes Local de otros operadores fijos | G100: % | N100: 0.92 | O100: 0.92 | P100: 0.92 | Q100: 0.92 | R100: 0.92 | S100: 0.92 | T100: 0.92 | U100: 0.92 | V100: 0.92 | W100: 0.92 | X100: 0.92 | Y100: 0.92 | Z100: 0.92 | AA100: 0.92 | AB100: 0.92 | AC100: 0.92 | AD100: 0.92 | AE100: 0.92 | AF100: 0.92 | AG100: 0.92 | AH100: 0.92 | AI100: 0.92 | AJ100: 0.92 | AK100: 0.92 | AL100: 0.92 | AM100: 0.92 | AN100: 0.92 | AO100: 0.92 | AP100: 0.92 | AQ100: 0.92 | AR100: 0.92 | AS100: 0.92 | AT100: 0.92 | AU100: 0.92 | AV100: 0.92 | AW100: 0.92 | AX100: 0.92 | AY100: 0.92 | AZ100: 0.92 | BA100: 0.92 | BB100: 0.92 | BC100: 0.92 | BD100: 0.92 | BE100: 0.92 | BF100: 0.92 | BG100: 0.92 | BH100: 0.92 | BI100: 0.92 | BJ100: 0.92 | BK100: 0.92 | BL100: 0.92 | BM100: 0.92
C101: Llamadas entrantes Larga Distancia de otros operadores fijos | G101: % | N101: 0.92 | O101: 0.92 | P101: 0.92 | Q101: 0.92 | R101: 0.92 | S101: 0.92 | T101: 0.92 | U101: 0.92 | V101: 0.92 | W101: 0.92 | X101: 0.92 | Y101: 0.92 | Z101: 0.92 | AA101: 0.92 | AB101: 0.92 | AC101: 0.92 | AD101: 0.92 | AE101: 0.92 | AF101: 0.92 | AG101: 0.92 | AH101: 0.92 | AI101: 0.92 | AJ101: 0.92 | AK101: 0.92 | AL101: 0.92 | AM101: 0.92 | AN101: 0.92 | AO101: 0.92 | AP101: 0.92 | AQ101: 0.92 | AR101: 0.92 | AS101: 0.92 | AT101: 0.92 | AU101: 0.92 | AV101: 0.92 | AW101: 0.92 | AX101: 0.92 | AY101: 0.92 | AZ101: 0.92 | BA101: 0.92 | BB101: 0.92 | BC101: 0.92 | BD101: 0.92 | BE101: 0.92 | BF101: 0.92 | BG101: 0.92 | BH101: 0.92 | BI101: 0.92 | BJ101: 0.92 | BK101: 0.92 | BL101: 0.92 | BM101: 0.92
C102: Llamadas entrantes de móvil | G102: % | N102: 0.92 | O102: 0.92 | P102: 0.92 | Q102: 0.92 | R102: 0.92 | S102: 0.92 | T102: 0.92 | U102: 0.92 | V102: 0.92 | W102: 0.92 | X102: 0.92 | Y102: 0.92 | Z102: 0.92 | AA102: 0.92 | AB102: 0.92 | AC102: 0.92 | AD102: 0.92 | AE102: 0.92 | AF102: 0.92 | AG102: 0.92 | AH102: 0.92 | AI102: 0.92 | AJ102: 0.92 | AK102: 0.92 | AL102: 0.92 | AM102: 0.92 | AN102: 0.92 | AO102: 0.92 | AP102: 0.92 | AQ102: 0.92 | AR102: 0.92 | AS102: 0.92 | AT102: 0.92 | AU102: 0.92 | AV102: 0.92 | AW102: 0.92 | AX102: 0.92 | AY102: 0.92 | AZ102: 0.92 | BA102: 0.92 | BB102: 0.92 | BC102: 0.92 | BD102: 0.92 | BE102: 0.92 | BF102: 0.92 | BG102: 0.92 | BH102: 0.92 | BI102: 0.92 | BJ102: 0.92 | BK102: 0.92 | BL102: 0.92 | BM102: 0.92
C103: Llamadas entrantes de internacional | G103: % | N103: 0.92 | O103: 0.92 | P103: 0.92 | Q103: 0.92 | R103: 0.92 | S103: 0.92 | T103: 0.92 | U103: 0.92 | V103: 0.92 | W103: 0.92 | X103: 0.92 | Y103: 0.92 | Z103: 0.92 | AA103: 0.92 | AB103: 0.92 | AC103: 0.92 | AD103: 0.92 | AE103: 0.92 | AF103: 0.92 | AG103: 0.92 | AH103: 0.92 | AI103: 0.92 | AJ103: 0.92 | AK103: 0.92 | AL103: 0.92 | AM103: 0.92 | AN103: 0.92 | AO103: 0.92 | AP103: 0.92 | AQ103: 0.92 | AR103: 0.92 | AS103: 0.92 | AT103: 0.92 | AU103: 0.92 | AV103: 0.92 | AW103: 0.92 | AX103: 0.92 | AY103: 0.92 | AZ103: 0.92 | BA103: 0.92 | BB103: 0.92 | BC103: 0.92 | BD103: 0.92 | BE103: 0.92 | BF103: 0.92 | BG103: 0.92 | BH103: 0.92 | BI103: 0.92 | BJ103: 0.92 | BK103: 0.92 | BL103: 0.92 | BM103: 0.92
C104: Llamadas entrantes de números no geográficos | G104: % | N104: 0.92 | O104: 0.92 | P104: 0.92 | Q104: 0.92 | R104: 0.92 | S104: 0.92 | T104: 0.92 | U104: 0.92 | V104: 0.92 | W104: 0.92 | X104: 0.92 | Y104: 0.92 | Z104: 0.92 | AA104: 0.92 | AB104: 0.92 | AC104: 0.92 | AD104: 0.92 | AE104: 0.92 | AF104: 0.92 | AG104: 0.92 | AH104: 0.92 | AI104: 0.92 | AJ104: 0.92 | AK104: 0.92 | AL104: 0.92 | AM104: 0.92 | AN104: 0.92 | AO104: 0.92 | AP104: 0.92 | AQ104: 0.92 | AR104: 0.92 | AS104: 0.92 | AT104: 0.92 | AU104: 0.92 | AV104: 0.92 | AW104: 0.92 | AX104: 0.92 | AY104: 0.92 | AZ104: 0.92 | BA104: 0.92 | BB104: 0.92 | BC104: 0.92 | BD104: 0.92 | BE104: 0.92 | BF104: 0.92 | BG104: 0.92 | BH104: 0.92 | BI104: 0.92 | BJ104: 0.92 | BK104: 0.92 | BL104: 0.92 | BM104: 0.92
... C121: Televisión | G121: % | N121: 0.97932753 | O121: 0.97932753 | P121: 0.97932753 | Q121: 0.97932753 | R121: 0.97932753 | S121: 0.97932753 | T121: 0.97932753 | U121: 0.97932753 | V121: 0.97932753 | W121: 0.97932753 | X121: 0.97932753 | Y121: 0.97932753 | Z121: 0.97932753 | AA121: 0.97932753 | AB121: 0.97932753 | AC121: 0.97932753 | AD121: 0.97932753 | AE121: 0.97932753 | AF121: 0.97932753 | AG121: 0.97932753 | AH121: 0.97932753 | AI121: 0.97932753 | AJ121: 0.97932753 | AK121: 0.97932753 | AL121: 0.97932753 | AM121: 0.97932753 | AN121: 0.97932753 | AO121: 0.97932753 | AP121: 0.97932753 | AQ121: 0.97932753 | AR121: 0.97932753 | AS121: 0.97932753 | AT121: 0.97932753 | AU121: 0.97932753 | AV121: 0.97932753 | AW121: 0.97932753 | AX121: 0.97932753 | AY121: 0.97932753 | AZ121: 0.97932753 | BA121: 0.97932753 | BB121: 0.97932753 | BC121: 0.97932753 | BD121: 0.97932753 | BE121: 0.97932753 | BF121: 0.97932753 | BG121: 0.97932753 | BH121: 0.97932753 | BI121: 0.97932753 | BJ121: 0.97932753 | BK121: 0.97932753 | BL121: 0.97932753 | BM121: 0.97932753
BN122: Operator.Retail.Services.Proporcion.Urbano

Sheet Móvil
D1: Demanda del operador móvil modelado
F3: Período | G3: Unidades | I3: {=TRANSPOSE(Market.Years)} -> 2000 | J3: 2001 | K3: 2002 | L3: 2003 | M3: 2004 | N3: 2005 | O3: 2006 | P3: 2007 | Q3: 2008 | R3: 2009 | S3: 2010 | T3: 2011 | U3: 2012 | V3: 2013 | W3: 2014 | X3: 2015 | Y3: 2016 | Z3: 2017 | AA3: 2018 | AB3: 2019 | AC3: 2020 | AD3: 2021 | AE3: 2022 | AF3: 2023 | AG3: 2024 | AH3: 2025 | AI3: 2026 | AJ3: 2027 | AK3: 2028 | AL3: 2029 | AM3: 2030 | AN3: 2031 | AO3: 2032 | AP3: 2033 | AQ3: 2034 | AR3: 2035 | AS3: 2036 | AT3: 2037 | AU3: 2038 | AV3: 2039 | AW3: 2040 | AX3: 2041 | AY3: 2042 | AZ3: 2043 | BA3: 2044 | BB3: 2045 | BC3: 2046 | BD3: 2047 | BE3: 2048 | BF3: 2049 | BG3: 2050 | BH3: 2051 | BI3: 2052 | BJ3: 2053 | BK3: 2054 | BL3: 2055 | BM3: 2056
A5: 1 | B5: Mercado
B7: Usuarios / Conexiones
C9: Usuarios o conexiones | F9: Año promedio | G9: # | N9: {=Mobile.subscribers} -> 0 | O9: 51262104 | P9: 60977462 | Q9: 70940993 | R9: 79253570 | S9: 87272129 | T9: 92971127 | U9: 97654596 | V9: 1.0286583e+08 | W9: 1.0581496e+08 | X9: 1.0715844e+08 | Y9: 1.1024634e+08 | Z9: 1.1527488e+08 | AA9: 1.2014438e+08 | AB9: 1.2485725e+08 | AC9: 1.2941822e+08 | AD9: 1.3383625e+08 | AE9: 1.3811987e+08 | AF9: 1.4227337e+08 | AG9: 1.4490522e+08 | AH9: 1.4606676e+08 | AI9: 1.4720157e+08 | AJ9: 1.4830905e+08 | AK9: 1.493889e+08 | AL9: 1.5044018e+08 | AM9: 1.5146214e+08 | AN9: 1.5245657e+08 | AO9: 1.5342543e+08 | AP9: 1.5436825e+08 | AQ9: 1.5528413e+08 | AR9: 1.561728e+08 | AS9: 1.5703415e+08 | AT9: 1.5786809e+08 | AU9: 1.5867443e+08 | AV9: 1.5945305e+08 | AW9: 1.6020397e+08 | AX9: 1.609274e+08 | AY9: 1.6162345e+08 | AZ9: 1.6229218e+08 | BA9: 1.6293368e+08 | BB9: 1.6354816e+08 | BC9: 1.6413601e+08 | BD9: 1.6469759e+08 | BE9: 1.6523321e+08 | BF9: 1.657307e+08 | BG9: 1.6607546e+08 | BH9: 1.662929e+08 | BI9: 1.6651062e+08 | BJ9: 1.6672862e+08 | BK9: 1.6694691e+08 | BL9: 1.6716549e+08 | BM9: 1.6738435e+08 | BN9: Market.Subscribers
B11: Tráfico anual
C13: {=Mobile.Retail.Services} -> Llamadas on-net | G13: {=Mobile.Retail.Services.Units} -> minutos | N13: {=Mobile.Retail.Services.Volumes} -> 0 | O13: 2.3840645e+10 | P13: 3.7730247e+10 | Q13: 5.3525112e+10 | R13: 5.915798e+10 | S13: 7.0244386e+10 | T13: 7.929036e+10 | U13: 9.1684819e+10 | V13: 1.1222915e+11 | W13: 1.2941173e+11 | X13: 1.2798264e+11 | Y13: 1.3430403e+11 | Z13: 1.4253633e+11 | AA13: 1.50043e+11 | AB13: 1.5748798e+11 | AC13: 1.6487334e+11 | AD13: 1.7220674e+11 | AE13: 1.7949565e+11 | AF13: 1.8674232e+11 | AG13: 1.9019679e+11 | AH13: 1.9172137e+11 | AI13: 1.9321089e+11 | AJ13: 1.9466451e+11 | AK13: 1.9608189e+11 | AL13: 1.9746175e+11 | AM13: 1.9880314e+11 | AN13: 2.0010839e+11 | AO13: 2.0138007e+11 | AP13: 2.0261758e+11 | AQ13: 2.0381973e+11 | AR13: 2.0498616e+11 | AS13: 2.0611674e+11 | AT13: 2.0721133e+11 | AU13: 2.082697e+11 | AV13: 2.0929168e+11 | AW13: 2.1027732e+11 | AX13: 2.1122686e+11 | AY13: 2.1214047e+11 | AZ13: 2.1301822e+11 | BA13: 2.1386022e+11 | BB13: 2.1466676e+11 | BC13: 2.1543835e+11 | BD13: 2.1617545e+11 | BE13: 2.1687849e+11 | BF13: 2.1753147e+11 | BG13: 2.17984e+11 | BH13: 2.1826939e+11 | BI13: 2.1855516e+11 | BJ13: 2.1884131e+11 | BK13: 2.1912783e+11 | BL13: 2.1941472e+11 | BM13: 2.1970199e+11
C14: Llamadas a redes fijas | G14: minutos | N14: 0 | O14: 2.7926258e+09 | P14: 4.5731047e+09 | Q14: 8.4662262e+09 | R14: 1.4779048e+10 | S14: 6.1266102e+09 | T14: 7.2024923e+09 | U14: 8.4994408e+09 | V14: 7.1209111e+09 | W14: 6.8559971e+09 | X14: 6.8968421e+09 | Y14: 7.2374951e+09 | Z14: 7.6811243e+09 | AA14: 8.0856505e+09 | AB14: 8.4868524e+09 | AC14: 8.8848413e+09 | AD14: 9.2800298e+09 | AE14: 9.6728211e+09 | AF14: 1.0063336e+10 | AG14: 1.0249494e+10 | AH14: 1.0331652e+10 | AI14: 1.041192e+10 | AJ14: 1.0490254e+10 | AK14: 1.0566635e+10 | AL14: 1.0640994e+10 | AM14: 1.071328e+10 | AN14: 1.0783619e+10 | AO14: 1.0852148e+10 | AP14: 1.0918836e+10 | AQ14: 1.0983619e+10 | AR14: 1.1046477e+10 | AS14: 1.1107402e+10 | AT14: 1.1166388e+10 | AU14: 1.1223423e+10 | AV14: 1.1278496e+10 | AW14: 1.1331611e+10 | AX14: 1.1382781e+10 | AY14: 1.1432014e+10 | AZ14: 1.1479315e+10 | BA14: 1.1524689e+10 | BB14: 1.1568153e+10 | BC14: 1.1609733e+10 | BD14: 1.1649455e+10 | BE14: 1.1687341e+10 | BF14: 1.1722529e+10 | BG14: 1.1746915e+10 | BH14: 1.1762295e+10 | BI14: 1.1777695e+10 | BJ14: 1.1793115e+10 | BK14: 1.1808555e+10 | BL14: 1.1824015e+10 | BM14: 1.1839496e+10
C15: Llamadas a otras redes móviles | G15: minutos | N15: 0 | O15: 3.1029176e+08 | P15: 5.0812274e+08 | Q15: 1.4940399e+09 | R15: 3.694762e+09 | S15: 6.1266102e+09 | T15: 7.2024923e+09 | U15: 8.4994408e+09 | V15: 7.1209111e+09 | W15: 6.8559971e+09 | X15: 6.8968421e+09 | Y15: 7.2374951e+09 | Z15: 7.6811243e+09 | AA15: 8.0856505e+09 | AB15: 8.4868524e+09 | AC15: 8.8848413e+09 | AD15: 9.2800298e+09 | AE15: 9.6728211e+09 | AF15: 1.0063336e+10 | AG15: 1.0249494e+10 | AH15: 1.0331652e+10 | AI15: 1.041192e+10 | AJ15: 1.0490254e+10 | AK15: 1.0566635e+10 | AL15: 1.0640994e+10 | AM15: 1.071328e+10 | AN15: 1.0783619e+10 | AO15: 1.0852148e+10 | AP15: 1.0918836e+10 | AQ15: 1.0983619e+10 | AR15: 1.1046477e+10 | AS15: 1.1107402e+10 | AT15: 1.1166388e+10 | AU15: 1.1223423e+10 | AV15: 1.1278496e+10 | AW15: 1.1331611e+10 | AX15: 1.1382781e+10 | AY15: 1.1432014e+10 | AZ15: 1.1479315e+10 | BA15: 1.1524689e+10 | BB15: 1.1568153e+10 | BC15: 1.1609733e+10 | BD15: 1.1649455e+10 | BE15: 1.1687341e+10 | BF15: 1.1722529e+10 | BG15: 1.1746915e+10 | BH15: 1.1762295e+10 | BI15: 1.1777695e+10 | BJ15: 1.1793115e+10 | BK15: 1.1808555e+10 | BL15: 1.1824015e+10 | BM15: 1.1839496e+10
C16: Llamadas a internacional | G16: minutos | N16: 0 | O16: 95966524 | P16: 1.5715136e+08 | Q16: 3.0804947e+08 | R16: 5.7135494e+08 | S16: 3.7896558e+08 | T16: 4.4551499e+08 | U16: 5.2573861e+08 | V16: 4.4046873e+08 | W16: 4.240823e+08 | X16: 4.2660879e+08 | Y16: 4.4768011e+08 | Z16: 4.7512109e+08 | AA16: 5.0014333e+08 | AB16: 5.2495994e+08 | AC16: 5.4957781e+08 | AD16: 5.7402246e+08 | AE16: 5.9831883e+08 | AF16: 6.224744e+08 | AG16: 6.3398929e+08 | AH16: 6.3907124e+08 | AI16: 6.4403629e+08 | AJ16: 6.4888171e+08 | AK16: 6.5360629e+08 | AL16: 6.5820584e+08 | AM16: 6.6267712e+08 | AN16: 6.6702797e+08 | AO16: 6.7126692e+08 | AP16: 6.7539194e+08 | AQ16: 6.793991e+08 | AR16: 6.8328721e+08 | AS16: 6.8705579e+08 | AT16: 6.9070443e+08 | AU16: 6.9423234e+08 | AV16: 6.9763893e+08 | AW16: 7.0092439e+08 | AX16: 7.0408952e+08 | AY16: 7.0713489e+08 | AZ16: 7.1006072e+08 | BA16: 7.1286738e+08 | BB16: 7.1555588e+08 | BC16: 7.1812783e+08 | BD16: 7.2058485e+08 | BE16: 7.2292831e+08 | BF16: 7.251049e+08 | BG16: 7.2661332e+08 | BH16: 7.2756464e+08 | BI16: 7.2851721e+08 | BJ16: 7.2947102e+08 | BK16: 7.3042608e+08 | BL16: 7.313824e+08 | BM16: 7.3233996e+08
C17: Llamadas entrantes de fijos | G17: minutos | N17: 0 | O17: 1.2135199e+10 | P17: 1.3160493e+10 | Q17: 1.7932156e+10 | R17: 1.8923372e+10 | S17: 1.7879578e+10 | T17: 2.0405739e+10 | U17: 1.8324557e+10 | V17: 1.2135352e+10 | W17: 1.2627124e+10 | X17: 1.3691539e+10 | Y17: 1.4030482e+10 | Z17: 1.4451844e+10 | AA17: 1.4739743e+10 | AB17: 1.4935432e+10 | AC17: 1.5036074e+10 | AD17: 1.5040291e+10 | AE17: 1.4948142e+10 | AF17: 1.4761552e+10 | AG17: 1.4988228e+10 | AH17: 1.511707e+10 | AI17: 1.5242873e+10 | AJ17: 1.5365061e+10 | AK17: 1.548361e+10 | AL17: 1.5598805e+10 | AM17: 1.5711282e+10 | AN17: 1.5821402e+10 | AO17: 1.5928513e+10 | AP17: 1.6032107e+10 | AQ17: 1.6132328e+10 | AR17: 1.6229315e+10 | AS17: 1.6322982e+10 | AT17: 1.6413149e+10 | AU17: 1.6499775e+10 | AV17: 1.6582968e+10 | AW17: 1.6662813e+10 | AX17: 1.6739221e+10 | AY17: 1.681203e+10 | AZ17: 1.6881201e+10 | BA17: 1.6946827e+10 | BB17: 1.7009002e+10 | BC17: 1.7067686e+10 | BD17: 1.7122775e+10 | BE17: 1.7174265e+10 | BF17: 1.7221435e+10 | BG17: 1.7254079e+10 | BH17: 1.7274747e+10 | BI17: 1.7295443e+10 | BJ17: 1.7316166e+10 | BK17: 1.7336916e+10 | BL17: 1.7357692e+10 | BM17: 1.7378496e+10
C18: Llamadas entrantes de otros móviles | G18: minutos | N18: 0 | O18: 3.1029176e+08 | P18: 5.0812274e+08 | Q18: 1.4940399e+09 | R18: 3.694762e+09 | S18: 6.1266102e+09 | T18: 7.2024923e+09 | U18: 8.4994408e+09 | V18: 7.1209111e+09 | W18: 6.8559971e+09 | X18: 6.8968421e+09 | Y18: 7.2374951e+09 | Z18: 7.6811243e+09 | AA18: 8.0856505e+09 | AB18: 8.4868524e+09 | AC18: 8.8848413e+09 | AD18: 9.2800298e+09 | AE18: 9.6728211e+09 | AF18: 1.0063336e+10 | AG18: 1.0249494e+10 | AH18: 1.0331652e+10 | AI18: 1.041192e+10 | AJ18: 1.0490254e+10 | AK18: 1.0566635e+10 | AL18: 1.0640994e+10 | AM18: 1.071328e+10 | AN18: 1.0783619e+10 | AO18: 1.0852148e+10 | AP18: 1.0918836e+10 | AQ18: 1.0983619e+10 | AR18: 1.1046477e+10 | AS18: 1.1107402e+10 | AT18: 1.1166388e+10 | AU18: 1.1223423e+10 | AV18: 1.1278496e+10 | AW18: 1.1331611e+10 | AX18: 1.1382781e+10 | AY18: 1.1432014e+10 | AZ18: 1.1479315e+10 | BA18: 1.1524689e+10 | BB18: 1.1568153e+10 | BC18: 1.1609733e+10 | BD18: 1.1649455e+10 | BE18: 1.1687341e+10 | BF18: 1.1722529e+10 | BG18: 1.1746915e+10 | BH18: 1.1762295e+10 | BI18: 1.1777695e+10 | BJ18: 1.1793115e+10 | BK18: 1.1808555e+10 | BL18: 1.1824015e+10 | BM18: 1.1839496e+10
C19: Llamadas entrantes internacionales | G19: minutos | N19: 0 | O19: 8.8057569e+08 | P19: 8.3560968e+08 | Q19: 7.4797824e+08 | R19: 7.114146e+08 | S19: 7.7893373e+08 | T19: 9.5832881e+08 | U19: 1.1896788e+09 | V19: 1.3091003e+09 | W19: 1.4394777e+09 | X19: 1.3510148e+09 | Y19: 1.2477231e+09 | Z19: 1.1336127e+09 | AA19: 1.0129341e+09 | AB19: 8.8990832e+08 | AC19: 7.6847599e+08 | AD19: 6.5208655e+08 | AE19: 5.4354356e+08 | AF19: 4.4491493e+08 | AG19: 4.4491493e+08 | AH19: 4.4491493e+08 | AI19: 4.4491493e+08 | AJ19: 4.4491493e+08 | AK19: 4.4491493e+08 | AL19: 4.4491493e+08 | AM19: 4.4491493e+08 | AN19: 4.4491493e+08 | AO19: 4.4491493e+08 | AP19: 4.4491493e+08 | AQ19: 4.4491493e+08 | AR19: 4.4491493e+08 | AS19: 4.4491493e+08 | AT19: 4.4491493e+08 | AU19: 4.4491493e+08 | AV19: 4.4491493e+08 | AW19: 4.4491493e+08 | AX19: 4.4491493e+08 | AY19: 4.4491493e+08 | AZ19: 4.4491493e+08 | BA19: 4.4491493e+08 | BB19: 4.4491493e+08 | BC19: 4.4491493e+08 | BD19: 4.4491493e+08 | BE19: 4.4491493e+08 | BF19: 4.4491493e+08 | BG19: 4.4491493e+08 | BH19: 4.4491493e+08 | BI19: 4.4491493e+08 | BJ19: 4.4491493e+08 | BK19: 4.4491493e+08 | BL19: 4.4491493e+08 | BM19: 4.4491493e+08
C20: Roaming in originación | G20: minutos | N20: 0 | O20: 1.6223717e+08 | P20: 2.5781176e+08 | Q20: 3.8276056e+08 | R20: 4.6921887e+08 | S20: 4.9725943e+08 | T20: 5.6484516e+08 | U20: 6.5525663e+08 | V20: 7.6146863e+08 | W20: 8.6128683e+08 | X20: 8.5321758e+08 | Y20: 8.9536022e+08 | Z20: 9.5024218e+08 | AA20: 1.0002867e+09 | AB20: 1.0499199e+09 | AC20: 1.0991556e+09 | AD20: 1.1480449e+09 | AE20: 1.1966377e+09 | AF20: 1.2449488e+09 | AG20: 1.2679786e+09 | AH20: 1.2781425e+09 | AI20: 1.2880726e+09 | AJ20: 1.2977634e+09 | AK20: 1.3072126e+09 | AL20: 1.3164117e+09 | AM20: 1.3253542e+09 | AN20: 1.3340559e+09 | AO20: 1.3425338e+09 | AP20: 1.3507839e+09 | AQ20: 1.3587982e+09 | AR20: 1.3665744e+09 | AS20: 1.3741116e+09 | AT20: 1.3814089e+09 | AU20: 1.3884647e+09 | AV20: 1.3952779e+09 | AW20: 1.4018488e+09 | AX20: 1.408179e+09 | AY20: 1.4142698e+09 | AZ20: 1.4201214e+09 | BA20: 1.4257348e+09 | BB20: 1.4311118e+09 | BC20: 1.4362557e+09 | BD20: 1.4411697e+09 | BE20: 1.4458566e+09 | BF20: 1.4502098e+09 | BG20: 1.4532266e+09 | BH20: 1.4551293e+09 | BI20: 1.4570344e+09 | BJ20: 1.458942e+09 | BK20: 1.4608522e+09 | BL20: 1.4627648e+09 | BM20: 1.4646799e+09
C21: Roaming in terminación | G21: minutos | N21: 0 | O21: 1.0815812e+08 | P21: 1.718745e+08 | Q21: 2.5517371e+08 | R21: 3.1281258e+08 | S21: 3.3150629e+08 | T21: 3.7656344e+08 | U21: 4.3683776e+08 | V21: 5.0764575e+08 | W21: 5.7419122e+08 | X21: 5.6881172e+08 | Y21: 5.9690681e+08 | Z21: 6.3349479e+08 | AA21: 6.6685777e+08 | AB21: 6.9994659e+08 | AC21: 7.3277042e+08 | AD21: 7.6536328e+08 | AE21: 7.9775844e+08 | AF21: 8.2996586e+08 | AG21: 8.4531906e+08 | AH21: 8.5209499e+08 | AI21: 8.5871505e+08 | AJ21: 8.6517562e+08 | AK21: 8.7147506e+08 | AL21: 8.7760778e+08 | AM21: 8.8356949e+08 | AN21: 8.8937062e+08 | AO21: 8.9502255e+08 | AP21: 9.0052259e+08 | AQ21: 9.0586546e+08 | AR21: 9.1104961e+08 | AS21: 9.1607439e+08 | AT21: 9.2093923e+08 | AU21: 9.2564312e+08 | AV21: 9.3018524e+08 | AW21: 9.3456585e+08 | AX21: 9.3878602e+08 | AY21: 9.4284652e+08 | AZ21: 9.4674763e+08 | BA21: 9.5048984e+08 | BB21: 9.5407451e+08 | BC21: 9.5750377e+08 | BD21: 9.607798e+08 | BE21: 9.6390442e+08 | BF21: 9.6680653e+08 | BG21: 9.6881776e+08 | BH21: 9.7008619e+08 | BI21: 9.7135628e+08 | BJ21: 9.7262803e+08 | BK21: 9.7390145e+08 | BL21: 9.7517653e+08 | BM21: 9.7645328e+08
C22: SMS on-net | G22: mensajes | N22: 0 | O22: 14446976726 | P22: 16644970096 | Q22: 2.6544445e+10 | R22: 3.6630282e+10 | S22: 4.4208607e+10 | T22: 5.4066831e+10 | U22: 6.0332868e+10 | V22: 4.7391784e+10 | W22: 3.2788986e+10 | X22: 2.2699223e+10 | Y22: 1.6347331e+10 | Z22: 1.2819721e+10 | AA22: 1.0689007e+10 | AB22: 9.4420567e+09 | AC22: 8.808273e+09 | AD22: 8.6535178e+09 | AE22: 8.5732668e+09 | AF22: 8.8310793e+09 | AG22: 8.9944418e+09 | AH22: 9.0665397e+09 | AI22: 9.1369791e+09 | AJ22: 9.2057214e+09 | AK22: 9.2727493e+09 | AL22: 9.3380033e+09 | AM22: 9.4014376e+09 | AN22: 9.4631633e+09 | AO22: 9.5233015e+09 | AP22: 9.5818235e+09 | AQ22: 9.6386732e+09 | AR22: 9.6938341e+09 | AS22: 9.7472992e+09 | AT22: 9.7990626e+09 | AU22: 9.8491133e+09 | AV22: 9.8974428e+09 | AW22: 9.9440538e+09 | AX22: 9.9889576e+09 | AY22: 1.0032163e+10 | AZ22: 1.0073671e+10 | BA22: 1.011349e+10 | BB22: 1.0151632e+10 | BC22: 1.018812e+10 | BD22: 1.0222978e+10 | BE22: 1.0256225e+10 | BF22: 1.0287104e+10 | BG22: 1.0308504e+10 | BH22: 1.0322001e+10 | BI22: 1.0335515e+10 | BJ22: 1.0349046e+10 | BK22: 1.0362596e+10 | BL22: 1.0376163e+10 | BM22: 1.0389748e+10
C23: SMS salientes a otras redes | G23: mensajes | N23: 0 | O23: 7.2234884e+09 | P23: 8.322485e+09 | Q23: 1.3272222e+10 | R23: 1.4452111e+10 | S23: 1.8753649e+10 | T23: 2.9724416e+10 | U23: 3.6064354e+10 | V23: 3.0287918e+10 | W23: 2.0955322e+10 | X23: 1.4506991e+10 | Y23: 1.044752e+10 | Z23: 8.1930376e+09 | AA23: 6.8313059e+09 | AB23: 6.0343844e+09 | AC23: 5.6293355e+09 | AD23: 5.530432e+09 | AE23: 5.4791438e+09 | AF23: 5.6439109e+09 | AG23: 5.7483152e+09 | AH23: 5.7943928e+09 | AI23: 5.8394103e+09 | AJ23: 5.8833433e+09 | AK23: 5.9261806e+09 | AL23: 5.9678842e+09 | AM23: 6.0084248e+09 | AN23: 6.0478735e+09 | AO23: 6.0863076e+09 | AP23: 6.1237088e+09 | AQ23: 6.1600412e+09 | AR23: 6.1952943e+09 | AS23: 6.2294637e+09 | AT23: 6.2625455e+09 | AU23: 6.2945328e+09 | AV23: 6.32542e+09 | AW23: 6.3552088e+09 | AX23: 6.3839067e+09 | AY23: 6.4115188e+09 | AZ23: 6.438047e+09 | BA23: 6.4634947e+09 | BB23: 6.4878711e+09 | BC23: 6.5111906e+09 | BD23: 6.5334682e+09 | BE23: 6.5547161e+09 | BF23: 6.574451e+09 | BG23: 6.5881277e+09 | BH23: 6.5967533e+09 | BI23: 6.6053901e+09 | BJ23: 6.6140382e+09 | BK23: 6.6226977e+09 | BL23: 6.6313684e+09 | BM23: 6.6400506e+09
C24: SMS entrantes de otras redes | G24: mensajes | N24: 0 | O24: 7.2234884e+09 | P24: 8.322485e+09 | Q24: 1.3272222e+10 | R24: 1.4452111e+10 | S24: 1.8753649e+10 | T24: 2.9724416e+10 | U24: 3.6064354e+10 | V24: 3.0287918e+10 | W24: 2.0955322e+10 | X24: 1.4506991e+10 | Y24: 1.044752e+10 | Z24: 8.1930376e+09 | AA24: 6.8313059e+09 | AB24: 6.0343844e+09 | AC24: 5.6293355e+09 | AD24: 5.530432e+09 | AE24: 5.4791438e+09 | AF24: 5.6439109e+09 | AG24: 5.7483152e+09 | AH24: 5.7943928e+09 | AI24: 5.8394103e+09 | AJ24: 5.8833433e+09 | AK24: 5.9261806e+09 | AL24: 5.9678842e+09 | AM24: 6.0084248e+09 | AN24: 6.0478735e+09 | AO24: 6.0863076e+09 | AP24: 6.1237088e+09 | AQ24: 6.1600412e+09 | AR24: 6.1952943e+09 | AS24: 6.2294637e+09 | AT24: 6.2625455e+09 | AU24: 6.2945328e+09 | AV24: 6.32542e+09 | AW24: 6.3552088e+09 | AX24: 6.3839067e+09 | AY24: 6.4115188e+09 | AZ24: 6.438047e+09 | BA24: 6.4634947e+09 | BB24: 6.4878711e+09 | BC24: 6.5111906e+09 | BD24: 6.5334682e+09 | BE24: 6.5547161e+09 | BF24: 6.574451e+09 | BG24: 6.5881277e+09 | BH24: 6.5967533e+09 | BI24: 6.6053901e+09 | BJ24: 6.6140382e+09 | BK24: 6.6226977e+09 | BL24: 6.6313684e+09 | BM24: 6.6400506e+09
C25: Recuperación de correo de voz | G25: minutos | N25: 0 | O25: 9.291678e+08 | P25: 1.3058618e+09 | Q25: 1.8424821e+09 | R25: 2.0621882e+09 | S25: 2.3757377e+09 | T25: 2.696423e+09 | U25: 2.9924624e+09 | V25: 3.3198627e+09 | W25: 3.7583582e+09 | X25: 3.7480508e+09 | Y25: 3.9204933e+09 | Z25: 4.1450727e+09 | AA25: 4.3470331e+09 | AB25: 4.5450044e+09 | AC25: 4.7390684e+09 | AD25: 4.9294786e+09 | AE25: 5.1165039e+09 | AF25: 5.3003031e+09 | AG25: 5.3969856e+09 | AH25: 5.4403752e+09 | AI25: 5.4827649e+09 | AJ25: 5.5241186e+09 | AK25: 5.5644262e+09 | AL25: 5.6036617e+09 | AM25: 5.6418153e+09 | AN25: 5.6789582e+09 | AO25: 5.7151413e+09 | AP25: 5.750336e+09 | AQ25: 5.7845148e+09 | AR25: 5.8176717e+09 | AS25: 5.8498009e+09 | AT25: 5.8808945e+09 | AU25: 5.9109454e+09 | AV25: 5.9399515e+09 | AW25: 5.9679164e+09 | AX25: 5.9948443e+09 | AY25: 6.0207357e+09 | AZ25: 6.0455912e+09 | BA25: 6.0694162e+09 | BB25: 6.0922209e+09 | BC25: 6.1140171e+09 | BD25: 6.134815e+09 | BE25: 6.1546254e+09 | BF25: 6.1730087e+09 | BG25: 6.1857476e+09 | BH25: 6.1937838e+09 | BI25: 6.2018304e+09 | BJ25: 6.2098876e+09 | BK25: 6.2179553e+09 | BL25: 6.2260335e+09 | BM25: 6.2341224e+09
... C42: Mobile Service30 | G42: Mobile Unit30 | N42: 0 | O42: 0 | P42: 0 | Q42: 0 | R42: 0 | S42: 0 | T42: 0 | U42: 0 | V42: 0 | W42: 0 | X42: 0 | Y42: 0 | Z42: 0 | AA42: 0 | AB42: 0 | AC42: 0 | AD42: 0 | AE42: 0 | AF42: 0 | AG42: 0 | AH42: 0 | AI42: 0 | AJ42: 0 | AK42: 0 | AL42: 0 | AM42: 0 | AN42: 0 | AO42: 0 | AP42: 0 | AQ42: 0 | AR42: 0 | AS42: 0 | AT42: 0 | AU42: 0 | AV42: 0 | AW42: 0 | AX42: 0 | AY42: 0 | AZ42: 0 | BA42: 0 | BB42: 0 | BC42: 0 | BD42: 0 | BE42: 0 | BF42: 0 | BG42: 0 | BH42: 0 | BI42: 0 | BJ42: 0 | BK42: 0 | BL42: 0 | BM42: 0
BN43: Market.Retail.Services.Volumes.Movil
A44: 2 | B44: Demanda del operador modelado
B46: Cuota de mercado
C48: De usuarios | N48: {=Mobile.operator.market.share} -> 0 | O48: 0 | P48: 0 | Q48: 0 | R48: 0.032 | S48: 0.064 | T48: 0.096 | U48: 0.128 | V48: 0.16 | W48: 0.16 | X48: 0.16 | Y48: 0.16 | Z48: 0.16 | AA48: 0.16 | AB48: 0.16 | AC48: 0.16 | AD48: 0.16 | AE48: 0.16 | AF48: 0.16 | AG48: 0.16 | AH48: 0.16 | AI48: 0.16 | AJ48: 0.16 | AK48: 0.16 | AL48: 0.16 | AM48: 0.16 | AN48: 0.16 | AO48: 0.16 | AP48: 0.16 | AQ48: 0.16 | AR48: 0.16 | AS48: 0.16 | AT48: 0.16 | AU48: 0.16 | AV48: 0.16 | AW48: 0.16 | AX48: 0.16 | AY48: 0.16 | AZ48: 0.16 | BA48: 0.16 | BB48: 0.16 | BC48: 0.16 | BD48: 0.16 | BE48: 0.16 | BF48: 0.16 | BG48: 0.16 | BH48: 0.16 | BI48: 0.16 | BJ48: 0.16 | BK48: 0.16 | BL48: 0.16 | BM48: 0.16 | BN48: Operator.Subscribers.Share
C50: Tráfico on-net | G50: % | N50: =N48*49.058*EXP(-4.015*N48)/SUM(N48*49.058*EXP(-4.015*N48),(1-N48)) -> 0 | O50: =O48*49.058*EXP(-4.015*O48)/SUM(O48*49.058*EXP(-4.015*O48),(1-O48)) -> 0 | P50: =P48*49.058*EXP(-4.015*P48)/SUM(P48*49.058*EXP(-4.015*P48),(1-P48)) -> 0 | Q50: =Q48*49.058*EXP(-4.015*Q48)/SUM(Q48*49.058*EXP(-4.015*Q48),(1-Q48)) -> 0 | R50: =R48*49.058*EXP(-4.015*R48)/SUM(R48*49.058*EXP(-4.015*R48),(1-R48)) -> 0.5878361 | S50: =S48*49.058*EXP(-4.015*S48)/SUM(S48*49.058*EXP(-4.015*S48),(1-S48)) -> 0.72178053 | T50: =T48*49.058*EXP(-4.015*T48)/SUM(T48*49.058*EXP(-4.015*T48),(1-T48)) -> 0.77989972 | U50: =U48*49.058*EXP(-4.015*U48)/SUM(U48*49.058*EXP(-4.015*U48),(1-U48)) -> 0.81158224 | ... BM50: =BM48*49.058*EXP(-4.015*BM48)/SUM(BM48*49.058*EXP(-4.015*BM48),(1-BM48)) -> 0.83095001
C51: Tráfico off-net | G51: % | N51: =(1-N48)/SUM(N48*49.058*EXP(-4.015*N48),(1-N48)) -> 1 | O51: =(1-O48)/SUM(O48*49.058*EXP(-4.015*O48),(1-O48)) -> 1 | P51: =(1-P48)/SUM(P48*49.058*EXP(-4.015*P48),(1-P48)) -> 1 | Q51: =(1-Q48)/SUM(Q48*49.058*EXP(-4.015*Q48),(1-Q48)) -> 1 | R51: =(1-R48)/SUM(R48*49.058*EXP(-4.015*R48),(1-R48)) -> 0.4121639 | S51: =(1-S48)/SUM(S48*49.058*EXP(-4.015*S48),(1-S48)) -> 0.27821947 | T51: =(1-T48)/SUM(T48*49.058*EXP(-4.015*T48),(1-T48)) -> 0.22010028 | U51: =(1-U48)/SUM(U48*49.058*EXP(-4.015*U48),(1-U48)) -> 0.18841776 | ... BM51: =(1-BM48)/SUM(BM48*49.058*EXP(-4.015*BM48),(1-BM48)) -> 0.16904999
C53: Tráfico saliente (total) | G53: minutos | N53: =N48*SUM(N13:N16) -> 0 | O53: =O48*SUM(O13:O16) -> 0 | P53: =P48*SUM(P13:P16) -> 0 | Q53: =Q48*SUM(Q13:Q16) -> 0 | R53: =R48*SUM(R13:R16) -> 2.5025006e+09 | S53: =S48*SUM(S13:S16) -> 5.3041006e+09 | T53: =T48*SUM(T13:T16) -> 9.0375225e+09 | U53: =U48*SUM(U13:U16) -> 1.3978808e+10 | ... BM53: =BM48*SUM(BM13:BM16) -> 3.9058131e+10
C54: Llamadas on-net | G54: minutos | N54: =N53*N50 -> 0 | O54: =O53*O50 -> 0 | P54: =P53*P50 -> 0 | Q54: =Q53*Q50 -> 0 | R54: =R53*R50 -> 1.4710602e+09 | S54: =S53*S50 -> 3.8283966e+09 | T54: =T53*T50 -> 7.0483613e+09 | U54: =U53*U50 -> 1.1344952e+10 | ... BM54: =BM53*BM50 -> 3.2455355e+10
C55: Llamadas a redes fijas | G55: minutos | N55: =IFERROR(N$53*N$51*N14/SUM(N$14:N$16),0) -> 0 | O55: =IFERROR(O$53*O$51*O14/SUM(O$14:O$16),0) -> 0 | P55: =IFERROR(P$53*P$51*P14/SUM(P$14:P$16),0) -> 0 | Q55: =IFERROR(Q$53*Q$51*Q14/SUM(Q$14:Q$16),0) -> 0 | R55: =IFERROR(R$53*R$51*R14/SUM(R$14:R$16),0) -> 8.0039777e+08 | S55: =IFERROR(S$53*S$51*S14/SUM(S$14:S$16),0) -> 7.1571646e+08 | T55: =IFERROR(T$53*T$51*T14/SUM(T$14:T$16),0) -> 9.6474318e+08 | U55: =IFERROR(U$53*U$51*U14/SUM(U$14:U$16),0) -> 1.27742e+09 | ... BM55: =IFERROR(BM$53*BM$51*BM14/SUM(BM$14:BM$16),0) -> 3.2023466e+09
C56: Llamadas a otras redes móviles | G56: minutos | N56: =IFERROR(N$53*N$51*N15/SUM(N$14:N$16),0) -> 0 | O56: =IFERROR(O$53*O$51*O15/SUM(O$14:O$16),0) -> 0 | P56: =IFERROR(P$53*P$51*P15/SUM(P$14:P$16),0) -> 0 | Q56: =IFERROR(Q$53*Q$51*Q15/SUM(Q$14:Q$16),0) -> 0 | R56: =IFERROR(R$53*R$51*R15/SUM(R$14:R$16),0) -> 2.0009944e+08 | S56: =IFERROR(S$53*S$51*S15/SUM(S$14:S$16),0) -> 7.1571646e+08 | T56: =IFERROR(T$53*T$51*T15/SUM(T$14:T$16),0) -> 9.6474318e+08 | U56: =IFERROR(U$53*U$51*U15/SUM(U$14:U$16),0) -> 1.27742e+09 | ... BM56: =IFERROR(BM$53*BM$51*BM15/SUM(BM$14:BM$16),0) -> 3.2023466e+09
C57: Llamadas a internacional | G57: minutos | N57: =IFERROR(N$53*N$51*N16/SUM(N$14:N$16),0) -> 0 | O57: =IFERROR(O$53*O$51*O16/SUM(O$14:O$16),0) -> 0 | P57: =IFERROR(P$53*P$51*P16/SUM(P$14:P$16),0) -> 0 | Q57: =IFERROR(Q$53*Q$51*Q16/SUM(Q$14:Q$16),0) -> 0 | R57: =IFERROR(R$53*R$51*R16/SUM(R$14:R$16),0) -> 30943213 | S57: =IFERROR(S$53*S$51*S16/SUM(S$14:S$16),0) -> 44271121 | T57: =IFERROR(T$53*T$51*T16/SUM(T$14:T$16),0) -> 59674836 | U57: =IFERROR(U$53*U$51*U16/SUM(U$14:U$16),0) -> 79015671 | ... BM57: =IFERROR(BM$53*BM$51*BM16/SUM(BM$14:BM$16),0) -> 1.980833e+08
N58: =ROUND(N53,0)=ROUND(SUM(N54:N57),0) -> TRUE | O58: =ROUND(O53,0)=ROUND(SUM(O54:O57),0) -> TRUE | P58: =ROUND(P53,0)=ROUND(SUM(P54:P57),0) -> TRUE | Q58: =ROUND(Q53,0)=ROUND(SUM(Q54:Q57),0) -> TRUE | R58: =ROUND(R53,0)=ROUND(SUM(R54:R57),0) -> TRUE | S58: =ROUND(S53,0)=ROUND(SUM(S54:S57),0) -> TRUE | T58: =ROUND(T53,0)=ROUND(SUM(T54:T57),0) -> TRUE | U58: =ROUND(U53,0)=ROUND(SUM(U54:U57),0) -> TRUE | ... BM58: =ROUND(BM53,0)=ROUND(SUM(BM54:BM57),0) -> TRUE
C60: Tráfico saliente | G60: % | N60: =N48*187.69*EXP(-6.522*N48)/SUM(N48*187.69*EXP(-6.522*N48),(1-N48)) -> 0 | O60: =O48*187.69*EXP(-6.522*O48)/SUM(O48*187.69*EXP(-6.522*O48),(1-O48)) -> 0 | P60: =P48*187.69*EXP(-6.522*P48)/SUM(P48*187.69*EXP(-6.522*P48),(1-P48)) -> 0 | Q60: =Q48*187.69*EXP(-6.522*Q48)/SUM(Q48*187.69*EXP(-6.522*Q48),(1-Q48)) -> 0 | R60: =R48*187.69*EXP(-6.522*R48)/SUM(R48*187.69*EXP(-6.522*R48),(1-R48)) -> 0.83432452 | S60: =S48*187.69*EXP(-6.522*S48)/SUM(S48*187.69*EXP(-6.522*S48),(1-S48)) -> 0.89422576 | T60: =T48*187.69*EXP(-6.522*T48)/SUM(T48*187.69*EXP(-6.522*T48),(1-T48)) -> 0.91421319 | U60: =U48*187.69*EXP(-6.522*U48)/SUM(U48*187.69*EXP(-6.522*U48),(1-U48)) -> 0.92281449 | ... BM60: =BM48*187.69*EXP(-6.522*BM48)/SUM(BM48*187.69*EXP(-6.522*BM48),(1-BM48)) -> 0.92642608
C61: Tráfico entrante | G61: % | N61: =(1-N48)/SUM(N48*187.69*EXP(-6.522*N48),(1-N48)) -> 1 | O61: =(1-O48)/SUM(O48*187.69*EXP(-6.522*O48),(1-O48)) -> 1 | P61: =(1-P48)/SUM(P48*187.69*EXP(-6.522*P48),(1-P48)) -> 1 | Q61: =(1-Q48)/SUM(Q48*187.69*EXP(-6.522*Q48),(1-Q48)) -> 1 | R61: =(1-R48)/SUM(R48*187.69*EXP(-6.522*R48),(1-R48)) -> 0.16567548 | S61: =(1-S48)/SUM(S48*187.69*EXP(-6.522*S48),(1-S48)) -> 0.10577424 | T61: =(1-T48)/SUM(T48*187.69*EXP(-6.522*T48),(1-T48)) -> 0.085786813 | U61: =(1-U48)/SUM(U48*187.69*EXP(-6.522*U48),(1-U48)) -> 0.077185508 | ... BM61: =(1-BM48)/SUM(BM48*187.69*EXP(-6.522*BM48),(1-BM48)) -> 0.073573924
C63: Tráfico entrante (total) | G63: minutos | N63: =IFERROR(N53/N60*N61,0) -> 0 | O63: =IFERROR(O53/O60*O61,0) -> 0 | P63: =IFERROR(P53/P60*P61,0) -> 0 | Q63: =IFERROR(Q53/Q60*Q61,0) -> 0 | R63: =IFERROR(R53/R60*R61,0) -> 4.9693254e+08 | S63: =IFERROR(S53/S60*S61,0) -> 6.2739996e+08 | T63: =IFERROR(T53/T60*T61,0) -> 8.4805192e+08 | U63: =IFERROR(U53/U60*U61,0) -> 1.1692073e+09 | ... BM63: =IFERROR(BM53/BM60*BM61,0) -> 3.1018773e+09
C64: Llamadas entrantes de fijos | G64: minutos | N64: =IFERROR(N$63*N17/SUM(N$17:N$19),0) -> 0 | O64: =IFERROR(O$63*O17/SUM(O$17:O$19),0) -> 0 | P64: =IFERROR(P$63*P17/SUM(P$17:P$19),0) -> 0 | Q64: =IFERROR(Q$63*Q17/SUM(Q$17:Q$19),0) -> 0 | R64: =IFERROR(R$63*R17/SUM(R$17:R$19),0) -> 4.0307849e+08 | S64: =IFERROR(S$63*S17/SUM(S$17:S$19),0) -> 4.5259598e+08 | T64: =IFERROR(T$63*T17/SUM(T$17:T$19),0) -> 6.0578263e+08 | U64: =IFERROR(U$63*U17/SUM(U$17:U$19),0) -> 7.6481233e+08 | ... BM64: =IFERROR(BM$63*BM17/SUM(BM$17:BM$19),0) -> 1.8172852e+09
C65: Llamadas entrantes de otros móviles | G65: minutos | N65: =IFERROR(N$63*N18/SUM(N$17:N$19),0) -> 0 | O65: =IFERROR(O$63*O18/SUM(O$17:O$19),0) -> 0 | P65: =IFERROR(P$63*P18/SUM(P$17:P$19),0) -> 0 | Q65: =IFERROR(Q$63*Q18/SUM(Q$17:Q$19),0) -> 0 | R65: =IFERROR(R$63*R18/SUM(R$17:R$19),0) -> 78700515 | S65: =IFERROR(S$63*S18/SUM(S$17:S$19),0) -> 1.5508638e+08 | T65: =IFERROR(T$63*T18/SUM(T$17:T$19),0) -> 2.138195e+08 | U65: =IFERROR(U$63*U18/SUM(U$17:U$19),0) -> 3.547413e+08 | ... BM65: =IFERROR(BM$63*BM18/SUM(BM$17:BM$19),0) -> 1.2380669e+09
C66: Llamadas entrantes internacionales | G66: minutos | N66: =IFERROR(N$63*N19/SUM(N$17:N$19),0) -> 0 | O66: =IFERROR(O$63*O19/SUM(O$17:O$19),0) -> 0 | P66: =IFERROR(P$63*P19/SUM(P$17:P$19),0) -> 0 | Q66: =IFERROR(Q$63*Q19/SUM(Q$17:Q$19),0) -> 0 | R66: =IFERROR(R$63*R19/SUM(R$17:R$19),0) -> 15153532 | S66: =IFERROR(S$63*S19/SUM(S$17:S$19),0) -> 19717595 | T66: =IFERROR(T$63*T19/SUM(T$17:T$19),0) -> 28449789 | U66: =IFERROR(U$63*U19/SUM(U$17:U$19),0) -> 49653644 | ... BM66: =IFERROR(BM$63*BM19/SUM(BM$17:BM$19),0) -> 46525160
N67: =ROUND(N63,0)=ROUND(SUM(N64:N66),0) -> TRUE | O67: =ROUND(O63,0)=ROUND(SUM(O64:O66),0) -> TRUE | P67: =ROUND(P63,0)=ROUND(SUM(P64:P66),0) -> TRUE | Q67: =ROUND(Q63,0)=ROUND(SUM(Q64:Q66),0) -> TRUE | R67: =ROUND(R63,0)=ROUND(SUM(R64:R66),0) -> TRUE | S67: =ROUND(S63,0)=ROUND(SUM(S64:S66),0) -> TRUE | T67: =ROUND(T63,0)=ROUND(SUM(T64:T66),0) -> TRUE | U67: =ROUND(U63,0)=ROUND(SUM(U64:U66),0) -> TRUE | ... BM67: =ROUND(BM63,0)=ROUND(SUM(BM64:BM66),0) -> TRUE
B68: Usuarios / Conexiones
F69: Año promedio | G69: # | N69: =N9*N48 -> 0 | O69: =O9*O48 -> 0 | P69: =P9*P48 -> 0 | Q69: =Q9*Q48 -> 0 | R69: =R9*R48 -> 2536114.2 | S69: =S9*S48 -> 5585416.3 | T69: =T9*T48 -> 8925228.2 | U69: =U9*U48 -> 12499788 | ... BM69: =BM9*BM48 -> 26781496 | BN69: Operator.Subscribers
C70: Proporción de usuarios que utilizan datos | N70: =Mercado!Q66 -> 0 | O70: =Mercado!R66 -> 0 | P70: =Mercado!S66 -> 0.41172524 | Q70: =Mercado!T66 -> 0.51032812 | R70: =Mercado!U66 -> 0.59065947 | S70: =Mercado!V66 -> 0.66960818 | T70: =Mercado!W66 -> 0.77658033 | U70: =Mercado!X66 -> 0.83119254 | ... BM70: =Mercado!BP66 -> 0.88893136
B72: Tráfico anual
C74: {=Mobile.Retail.Services} -> Llamadas on-net | G74: {=Mobile.Retail.Services.Units} -> minutos | N74: =N54 -> 0 | O74: =O54 -> 0 | P74: =P54 -> 0 | Q74: =Q54 -> 0 | R74: =R54 -> 1.4710602e+09 | S74: =S54 -> 3.8283966e+09 | T74: =T54 -> 7.0483613e+09 | U74: =U54 -> 1.1344952e+10 | ... BM74: =BM54 -> 3.2455355e+10
C75: Llamadas a redes fijas | G75: minutos | N75: =N55 -> 0 | O75: =O55 -> 0 | P75: =P55 -> 0 | Q75: =Q55 -> 0 | R75: =R55 -> 8.0039777e+08 | S75: =S55 -> 7.1571646e+08 | T75: =T55 -> 9.6474318e+08 | U75: =U55 -> 1.27742e+09 | ... BM75: =BM55 -> 3.2023466e+09
C76: Llamadas a otras redes móviles | G76: minutos | N76: =N56 -> 0 | O76: =O56 -> 0 | P76: =P56 -> 0 | Q76: =Q56 -> 0 | R76: =R56 -> 2.0009944e+08 | S76: =S56 -> 7.1571646e+08 | T76: =T56 -> 9.6474318e+08 | U76: =U56 -> 1.27742e+09 | ... BM76: =BM56 -> 3.2023466e+09
C77: Llamadas a internacional | G77: minutos | N77: =N57 -> 0 | O77: =O57 -> 0 | P77: =P57 -> 0 | Q77: =Q57 -> 0 | R77: =R57 -> 30943213 | S77: =S57 -> 44271121 | T77: =T57 -> 59674836 | U77: =U57 -> 79015671 | ... BM77: =BM57 -> 1.980833e+08
C78: Llamadas entrantes de fijos | G78: minutos | N78: =N64 -> 0 | O78: =O64 -> 0 | P78: =P64 -> 0 | Q78: =Q64 -> 0 | R78: =R64 -> 4.0307849e+08 | S78: =S64 -> 4.5259598e+08 | T78: =T64 -> 6.0578263e+08 | U78: =U64 -> 7.6481233e+08 | ... BM78: =BM64 -> 1.8172852e+09
C79: Llamadas entrantes de otros móviles | G79: minutos | N79: =N65 -> 0 | O79: =O65 -> 0 | P79: =P65 -> 0 | Q79: =Q65 -> 0 | R79: =R65 -> 78700515 | S79: =S65 -> 1.5508638e+08 | T79: =T65 -> 2.138195e+08 | U79: =U65 -> 3.547413e+08 | ... BM79: =BM65 -> 1.2380669e+09
C80: Llamadas entrantes internacionales | G80: minutos | N80: =N66 -> 0 | O80: =O66 -> 0 | P80: =P66 -> 0 | Q80: =Q66 -> 0 | R80: =R66 -> 15153532 | S80: =S66 -> 19717595 | T80: =T66 -> 28449789 | U80: =U66 -> 49653644 | ... BM80: =BM66 -> 46525160
C81: Roaming in originación | G81: minutos | N81: =N20*N$48 -> 0 | O81: =O20*O$48 -> 0 | P81: =P20*P$48 -> 0 | Q81: =Q20*Q$48 -> 0 | R81: =R20*R$48 -> 15015004 | S81: =S20*S$48 -> 31824604 | T81: =T20*T$48 -> 54225135 | U81: =U20*U$48 -> 83872849 | ... BM81: =BM20*BM$48 -> 2.3434879e+08
C82: Roaming in terminación | G82: minutos | N82: =N21*N$48 -> 0 | O82: =O21*O$48 -> 0 | P82: =P21*P$48 -> 0 | Q82: =Q21*Q$48 -> 0 | R82: =R21*R$48 -> 10010003 | S82: =S21*S$48 -> 21216403 | T82: =T21*T$48 -> 36150090 | U82: =U21*U$48 -> 55915233 | ... BM82: =BM21*BM$48 -> 1.5623253e+08
C83: SMS on-net | G83: mensajes | N83: =N22*N$48 -> 0 | O83: =O22*O$48 -> 0 | P83: =P22*P$48 -> 0 | Q83: =Q22*Q$48 -> 0 | R83: =R22*R$48 -> 1.172169e+09 | S83: =S22*S$48 -> 2.8293509e+09 | T83: =T22*T$48 -> 5.1904157e+09 | U83: =U22*U$48 -> 7.7226071e+09 | ... BM83: =BM22*BM$48 -> 1.6623597e+09
C84: SMS salientes a otras redes | G84: mensajes | N84: =N23*N$48 -> 0 | O84: =O23*O$48 -> 0 | P84: =P23*P$48 -> 0 | Q84: =Q23*Q$48 -> 0 | R84: =R23*R$48 -> 4.6246756e+08 | S84: =S23*S$48 -> 1.2002335e+09 | T84: =T23*T$48 -> 2.853544e+09 | U84: =U23*U$48 -> 4.6162373e+09 | ... BM84: =BM23*BM$48 -> 1.0624081e+09
C85: SMS entrantes de otras redes | G85: mensajes | N85: =N24*N$48 -> 0 | O85: =O24*O$48 -> 0 | P85: =P24*P$48 -> 0 | Q85: =Q24*Q$48 -> 0 | R85: =R24*R$48 -> 4.6246756e+08 | S85: =S24*S$48 -> 1.2002335e+09 | T85: =T24*T$48 -> 2.853544e+09 | U85: =U24*U$48 -> 4.6162373e+09 | ... BM85: =BM24*BM$48 -> 1.0624081e+09
C86: Recuperación de correo de voz | G86: minutos | N86: =N25*N$48 -> 0 | O86: =O25*O$48 -> 0 | P86: =P25*P$48 -> 0 | Q86: =Q25*Q$48 -> 0 | R86: =R25*R$48 -> 65990023 | S86: =S25*S$48 -> 1.5204721e+08 | T86: =T25*T$48 -> 2.5885661e+08 | U86: =U25*U$48 -> 3.8303518e+08 | ... BM86: =BM25*BM$48 -> 9.9745958e+08
C87: Depósito de corroe de voz | G87: minutos | N87: =N26*N$48 -> 0 | O87: =O26*O$48 -> 0 | P87: =P26*P$48 -> 0 | Q87: =Q26*Q$48 -> 0 | R87: =R26*R$48 -> 79188027 | S87: =S26*S$48 -> 1.8245666e+08 | T87: =T26*T$48 -> 3.1062793e+08 | U87: =U26*U$48 -> 4.5964222e+08 | ... BM87: =BM26*BM$48 -> 1.1969515e+09
C88: Datos GPRS | G88: megabytes | N88: =N27*N$48 -> 0 | O88: =O27*O$48 -> 0 | P88: =P27*P$48 -> 0 | Q88: =Q27*Q$48 -> 0 | R88: =R27*R$48 -> 212403.87 | S88: =S27*S$48 -> 2626129.7 | T88: =T27*T$48 -> 9625703.6 | U88: =U27*U$48 -> 17867367 | ... BM88: =BM27*BM$48 -> 86245869
C89: Datos EDGE | G89: megabytes | N89: =N28*N$48 -> 0 | O89: =O28*O$48 -> 0 | P89: =P28*P$48 -> 0 | Q89: =Q28*Q$48 -> 0 | R89: =R28*R$48 -> 1380625.1 | S89: =S28*S$48 -> 14881402 | T89: =T28*T$48 -> 38502814 | U89: =U28*U$48 -> 71469468 | ... BM89: =BM28*BM$48 -> 1.7249174e+08
C90: Datos Release 99 | G90: megabytes | N90: =N29*N$48 -> 0 | O90: =O29*O$48 -> 0 | P90: =P29*P$48 -> 0 | Q90: =Q29*Q$48 -> 0 | R90: =R29*R$48 -> 3186058 | S90: =S29*S$48 -> 30638180 | T90: =T29*T$48 -> 1.2032129e+08 | U90: =U29*U$48 -> 2.680105e+08 | ... BM90: =BM29*BM$48 -> 7.7621282e+08
C91: Datos - HSDPA | G91: megabytes | N91: =N30*N$48 -> 0 | O91: =O30*O$48 -> 0 | P91: =P30*P$48 -> 0 | Q91: =Q30*Q$48 -> 0 | R91: =R30*R$48 -> 520389.48 | S91: =S30*S$48 -> 37422349 | T91: =T30*T$48 -> 2.8596038e+08 | U91: =U30*U$48 -> 1.2674853e+09 | ... BM91: =BM30*BM$48 -> 1.3777512e+11
C92: Datos - HSUPA | G92: megabytes | N92: =N31*N$48 -> 0 | O92: =O31*O$48 -> 0 | P92: =P31*P$48 -> 0 | Q92: =Q31*Q$48 -> 0 | R92: =R31*R$48 -> 10620.193 | S92: =S31*S$48 -> 1969597.3 | T92: =T31*T$48 -> 26874991 | U92: =U31*U$48 -> 1.6190402e+08 | ... BM92: =BM31*BM$48 -> 3.3681669e+10
... C103: Mobile Service30 | G103: Mobile Unit30 | N103: =N42*N$48 -> 0 | O103: =O42*O$48 -> 0 | P103: =P42*P$48 -> 0 | Q103: =Q42*Q$48 -> 0 | R103: =R42*R$48 -> 0 | S103: =S42*S$48 -> 0 | T103: =T42*T$48 -> 0 | U103: =U42*U$48 -> 0 | ... BM103: =BM42*BM$48 -> 0
